{"text_format":"1","workbook":"xlsx","n_sheets":6,"sheets":["Zał.1_WPF_bazowy","rysunki","WPF_AnalizaWsk_ProjektowanieJST","definicja","DaneZrodlowe","DaneZrodloweDoWsk"],"not_rendered":{"charts":16,"images":0,"macros":1,"external_links":0,"defined_names":14,"comments":0,"pivot_tables":0},"unopened":[],"bounds":{"document_bytes":16777216,"sheet_cells":100000,"rows_first":2000,"rows_last":500,"rows_between":2000,"halvings":0,"cell_chars":16384,"cell_head_chars":4096},"cells_cut":0,"cells_raw":0,"read":"whole","date_system":"1900"}

{"sheet":"Zał.1_WPF_bazowy","index":0,"n_rows":330,"n_cols":12,"rows_kept":330,"cut":false,"hidden":false,"merged":[[7,4,7,5]]}
[null,"Zestawienie wygenerowane na podstawie danych wprowadzonych do systemu BESTI@",null,null,null,null,null,null,"Układ WPF wg Rozporządzenia Ministra Finansów z dnia 10.01.2013 (Dz.U. z 2013 r., poz. 86)"]
[null,"Poniższej tabeli WPF nie należy modyfikować. "]
[null,"Do szacowania i analiz służy arkusz \"WPF_AnalizaWsk_Projektowanie\""]
[null,"Nr Uchwały:",null,{"$f":"DaneZrodlowe!B4","v":"1"}]
[null,"Nazwa JST:",null,{"$f":"DaneZrodlowe!C4","v":"KRZYŻANÓW"}]
[null,"WPF za lata:",null,{"$f":"CONCATENATE(DaneZrodlowe!N1,\" - \",DaneZrodlowe!Q1)","v":"2014 - 2017"}]
[]
[null,null,null,null,"Wykonanie ",null,"Plan 3 kw.","Wykonanie ",{"$f":"\"\"","v":""}]
["X","Lp.",null,"Wyszczególnienie",{"$f":"+F9-1","v":2011},{"$f":"+G9-1","v":2012},{"$f":"+H9","v":2013},{"$f":"+I9-1","v":2013},{"$f":"+DaneZrodlowe!$N$1","v":2014},{"$f":"+I9+1","v":2015},{"$f":"+J9+1","v":2016},{"$f":"+K9+1","v":2017}]
["x",1,"Dochody ogółem","Dochody ogółem",{"$f":"11735693.56","v":11735693.560000001},{"$f":"14062028.15","v":14062028.15},{"$f":"13471394.42","v":13471394.42},{"$f":"12678694","v":12678694},{"$f":"13601645","v":13601645},{"$f":"10825000","v":10825000},{"$f":"12050000","v":12050000},{"$f":"12170000","v":12170000}]
["x","1.1","Dochody bieżące","Dochody bieżące, w tym:",{"$f":"10187163.27","v":10187163.27},{"$f":"12660364.54","v":12660364.539999999},{"$f":"12464064.42","v":12464064.42},{"$f":"11995164","v":11995164},{"$f":"11221741","v":11221741},{"$f":"10825000","v":10825000},{"$f":"12050000","v":12050000},{"$f":"12170000","v":12170000}]
[null,"1.1.1","dochody z tytułu udziału we wpływach z podatku dochodowego od osób fizycznych","dochody z tytułu udziału we wpływach z podatku dochodowego od osób fizycznych",{"$f":"976091","v":976091},{"$f":"1398132","v":1398132},{"$f":"1443005","v":1443005},{"$f":"1443005","v":1443005},{"$f":"1335088","v":1335088},{"$f":"1335088","v":1335088},{"$f":"1335088","v":1335088},{"$f":"1335088","v":1335088}]
[null,"1.1.2","dochody z tytułu udziału we wpływach z podatku dochodowego od osób prawnych","dochody z tytułu udziału we wpływach z podatku dochodowego od osób prawnych",{"$f":"7359.96","v":7359.96},{"$f":"873.76","v":873.76},{"$f":"1000","v":1000},{"$f":"1000","v":1000},{"$f":"1000","v":1000},{"$f":"1000","v":1000},{"$f":"1000","v":1000},{"$f":"1000","v":1000}]
[null,"1.1.3","podatki i opłaty, w tym:","podatki i opłaty, w tym:",{"$f":"3093016.26","v":3093016.26},{"$f":"4719070.97","v":4719070.97},{"$f":"3848642.4","v":3848642.4},{"$f":"3379742","v":3379742},{"$f":"4152101","v":4152101},{"$f":"4194000","v":4194000},{"$f":"5356000","v":5356000},{"$f":"5410000","v":5410000}]
[null,"1.1.3.1","z podatku od nieruchomości","z podatku od nieruchomości",{"$f":"849319.19","v":849319.19},{"$f":"1608877.11","v":1608877.11},{"$f":"1644617.4","v":1644617.4},{"$f":"1644617.4","v":1644617.4},{"$f":"1657389","v":1657389},{"$f":"1674000","v":1674000},{"$f":"2811000","v":2811000},{"$f":"2839000","v":2839000}]
[null,"1.1.4","z subwencji ogólnej","z subwencji ogólnej",{"$f":"4037554","v":4037554},{"$f":"4481337","v":4481337},{"$f":"4504728","v":4504728},{"$f":"4504728","v":4504728},{"$f":"3294922","v":3294922},{"$f":"3294922","v":3294922},{"$f":"3294922","v":3294922},{"$f":"3294922","v":3294922}]
[null,"1.1.5","z tytułu dotacji i środków przeznaczonych na cele bieżące","z tytułu dotacji i środków przeznaczonych na cele bieżące",{"$f":"2073142.05","v":2073142.05},{"$f":"2060950.81","v":2060950.81},{"$f":"1980030.02","v":1980030.02},{"$f":"1980030.02","v":1980030.02},{"$f":"1350903","v":1350903},{"$f":"1350903","v":1350903},{"$f":"1350903","v":1350903},{"$f":"1350903","v":1350903}]
["x","1.2","Dochody majątkowe","Dochody majątkowe, w tym:",{"$f":"1548530.29","v":1548530.29},{"$f":"1401663.61","v":1401663.61},{"$f":"1007330","v":1007330},{"$f":"683530","v":683530},{"$f":"2379904","v":2379904},{"$f":"0","v":0},{"$f":"0","v":0},{"$f":"0","v":0}]
["x","1.2.1","Dochody ze sprzedaży majątku","ze sprzedaży majątku",{"$f":"140492.99","v":140492.99},{"$f":"69038.91","v":69038.91},{"$f":"330000","v":330000},{"$f":"6200","v":6200},{"$f":"200000","v":200000},{"$f":"0","v":0},{"$f":"0","v":0},{"$f":"0","v":0}]
[null,"1.2.2","z tytułu dotacji oraz środków przeznaczonych na inwestycje","z tytułu dotacji oraz środków przeznaczonych na inwestycje",{"$f":"1405937.3","v":1405937.3},{"$f":"1332324.7","v":1332324.7},{"$f":"664102","v":664102},{"$f":"664102","v":664102},{"$f":"2179904","v":2179904},{"$f":"0","v":0},{"$f":"0","v":0},{"$f":"0","v":0}]
["x",2,"Wydatki ogółem","Wydatki ogółem",{"$f":"12835915.98","v":12835915.98},{"$f":"11481546.43","v":11481546.43},{"$f":"14584700.7","v":14584700.699999999},{"$f":"14401220","v":14401220},{"$f":"12827688.81","v":12827688.810000001},{"$f":"10825000","v":10825000},{"$f":"12050000","v":12050000},{"$f":"12170000","v":12170000}]
["x","2.1","Wydatki bieżące","Wydatki bieżące, w tym:",{"$f":"9211865.66","v":9211865.6600000001},{"$f":"9055670.43","v":9055670.4299999997},{"$f":"9959324.7","v":9959324.6999999993},{"$f":"9775844","v":9775844},{"$f":"8917188.81","v":8917188.8100000005},{"$f":"9140000","v":9140000},{"$f":"9368000","v":9368000},{"$f":"9600000","v":9600000}]
["x","2.1.1","z tytułu poręczeń i gwarancji","z tytułu poręczeń i gwarancji, w tym:",{"$f":"0","v":0},{"$f":"0","v":0},{"$f":"0","v":0},{"$f":"0","v":0},{"$f":"0","v":0},{"$f":"0","v":0},{"$f":"0","v":0},{"$f":"0","v":0}]
["x","2.1.1.1","gwarancje i poręczenia podlegające wyłączeniu z limitów spłaty zobowiązań określonych w art. 243 ust. 3 pkt 2 ustawy z dnia 27 sierpnia 2009 r. o finansach publicznych (Dz. U. Nr 157, poz. 1240, z późn. zm.) lub art. 169 ust. 3 pkt 2 ustawy z dnia 30 czerwca 2005 r. o finansach publicznych (Dz. U. Nr 249, poz. 2104, z późn. zm)","gwarancje i poręczenia podlegające wyłączeniu z limitów spłaty zobowiązań określonych w art. 243 ust. 3 pkt 2 ustawy z dnia 27 sierpnia 2009 r. o finansach publicznych (Dz. U. Nr 157, poz. 1240, z późn. zm.) lub art. 169 ust. 3 pkt 2 ustawy z dnia 30 czerwca 2005 r. o finansach publicznych (Dz. U. Nr 249, poz. 2104, z późn. zm)",{"$f":"0","v":0},{"$f":"0","v":0},{"$f":"0","v":0},{"$f":"0","v":0},{"$f":"0","v":0},{"$f":"0","v":0},{"$f":"0","v":0},{"$f":"0","v":0}]
[null,"2.1.2","na spłatę przejętych zobowiązań samodzielnego publicznego zakładu opieki zdrowotnej przekształconego na zasadach określonych w przepisach o działalności leczniczej, w wysokości w jakiej nie podlegają sfinansowaniu dotacją z budżetu państwa)","na spłatę przejętych zobowiązań samodzielnego publicznego zakładu opieki zdrowotnej przekształconego na zasadach określonych w przepisach o działalności leczniczej, w wysokości w jakiej nie podlegają sfinansowaniu dotacją z budżetu państwa)","x","x","x","x",{"$f":"0","v":0},{"$f":"0","v":0},{"$f":"0","v":0},{"$f":"0","v":0}]
["x","2.1.3","Wydatki na obsługę długu","wydatki na obsługę długu, w tym:",{"$f":"41411.77","v":41411.769999999997},{"$f":"84758.58","v":84758.58},{"$f":"95000","v":95000},{"$f":"35000","v":35000},{"$f":"20000","v":20000},{"$f":"0","v":0},{"$f":"0","v":0},{"$f":"0","v":0}]
["x","2.1.3.1","odsetki i dyskonto określone w art. 243 ust. 1 ustawy lub art. 169 ust. 1 ufp z 2005 r..","odsetki i dyskonto określone w art. 243 ust. 1 ustawy lub art. 169 ust. 1 ufp z 2005 r..",{"$f":"38272.47","v":38272.47},{"$f":"83194.59","v":83194.59},{"$f":"95000","v":95000},{"$f":"35000","v":35000},{"$f":"20000","v":20000},{"$f":"0","v":0},{"$f":"0","v":0},{"$f":"0","v":0}]
["x","2.2","Wydatki majątkowe","Wydatki majątkowe",{"$f":"3624050.32","v":3624050.32},{"$f":"2425876","v":2425876},{"$f":"4625376","v":4625376},{"$f":"4625376","v":4625376},{"$f":"3910500","v":3910500},{"$f":"1685000","v":1685000},{"$f":"2682000","v":2682000},{"$f":"2570000","v":2570000}]
["x",3,"Wynik budżetu","Wynik budżetu",{"$f":"-1100222.42","v":-1100222.42},{"$f":"2580481.72","v":2580481.7200000002},{"$f":"-1113306.28","v":-1113306.28},{"$f":"-1722526","v":-1722526},{"$f":"773956.19","v":773956.19},{"$f":"0","v":0},{"$f":"0","v":0},{"$f":"0","v":0}]
["x",4,"Przychody budżetu","Przychody budżetu",{"$f":"2625223.85","v":2625223.85},{"$f":"1050519.37","v":1050519.3700000001},{"$f":"1850827.74","v":1850827.74},{"$f":"2460047.46","v":2460047.46},{"$f":"0","v":0},{"$f":"0","v":0},{"$f":"0","v":0},{"$f":"0","v":0}]
["x","4.1","Nadwyżka budżetowa z lat ubiegłych, w tym:","Nadwyżka budżetowa z lat ubiegłych, w tym:",{"$f":"0","v":0},{"$f":"0","v":0},{"$f":"314668.09","v":314668.09000000003},{"$f":"923887.81","v":923887.81},{"$f":"0","v":0},{"$f":"0","v":0},{"$f":"0","v":0},{"$f":"0","v":0}]
["x","4.1.1","na pokrycie deficytu budżetu","na pokrycie deficytu budżetu",{"$f":"0","v":0},{"$f":"0","v":0},{"$f":"0","v":0},{"$f":"211048.35","v":211048.35},{"$f":"0","v":0},{"$f":"0","v":0},{"$f":"0","v":0},{"$f":"0","v":0}]
["x","4.2","Wolne środki, o których mowa w art. 217 ust.2 pkt 6 ustawy, w tym:","Wolne środki, o których mowa w art. 217 ust.2 pkt 6 ustawy, w tym:",{"$f":"186016.39","v":186016.39},{"$f":"902519.37","v":902519.37},{"$f":"1422477.65","v":1422477.65},{"$f":"1422477.65","v":1422477.65},{"$f":"0","v":0},{"$f":"0","v":0},{"$f":"0","v":0},{"$f":"0","v":0}]
["x","4.2.1","na pokrycie deficytu budżetu","na pokrycie deficytu budżetu",{"$f":"0","v":0},{"$f":"0","v":0},{"$f":"1024306.28","v":1024306.28},{"$f":"1422477.65","v":1422477.65},{"$f":"0","v":0},{"$f":"0","v":0},{"$f":"0","v":0},{"$f":"0","v":0}]
["x","4.3","Kredyty, pożyczki, emisja papierów wartościowych, w tym:","Kredyty, pożyczki, emisja papierów wartościowych, w tym:",{"$f":"2417813.74","v":2417813.7400000002},{"$f":"148000","v":148000},{"$f":"89000","v":89000},{"$f":"89000","v":89000},{"$f":"0","v":0},{"$f":"0","v":0},{"$f":"0","v":0},{"$f":"0","v":0}]
["x","4.3.1","na pokrycie deficytu budżetu","na pokrycie deficytu budżetu",{"$f":"1100222.42","v":1100222.42},{"$f":"0","v":0},{"$f":"89000","v":89000},{"$f":"89000","v":89000},{"$f":"0","v":0},{"$f":"0","v":0},{"$f":"0","v":0},{"$f":"0","v":0}]
["x","4.4","Inne przychody niezwiązane z zaciągnięciem długu, w tym:","Inne przychody niezwiązane z zaciągnięciem długu, w tym:",{"$f":"21393.72","v":21393.72},{"$f":"0","v":0},{"$f":"24682","v":24682},{"$f":"24682","v":24682},{"$f":"0","v":0},{"$f":"0","v":0},{"$f":"0","v":0},{"$f":"0","v":0}]
["x","4.4.1","na pokrycie deficytu budżetu","na pokrycie deficytu budżetu",{"$f":"0","v":0},{"$f":"0","v":0},{"$f":"0","v":0},{"$f":"0","v":0},{"$f":"0","v":0},{"$f":"0","v":0},{"$f":"0","v":0},{"$f":"0","v":0}]
["x",5,"Rozchody budżetu","Rozchody budżetu",{"$f":"601088.34","v":601088.34},{"$f":"1303202.75","v":1303202.75},{"$f":"737521.46","v":737521.46},{"$f":"737521.46","v":737521.46},{"$f":"773956.19","v":773956.19},{"$f":"0","v":0},{"$f":"0","v":0},{"$f":"0","v":0}]
["x","5.1","Spłaty rat kapitałowych kredytów i pożyczek oraz wykup papierów wartościowych","Spłaty rat kapitałowych kredytów i pożyczek oraz wykup papierów wartościowych, w tym:",{"$f":"601088.34","v":601088.34},{"$f":"1278520.75","v":1278520.75},{"$f":"737521.46","v":737521.46},{"$f":"737521.46","v":737521.46},{"$f":"773956.19","v":773956.19},{"$f":"0","v":0},{"$f":"0","v":0},{"$f":"0","v":0}]
["x","5.1.1","łączna kwota przypadających na dany rok kwot wyłączeń określonych w: art. 243 ust. 3 pkt 1 ustawy (lub art. 169 ust. 3 pkt 1 ufp z 2005 r.), art. 121a ustawy z dnia 27 sierpnia 2009 r. – Przepisy wprowadzające ustawę o finansach publicznych (Dz. U. Nr 157, poz. 1241, z późn. zm.) oraz art. 36 ustawy z dnia 7 grudnia 2012 r. o zmianie niektórych ustaw związanych z realizacją ustawy budżetowej (Dz.U. poz. 1456), w tym:","łączna kwota przypadających na dany rok kwot wyłączeń określonych w: art. 243 ust. 3 pkt 1 ustawy (lub art. 169 ust. 3 pkt 1 ufp z 2005 r.), art. 121a ustawy z dnia 27 sierpnia 2009 r. – Przepisy wprowadzające ustawę o finansach publicznych (Dz. U. Nr 157, poz. 1241, z późn. zm.) oraz art. 36 ustawy z dnia 7 grudnia 2012 r. o zmianie niektórych ustaw związanych z realizacją ustawy budżetowej (Dz.U. poz. 1456), w tym:",{"$f":"552822","v":552822},{"$f":"595645.15","v":595645.15},{"$f":"0","v":0},{"$f":"0","v":0},{"$f":"0","v":0},{"$f":"0","v":0},{"$f":"0","v":0},{"$f":"0","v":0}]
["x","5.1.1.1","kwota przypadających na dany rok kwot wyłączeń określonych w art. 243 ust. 3 pkt 1 ustawy lub art. 169 ust. 3 pkt 1 ufp z 2005 r.","kwota przypadających na dany rok kwot wyłączeń określonych w art. 243 ust. 3 pkt 1 ustawy lub art. 169 ust. 3 pkt 1 ufp z 2005 r.",{"$f":"552822","v":552822},{"$f":"595645.15","v":595645.15},{"$f":"0","v":0},{"$f":"0","v":0},{"$f":"0","v":0},{"$f":"0","v":0},{"$f":"0","v":0},{"$f":"0","v":0}]
[null,"5.2","Inne rozchody niezwiązane ze spłatą długu","Inne rozchody niezwiązane ze spłatą długu",{"$f":"0","v":0},{"$f":"24682","v":24682},{"$f":"0","v":0},{"$f":"0","v":0},{"$f":"0","v":0},{"$f":"0","v":0},{"$f":"0","v":0},{"$f":"0","v":0}]
["x",6,"Kwota długu","Kwota długu",{"$f":"2552998.4","v":2552998.4},{"$f":"1422477.65","v":1422477.65},{"$f":"773956.19","v":773956.19},{"$f":"773956.19","v":773956.19},{"$f":"0","v":0},{"$f":"0","v":0},{"$f":"0","v":0},{"$f":"0","v":0}]
[null,"6.1","Łączna kwota wyłączeń z ograniczeń długu określonych w art. 170 ust. 3 ufp z 2005 r. oraz w art. 36 ustawy o zmianie niektórych ustaw związanych z realizacją ustawy budżetowej, w tym: ","Łączna kwota wyłączeń z ograniczeń długu określonych w art. 170 ust. 3 ufp z 2005 r. oraz w art. 36 ustawy o zmianie niektórych ustaw związanych z realizacją ustawy budżetowej, w tym: ",{"$f":"0","v":0},{"$f":"0","v":0},{"$f":"0","v":0},{"$f":"0","v":0},{"$f":"0","v":0},{"$f":"0","v":0},{"$f":"0","v":0},{"$f":"0","v":0}]
[null,"6.1.1","kwota wyłączeń z ograniczeń długu określonych w art. 170 ust. 3 ufp z 2005 r. ","kwota wyłączeń z ograniczeń długu określonych w art. 170 ust. 3 ufp z 2005 r. ",{"$f":"595645.15","v":595645.15},{"$f":"0","v":0},{"$f":"0","v":0},{"$f":"0","v":0},{"$f":"0","v":0},{"$f":"0","v":0},{"$f":"0","v":0},{"$f":"0","v":0}]
[null,"6.2","Wskaźnik z art. 170 ufp z 2005 r., bez uwzględniania wyłączeń","Wskaźnik zadłużenia do dochodów ogółem określony w art. 170 ufp z 2005 r., bez uwzględniania wyłączeń określonych w pkt 6.1.",{"$f":"0.2175","v":0.2175},{"$f":"0.1012","v":0.1012},{"$f":"0.0575","v":5.7500000000000002E-2},{"$f":"0.061","v":6.0999999999999999E-2},{"$f":"0","v":0},{"$f":"0","v":0},{"$f":"0","v":0},{"$f":"0","v":0}]
[null,"6.3","Wskaźnik z art. 170 ufp z 2005 r. po uwzględnieniu wyłączeń","Wskaźnik zadłużenia do dochodów ogółem, o którym mowa w art. 170 ufp z 2005 r., po uwzględnieniu wyłączeń określonych w pkt 6.1. ",{"$f":"0.2175","v":0.2175},{"$f":"0.1012","v":0.1012},{"$f":"0.0575","v":5.7500000000000002E-2},{"$f":"0.061","v":6.0999999999999999E-2},{"$f":"0","v":0},{"$f":"0","v":0},{"$f":"0","v":0},{"$f":"0","v":0}]
[null,7,"Kwota zobowiązań wynikających z przejęcia przez jednostkę samorządu terytorialnego zobowiązań po likwidowanych i przekształcanych jednostkach zaliczanych do sektora finansów publicznych","Kwota zobowiązań wynikających z przejęcia przez jednostkę samorządu terytorialnego zobowiązań po likwidowanych i przekształcanych jednostkach zaliczanych do sektora finansów publicznych",{"$f":"0","v":0},{"$f":"0","v":0},{"$f":"0","v":0},{"$f":"0","v":0},{"$f":"0","v":0},{"$f":"0","v":0},{"$f":"0","v":0},{"$f":"0","v":0}]
[null,8,"Relacja zrównoważenia wydatków bieżących, o której mowa w art. 242 ustawy","Relacja zrównoważenia wydatków bieżących, o której mowa w art. 242 ustawy","x","x","x","x","x","x","x","x"]
[null,"8.1","Różnica między dochodami bieżącymi a wydatkami bieżącymi","Różnica między dochodami bieżącymi a wydatkami bieżącymi",{"$f":"975297.61","v":975297.61},{"$f":"3604694.11","v":3604694.11},{"$f":"2504739.72","v":2504739.7200000002},{"$f":"2219320","v":2219320},{"$f":"2304552.19","v":2304552.19},{"$f":"1685000","v":1685000},{"$f":"2682000","v":2682000},{"$f":"2570000","v":2570000}]
[null,"8.2","Różnica między dochodami bieżącymi, powiększonymi o nadwyżkę budżetową określoną w pkt 4.1. i wolne środki określone w pkt 4.2. a wydatkami bieżącymi, pomniejszonym o wydatki określone w pkt 2.1.2.","Różnica między dochodami bieżącymi, powiększonymi o nadwyżkę budżetową określoną w pkt 4.1. i wolne środki określone w pkt 4.2. a wydatkami bieżącymi, pomniejszonym o wydatki określone w pkt 2.1.2.",{"$f":"1161314","v":1161314},{"$f":"4507213.48","v":4507213.4800000004},{"$f":"4241885.46","v":4241885.46},{"$f":"4565685.46","v":4565685.46},{"$f":"2304552.19","v":2304552.19},{"$f":"1685000","v":1685000},{"$f":"2682000","v":2682000},{"$f":"2570000","v":2570000}]
["x",9,"Wskaźnik spłaty zobowiązań","Wskaźnik spłaty zobowiązań","x","x","x","x","x","x","x","x"]
[null,"9.1","Wskaźnik z art. 169 ust. 1 ufp z 2005 r. bez uwzględnienia wyłączeń","Wskaźnik planowanej łącznej kwoty spłaty zobowiązań, o której mowa w art. 169 ust. 1 ufp z 2005 r. do dochodów ogółem, bez uwzględnienia wyłączeń określonych w pkt 5.1.1. ",{"$f":"0.0545","v":5.45E-2},{"$f":"0.0968","v":9.6799999999999997E-2},{"$f":"0.0618","v":6.1800000000000001E-2},{"$f":"0.0609","v":6.0900000000000003E-2},{"$f":"0.0584","v":5.8400000000000001E-2},{"$f":"0","v":0},{"$f":"0","v":0},{"$f":"0","v":0}]
[null,"9.2","Wskaźnik z art. 169 ust. 1 ufp z 2005 r. po uwzględnieniu wyłączeń","Wskaźnik planowanej łącznej kwoty spłaty zobowiązań, o której mowa w art. 169 ust. 1 ufp z 2005 r. do dochodów ogółem, po uwzględnieniu wyłączeń przypadających na dany rok określonych w pkt 5.1.1. ",{"$f":"0.0074","v":7.4000000000000003E-3},{"$f":"0.0545","v":5.45E-2},{"$f":"0.0618","v":6.1800000000000001E-2},{"$f":"0.0609","v":6.0900000000000003E-2},{"$f":"0.0584","v":5.8400000000000001E-2},{"$f":"0","v":0},{"$f":"0","v":0},{"$f":"0","v":0}]
["x","9.3","Relacja [R+O]/D , bez uwzględnienia zobowiązań związku JST i bez uwzględniania wyłączeń","Wskaźnik planowanej łącznej kwoty spłaty zobowiązań, o której mowa w art. 243 ust. 1 ustawy do dochodów ogółem, bez uwzględnienia zobowiązań związku współtworzonego przez jednostkę samorządu terytorialnego i bez uwzględniania wyłączeń przypadających na dany rok określonych w pkt 5.1.1.",{"$f":"0.0545","v":5.45E-2},{"$f":"0.0968","v":9.6799999999999997E-2},{"$f":"0.0618","v":6.1800000000000001E-2},{"$f":"0.0609","v":6.0900000000000003E-2},{"$f":"0.0584","v":5.8400000000000001E-2},{"$f":"0","v":0},{"$f":"0","v":0},{"$f":"0","v":0}]
["x","9.4","Wskaźnik planowanej łącznej kwoty spłaty zobowiązań, o której mowa w art. 243 ust. 1 ustawy do dochodów ogółem, bez uwzględnienia zobowiązań związku współtworzonego przez jednostkę samorządu terytorialnego, po uwzględnieniu wyłączeń przypadających na dany rok określonych w pkt 5.1.1. ","Wskaźnik planowanej łącznej kwoty spłaty zobowiązań, o której mowa w art. 243 ust. 1 ustawy do dochodów ogółem, bez uwzględnienia zobowiązań związku współtworzonego przez jednostkę samorządu terytorialnego, po uwzględnieniu wyłączeń przypadających na dany rok określonych w pkt 5.1.1. ",{"$f":"0.0074","v":7.4000000000000003E-3},{"$f":"0.0545","v":5.45E-2},{"$f":"0.0618","v":6.1800000000000001E-2},{"$f":"0.0609","v":6.0900000000000003E-2},{"$f":"0.0584","v":5.8400000000000001E-2},{"$f":"0","v":0},{"$f":"0","v":0},{"$f":"0","v":0}]
["x","9.5","Kwota zobowiązań związku współtworzonego przez jednostkę samorządu terytorialnego przypadających do spłaty w danym roku budżetowym, podlegająca doliczeniu zgodnie z art. 244 ustawy ","Kwota zobowiązań związku współtworzonego przez jednostkę samorządu terytorialnego przypadających do spłaty w danym roku budżetowym, podlegająca doliczeniu zgodnie z art. 244 ustawy ",{"$f":"0","v":0},{"$f":"0","v":0},{"$f":"0","v":0},{"$f":"0","v":0},{"$f":"0","v":0},{"$f":"0","v":0},{"$f":"0","v":0},{"$f":"0","v":0}]
["x","9.6","Relacja [R+O]/D , z uwzględnieniem zobowiązań związku JST i po uwzględnianiu wyłączeń","Wskaźnik planowanej łącznej kwoty spłaty zobowiązań, o której mowa w art. 243 ust. 1 ustawy do dochodów ogółem, po uwzględnieniu zobowiązań związku współtworzonego przez jednostkę samorządu terytorialnego oraz po uwzględnieniu wyłączeń przypadających na dany rok określonych w pkt 5.1.1.",{"$f":"0.0074","v":7.4000000000000003E-3},{"$f":"0.0545","v":5.45E-2},{"$f":"0.0618","v":6.1800000000000001E-2},{"$f":"0.0609","v":6.0900000000000003E-2},{"$f":"0.0584","v":5.8400000000000001E-2},{"$f":"0","v":0},{"$f":"0","v":0},{"$f":"0","v":0}]
["x","9.6.1","Wskaźnik jednoroczny (prawa strona wzoru z art. 243)","Wskaźnik jednoroczny (prawa strona wzoru z art. 243)",{"$f":"+IF(AND(E9>=2013,E9<=2018),IF(E10<>0,(E11+E19-E22+E25)/E10,0),IF(E10<>0,(E11+E19-E22)/E10,0))","v":9.5076664561442384E-2},{"$f":"+IF(AND(F9>=2013,F9<=2018),IF(F10<>0,(F11+F19-F22+F25)/F10,0),IF(F10<>0,(F11+F19-F22)/F10,0))","v":0.26125200296942935},{"$error":"#VALUE!"},{"$error":"#VALUE!"},0.18413597693514272,0.1556581986143187,0.22257261410788381,0.21117502054231718]
["x","9.7","Limit spłaty zobowiązań z art. 243 ustawy, po uwzględnieniu wyłączeń obliczony w oparciu o plan 3 kw. roku N-1","Dopuszczalny wskaźnik spłaty zobowiązań określony w art. 243 ustawy, po uwzględnieniu wyłączeń określonych w art. 36 ustawy z dnia 7 grudnia 2012 r. o zmianie niektórych ustaw związanych z realizacją ustawy budżetowej, obliczony w oparciu o plan 3 kwartałów roku poprzedzającego rok budżetowy","x","x","x","x",{"$f":"0.1889","v":0.18890000000000001},{"$f":"0.2186","v":0.21859999999999999},{"$f":"0.1834","v":0.18340000000000001},{"$f":"0.1875","v":0.1875}]
["x","9.7.1","Limit spłaty zobowiązań z art. 243 ustawy, po uwzględnieniu wyłączeń obliczony w oparciu o wykonanie 4 kw. roku N-1","Dopuszczalny wskaźnik spłaty zobowiązań określony w art. 243 ustawy, po uwzględnieniu wyłączeń określonych w art. 36 ustawy z dnia 7 grudnia 2012 r. o zmianie niektórych ustaw związanych z realizacją ustawy budżetowej, obliczony w oparciu o wykonanie roku poprzedzającego rok budżetowy","x","x","x","x",{"$f":"0.1773","v":0.17730000000000001},{"$f":"0.207","v":0.20699999999999999},{"$f":"0.1718","v":0.17180000000000001},{"$f":"0.1875","v":0.1875}]
["x","9.8","Informacja o spełnieniu wskaźnika spłaty zobowiązań określonego w art. 243 ustawy, po uwzględnieniu zobowiązań związku współtworzonego przez jednostkę samorządu terytorialnego oraz po uwzględnieniu wyłączeń określonych w pkt 5.1.1., obliczonego w oparciu o plan 3 kwartałów roku poprzedzającego rok budżetowy","Informacja o spełnieniu wskaźnika spłaty zobowiązań określonego w art. 243 ustawy, po uwzględnieniu zobowiązań związku współtworzonego przez jednostkę samorządu terytorialnego oraz po uwzględnieniu wyłączeń określonych w pkt 5.1.1., obliczonego w oparciu o plan 3 kwartałów roku poprzedzającego rok budżetowy","x","x","x","x",{"$f":"IF(I59<=I61,\"Spełniona\",\"Nie spełniona\")","v":"Spełniona"},{"$f":"IF(J59<=J61,\"Spełniona\",\"Nie spełniona\")","v":"Spełniona"},{"$f":"IF(K59<=K61,\"Spełniona\",\"Nie spełniona\")","v":"Spełniona"},{"$f":"IF(L59<=L61,\"Spełniona\",\"Nie spełniona\")","v":"Spełniona"}]
["x","9.8.1","Informacja o spełnieniu wskaźnika spłaty zobowiązań określonego w art. 243 ustawy, po uwzględnieniu zobowiązań związku współtworzonego przez jednostkę samorządu terytorialnego oraz po uwzględnieniu wyłączeń określonych w pkt 5.1.1., obliczonego w oparciu o wykonanie roku poprzedzającego rok budżetowy","Informacja o spełnieniu wskaźnika spłaty zobowiązań określonego w art. 243 ustawy, po uwzględnieniu zobowiązań związku współtworzonego przez jednostkę samorządu terytorialnego oraz po uwzględnieniu wyłączeń określonych w pkt 5.1.1., obliczonego w oparciu o wykonanie roku poprzedzającego rok budżetowy","x","x","x","x",{"$f":"IF(I59<=I62,\"Spełniona\",\"Nie spełniona\")","v":"Spełniona"},{"$f":"IF(J59<=J62,\"Spełniona\",\"Nie spełniona\")","v":"Spełniona"},{"$f":"IF(K59<=K62,\"Spełniona\",\"Nie spełniona\")","v":"Spełniona"},{"$f":"IF(L59<=L62,\"Spełniona\",\"Nie spełniona\")","v":"Spełniona"}]
[null,10,"Przeznaczenie prognozowanej nadwyżki budżetowej, w tym na:","Przeznaczenie prognozowanej nadwyżki budżetowej, w tym na:",{"$f":"0","v":0},{"$f":"0","v":0},{"$f":"0","v":0},{"$f":"0","v":0},{"$f":"773956.19","v":773956.19},{"$f":"0","v":0},{"$f":"0","v":0},{"$f":"0","v":0}]
[null,"10.1","Spłaty kredytów, pożyczek i wykup papierów wartościowych","Spłaty kredytów, pożyczek i wykup papierów wartościowych",{"$f":"0","v":0},{"$f":"0","v":0},{"$f":"0","v":0},{"$f":"0","v":0},{"$f":"773956.19","v":773956.19},{"$f":"0","v":0},{"$f":"0","v":0},{"$f":"0","v":0}]
[null,11,"Informacje uzupełniające o wybranych rodzajach wydatków budżetowych","Informacje uzupełniające o wybranych rodzajach wydatków budżetowych","x","x","x","x","x","x","x","x"]
[null,"11.1","Wydatki na wynagrodzenia i składki od nich naliczane","Wydatki bieżące na wynagrodzenia i składki od nich naliczane",{"$f":"4441226.62","v":4441226.62},{"$f":"4171528.09","v":4171528.09},{"$f":"4406547.84","v":4406547.84},{"$f":"4236547","v":4236547},{"$f":"4167113","v":4167113},{"$f":"4271290","v":4271290},{"$f":"4378000","v":4378000},{"$f":"4487450","v":4487450}]
[null,"11.2","Wydatki związane z funkcjonowaniem organów JST","Wydatki związane z funkcjonowaniem organów jednostki samorządu terytorialnego",{"$f":"1397090.95","v":1397090.95},{"$f":"1438877.18","v":1438877.18},{"$f":"1491519","v":1491519},{"$f":"1491519","v":1491519},1487583,{"$f":"1509400","v":1509400},{"$f":"1547135","v":1547135},{"$f":"1585800","v":1585800}]
[null,"11.3","Wydatki objęte limitem art. 226 ust. 3 ustawy, z tego:","Wydatki objęte limitem art. 226 ust. 3 ustawy, z tego:",{"$f":"1480853.69","v":1480853.69},{"$f":"718974.51","v":718974.51},{"$f":"3546636.65","v":3546636.65},{"$f":"3546636.65","v":3546636.65},30300,784700,{"$f":"0","v":0},{"$f":"0","v":0}]
[null,"11.3.1","Wydatki bieżące objęte limitem art. 226 ust. 3","bieżące",{"$f":"123162.52","v":123162.52},{"$f":"156869.11","v":156869.10999999999},{"$f":"145119.65","v":145119.65},{"$f":"145119.65","v":145119.65},{"$f":"0","v":0},{"$f":"0","v":0},{"$f":"0","v":0},{"$f":"0","v":0}]
[null,"11.3.2","Wydatki majątkowe objęte limitem art. 226 ust. 3","majątkowe",{"$f":"1357691.17","v":1357691.17},{"$f":"562105.4","v":562105.4},{"$f":"3401517","v":3401517},{"$f":"3401517","v":3401517},30300,784700,{"$f":"0","v":0},{"$f":"0","v":0}]
[null,"11.4","Wydatki inwestycyjne kontynuowane ","Wydatki inwestycyjne kontynuowane ",{"$f":"1173514.32","v":1173514.32},{"$f":"835040.96","v":835040.96},{"$f":"3401517","v":3401517},{"$f":"3401517","v":3401517},{"$f":"0","v":0},784700,{"$f":"0","v":0},{"$f":"0","v":0}]
[null,"11.5","Nowe wydatki inwestycyjne","Nowe wydatki inwestycyjne",{"$f":"2450536","v":2450536},{"$f":"1590835.04","v":1590835.04},{"$f":"1184859","v":1184859},{"$f":"1184859","v":1184859},{"$f":"3910500","v":3910500},900300,{"$f":"2682000","v":2682000},{"$f":"2570000","v":2570000}]
[null,"11.6","Wydatki majątkowe w formie dotacji ","Wydatki majątkowe w formie dotacji ",{"$f":"0","v":0},{"$f":"0","v":0},{"$f":"39000","v":39000},{"$f":"39000","v":39000},{"$f":"0","v":0},{"$f":"0","v":0},{"$f":"0","v":0},{"$f":"0","v":0}]
[null,12,"Finansowanie programów, projektów lub zadań realizowanych z udziałem środków, o których mowa w art. 5 ust. 1 pkt 2 i 3 ustawy","Finansowanie programów, projektów lub zadań realizowanych z udziałem środków, o których mowa w art. 5 ust. 1 pkt 2 i 3 ustawy","x","x","x","x","x","x","x","x"]
[null,"12.1","Dochody bieżące na programy, projekty lub zadania finansowane z udziałem środków, o których mowa w art. 5 ust. 1 pkt 2 i 3 ustawy, w tym:","Dochody bieżące na programy, projekty lub zadania finansowane z udziałem środków, o których mowa w art. 5 ust. 1 pkt 2 i 3 ustawy, w tym:",{"$f":"104205.75","v":104205.75},{"$f":"179911.06","v":179911.06},{"$f":"109888.97","v":109888.97},{"$f":"109888.97","v":109888.97},{"$f":"0","v":0},{"$f":"0","v":0},{"$f":"0","v":0},{"$f":"0","v":0}]
[null,"12.1.1","środki określone w art. 5 ust. 1 pkt 2 ustawy, w tym:","środki określone w art. 5 ust. 1 pkt 2 ustawy, w tym:",{"$f":"104205.75","v":104205.75},{"$f":"160689","v":160689},{"$f":"96205.25","v":96205.25},{"$f":"96205.25","v":96205.25},{"$f":"0","v":0},{"$f":"0","v":0},{"$f":"0","v":0},{"$f":"0","v":0}]
[null,"12.1.1.1","środki określone w art. 5 ust. 1 pkt 2 ustawy wynikające wyłącznie z zawartych umów na realizację programu, projektu lub zadania","środki określone w art. 5 ust. 1 pkt 2 ustawy wynikające wyłącznie z zawartych umów na realizację programu, projektu lub zadania",{"$f":"0","v":0},{"$f":"0","v":0},{"$f":"96205.25","v":96205.25},{"$f":"96205.25","v":96205.25},{"$f":"0","v":0},{"$f":"0","v":0},{"$f":"0","v":0},{"$f":"0","v":0}]
[null,"12.2","Dochody majątkowe na programy, projekty lub zadania finansowane z udziałem środków, o których mowa w art. 5 ust. 1 pkt 2 i 3 ustawy, w tym:","Dochody majątkowe na programy, projekty lub zadania finansowane z udziałem środków, o których mowa w art. 5 ust. 1 pkt 2 i 3 ustawy, w tym:",{"$f":"1041937.3","v":1041937.3},{"$f":"1013324.7","v":1013324.7},{"$f":"421154","v":421154},{"$f":"421154","v":421154},2179404,{"$f":"0","v":0},{"$f":"0","v":0},{"$f":"0","v":0}]
[null,"12.2.1","środki określone w art. 5 ust. 1 pkt 2 ustawy, w tym:","środki określone w art. 5 ust. 1 pkt 2 ustawy, w tym:",{"$f":"1041937.3","v":1041937.3},{"$f":"826032","v":826032},{"$f":"232602","v":232602},{"$f":"232602","v":232602},{"$f":"2114404","v":2114404},{"$f":"0","v":0},{"$f":"0","v":0},{"$f":"0","v":0}]
[null,"12.2.1.1","środki określone w art. 5 ust. 1 pkt 2 ustawy wynikające wyłącznie z zawartych umów na realizację programu, projektu lub zadania","środki określone w art. 5 ust. 1 pkt 2 ustawy wynikające wyłącznie z zawartych umów na realizację programu, projektu lub zadania",{"$f":"0","v":0},{"$f":"0","v":0},{"$f":"232602","v":232602},{"$f":"232602","v":232602},{"$f":"0","v":0},{"$f":"0","v":0},{"$f":"0","v":0},{"$f":"0","v":0}]
[null,"12.3","Wydatki bieżące na programy, projekty lub zadania finansowane z udziałem środków, o których mowa w art. 5 ust. 1 pkt 2 i 3 ustawy","Wydatki bieżące na programy, projekty lub zadania finansowane z udziałem środków, o których mowa w art. 5 ust. 1 pkt 2 i 3 ustawy",{"$f":"123162.52","v":123162.52},{"$f":"156869.11","v":156869.10999999999},{"$f":"145119.65","v":145119.65},{"$f":"145119.65","v":145119.65},{"$f":"0","v":0},{"$f":"0","v":0},{"$f":"0","v":0},{"$f":"0","v":0}]
[null,"12.3.1","w tym finansowane środkami określonymi w art. 5 ust. 1 pkt 2 ustawy ","w tym finansowane środkami określonymi w art. 5 ust. 1 pkt 2 ustawy ",{"$f":"104205.63","v":104205.63},{"$f":"133542.58","v":133542.57999999999},{"$f":"123351.7","v":123351.7},{"$f":"123351.7","v":123351.7},{"$f":"0","v":0},{"$f":"0","v":0},{"$f":"0","v":0},{"$f":"0","v":0}]
[null,"12.3.2","Wydatki bieżące na realizację programu, projektu lub zadania wynikające wyłącznie z zawartych umów z podmiotem dysponującym środkami, o których mowa w art. 5 ust. 1 pkt 2 ustawy ","Wydatki bieżące na realizację programu, projektu lub zadania wynikające wyłącznie z zawartych umów z podmiotem dysponującym środkami, o których mowa w art. 5 ust. 1 pkt 2 ustawy ",{"$f":"0","v":0},{"$f":"0","v":0},{"$f":"145119.65","v":145119.65},{"$f":"145119.65","v":145119.65},{"$f":"0","v":0},{"$f":"0","v":0},{"$f":"0","v":0},{"$f":"0","v":0}]
[null,"12.4","Wydatki majątkowe na programy, projekty lub zadania finansowane z udziałem środków, o których mowa w art. 5 ust. 1 pkt 2 i 3 ustawy","Wydatki majątkowe na programy, projekty lub zadania finansowane z udziałem środków, o których mowa w art. 5 ust. 1 pkt 2 i 3 ustawy",{"$f":"650923.96","v":650923.96},{"$f":"562105.4","v":562105.4},{"$f":"3401517","v":3401517},{"$f":"3401517","v":3401517},{"$f":"0","v":0},{"$f":"0","v":0},{"$f":"0","v":0},{"$f":"0","v":0}]
[null,"12.4.1","w tym finansowane środkami określonymi w art. 5 ust. 1 pkt 2 ustawy","w tym finansowane środkami określonymi w art. 5 ust. 1 pkt 2 ustawy",{"$f":"650923.96","v":650923.96},{"$f":"220814.52","v":220814.52},{"$f":"3401517","v":3401517},{"$f":"3401517","v":3401517},{"$f":"0","v":0},{"$f":"0","v":0},{"$f":"0","v":0},{"$f":"0","v":0}]
[null,"12.4.2","Wydatki majątkowe na realizację programu, projektu lub zadania wynikające wyłącznie z zawartych umów z podmiotem dysponującym środkami, o których mowa w art. 5 ust. 1 pkt 2 ustawy ","Wydatki majątkowe na realizację programu, projektu lub zadania wynikające wyłącznie z zawartych umów z podmiotem dysponującym środkami, o których mowa w art. 5 ust. 1 pkt 2 ustawy ",{"$f":"0","v":0},{"$f":"0","v":0},{"$f":"1590835.04","v":1590835.04},{"$f":"1590835.04","v":1590835.04},{"$f":"0","v":0},{"$f":"0","v":0},{"$f":"0","v":0},{"$f":"0","v":0}]
[null,13,"Kwoty dotyczące przejęcia i spłaty zobowiązań po samodzielnych publicznych zakładach opieki zdrowotnej oraz pokrycia ujemnego wyniku ","Kwoty dotyczące przejęcia i spłaty zobowiązań po samodzielnych publicznych zakładach opieki zdrowotnej oraz pokrycia ujemnego wyniku ","x","x","x","x","x","x","x","x"]
[null,"13.1","Kwota zobowiązań wynikających z przejęcia przez jednostkę samorządu terytorialnego zobowiązań po likwidowanych i przekształcanych samodzielnych zakładach opieki zdrowotnej","Kwota zobowiązań wynikających z przejęcia przez jednostkę samorządu terytorialnego zobowiązań po likwidowanych i przekształcanych samodzielnych zakładach opieki zdrowotnej",{"$f":"0","v":0},{"$f":"0","v":0},{"$f":"0","v":0},{"$f":"0","v":0},{"$f":"0","v":0},{"$f":"0","v":0},{"$f":"0","v":0},{"$f":"0","v":0}]
[null,"13.2","Dochody budżetowe z tytułu dotacji celowej z budżetu państwa, o której mowa w art. 196 ustawy z dnia 15 kwietnia 2011 r. o działalności leczniczej (Dz.U. Nr 112, poz. 654, z późn. zm.)","Dochody budżetowe z tytułu dotacji celowej z budżetu państwa, o której mowa w art. 196 ustawy z dnia 15 kwietnia 2011 r. o działalności leczniczej (Dz.U. Nr 112, poz. 654, z późn. zm.)",{"$f":"0","v":0},{"$f":"0","v":0},{"$f":"0","v":0},{"$f":"0","v":0},{"$f":"0","v":0},{"$f":"0","v":0},{"$f":"0","v":0},{"$f":"0","v":0}]
[null,"13.3","Wysokość zobowiązań podlegających umorzeniu, o którym mowa w art. 190 ustawy o działalności leczniczej","Wysokość zobowiązań podlegających umorzeniu, o którym mowa w art. 190 ustawy o działalności leczniczej",{"$f":"0","v":0},{"$f":"0","v":0},{"$f":"0","v":0},{"$f":"0","v":0},{"$f":"0","v":0},{"$f":"0","v":0},{"$f":"0","v":0},{"$f":"0","v":0}]
[null,"13.4","Wydatki na spłatę przejętych zobowiązań samodzielnego publicznego zakładu opieki zdrowotnej przekształconego na zasadach określonych w przepisach o działalności leczniczej","Wydatki na spłatę przejętych zobowiązań samodzielnego publicznego zakładu opieki zdrowotnej przekształconego na zasadach określonych w przepisach o działalności leczniczej",{"$f":"0","v":0},{"$f":"0","v":0},{"$f":"0","v":0},{"$f":"0","v":0},{"$f":"0","v":0},{"$f":"0","v":0},{"$f":"0","v":0},{"$f":"0","v":0}]
[null,"13.5","Wydatki na spłatę przejętych zobowiązań samodzielnego publicznego zakładu opieki zdrowotnej likwidowanego na zasadach określonych w przepisach o działalności leczniczej","Wydatki na spłatę przejętych zobowiązań samodzielnego publicznego zakładu opieki zdrowotnej likwidowanego na zasadach określonych w przepisach o działalności leczniczej",{"$f":"0","v":0},{"$f":"0","v":0},{"$f":"0","v":0},{"$f":"0","v":0},{"$f":"0","v":0},{"$f":"0","v":0},{"$f":"0","v":0},{"$f":"0","v":0}]
[null,"13.6","Wydatki na spłatę zobowiązań samodzielnego publicznego zakładu opieki zdrowotnej przejętych do końca 2011 r. na podstawie przepisów o zakładach opieki zdrowotnej","Wydatki na spłatę zobowiązań samodzielnego publicznego zakładu opieki zdrowotnej przejętych do końca 2011 r. na podstawie przepisów o zakładach opieki zdrowotnej",{"$f":"0","v":0},{"$f":"0","v":0},{"$f":"0","v":0},{"$f":"0","v":0},{"$f":"0","v":0},{"$f":"0","v":0},{"$f":"0","v":0},{"$f":"0","v":0}]
[null,"13.7","Wydatki bieżące na pokrycie ujemnego wyniku finansowego samodzielnego publicznego zakładu opieki zdrowotnej","Wydatki bieżące na pokrycie ujemnego wyniku finansowego samodzielnego publicznego zakładu opieki zdrowotnej",{"$f":"0","v":0},{"$f":"0","v":0},{"$f":"0","v":0},{"$f":"0","v":0},{"$f":"0","v":0},{"$f":"0","v":0},{"$f":"0","v":0},{"$f":"0","v":0}]
["x",14,"Dane uzupełniające o długu i jego spłacie","Dane uzupełniające o długu i jego spłacie","x","x","x","x","x","x","x","x"]
["x","14.1","Spłaty rat kapitałowych oraz wykup papierów wartościowych, o których mowa w pkt. 5.1., wynikające wyłącznie z tytułu zobowiązań już zaciągniętych","Spłaty rat kapitałowych oraz wykup papierów wartościowych, o których mowa w pkt. 5.1., wynikające wyłącznie z tytułu zobowiązań już zaciągniętych",{"$f":"601088.34","v":601088.34},{"$f":"1278520.75","v":1278520.75},{"$f":"737521.46","v":737521.46},{"$f":"737521.46","v":737521.46},{"$f":"773956.19","v":773956.19},{"$f":"0","v":0},{"$f":"0","v":0},{"$f":"0","v":0}]
["x","14.2","Kwota długu, którego planowana spłata dokona się z wydatków budżetu","Kwota długu, którego planowana spłata dokona się z wydatków budżetu",{"$f":"0","v":0},{"$f":"0","v":0},{"$f":"0","v":0},{"$f":"0","v":0},{"$f":"0","v":0},{"$f":"0","v":0},{"$f":"0","v":0},{"$f":"0","v":0}]
["x","14.3","Wydatki zmniejszające dług, w tym:","Wydatki zmniejszające dług, w tym:",{"$f":"0","v":0},{"$f":"0","v":0},{"$f":"0","v":0},{"$f":"0","v":0},{"$f":"0","v":0},{"$f":"0","v":0},{"$f":"0","v":0},{"$f":"0","v":0}]
["x","14.3.1","spłata zobowiązań wymagalnych z lat poprzednich, innych niż w pkt 14.3.3","spłata zobowiązań wymagalnych z lat poprzednich, innych niż w pkt 14.3.3",{"$f":"0","v":0},{"$f":"0","v":0},{"$f":"0","v":0},{"$f":"0","v":0},{"$f":"0","v":0},{"$f":"0","v":0},{"$f":"0","v":0},{"$f":"0","v":0}]
["x","14.3.2","związane z umowami zaliczanymi do tytułów dłużnych wliczanych w państwowy dług publiczny","związane z umowami zaliczanymi do tytułów dłużnych wliczanych w państwowy dług publiczny",{"$f":"0","v":0},{"$f":"0","v":0},{"$f":"0","v":0},{"$f":"0","v":0},{"$f":"0","v":0},{"$f":"0","v":0},{"$f":"0","v":0},{"$f":"0","v":0}]
["x","14.3.3","wypłaty z tytułu wymagalnych poręczeń i gwarancji","wypłaty z tytułu wymagalnych poręczeń i gwarancji",{"$f":"0","v":0},{"$f":"0","v":0},{"$f":"0","v":0},{"$f":"0","v":0},{"$f":"0","v":0},{"$f":"0","v":0},{"$f":"0","v":0},{"$f":"0","v":0}]
["x","14.4","Wynik operacji niekasowych wpływających na kwotę długu (m.in. umorzenia, różnice kursowe)","Wynik operacji niekasowych wpływających na kwotę długu (m.in. umorzenia, różnice kursowe)",{"$f":"0","v":0},{"$f":"0","v":0},{"$f":"0","v":0},{"$f":"0","v":0},{"$f":"0","v":0},{"$f":"0","v":0},{"$f":"0","v":0},{"$f":"0","v":0}]
[]
[null,"UWAGA!"]
[null,"Do symulacji prognozy i obserwacji zmian wskaźników z art. 243, 169 i 170 na podstawie danych wprowadzanych ręcznie służy arkusz \"WPF_AnalizaWsk_Projektowanie\""]
[]
[]
[null,"Weryfikacja danych wykazanych w tabeli Wieloletnia Prognoza Finansowa"]
[null,null,null,"Reguła formalna"]
[null,null,null,"Reguła rachunkowa"]
[null,null,null,"Reguła logiczna"]
[null,null,null,"Reguły kontrolne"]
[null,"[1.1] + [4.1] + [4.2] >= ([2.1] - [2.1.2])",null,"Spełnienie wskaźnika z art. 242","x","x","x","x",{"$f":"IF(ROUND(I11+I31+I33,2)>=ROUND(I22-I25,2),\"TAK\",\"NIE\")","v":"TAK"},{"$f":"IF(ROUND(J11+J31+J33,2)>=ROUND(J22-J25,2),\"TAK\",\"NIE\")","v":"TAK"},{"$f":"IF(ROUND(K11+K31+K33,2)>=ROUND(K22-K25,2),\"TAK\",\"NIE\")","v":"TAK"},{"$f":"IF(ROUND(L11+L31+L33,2)>=ROUND(L22-L25,2),\"TAK\",\"NIE\")","v":"TAK"}]
[null,null,null,"Spełnienie wskaźnika z art. 169 suofp (bez wyłączeń)","x","x","x","x",{"$f":"IF(I54<=15%,\"TAK\",\"NIE\")","v":"TAK"},"x","x","x"]
[null,null,null,"Spełnienie wskaźnika z art. 169 suofp (z wyłączeniami)","x","x","x","x",{"$f":"IF(I55<=15%,\"TAK\",\"NIE\")","v":"TAK"},"x","x","x"]
[null,null,null,"Spełnienie wskaźnika z art. 170 suofp (bez wyłączeń)","x","x","x","x",{"$f":"IF(I47<=60%,\"TAK\",\"NIE\")","v":"TAK"},"x","x","x"]
[null,null,null,"Spełnienie wskaźnika z art. 170 suofp (z wyłączeniami)","x","x","x","x",{"$f":"IF(I48<=60%,\"TAK\",\"NIE\")","v":"TAK"},"x","x","x"]
[null,"[13.3] = 0 (dla lat 2014 i wyższych)",null,"Umorzenie zobowiązań, o którym mowa w art. 190 ustawy o działalności leczniczej nie wykracza poza ustawowy okres","x","x","x","x","x","x",{"$f":"IF(K92=0,\"TAK\",\"BŁĄD\")","v":"TAK"},{"$f":"IF(L92=0,\"TAK\",\"BŁĄD\")","v":"TAK"}]
[null,"[1] + [4] - [2] - [5] = 0",null,"Kontrola poprawności zbilansowania budżetu","x","x","x","x",{"$f":"IF(ROUND(I10+I30-I21-I39,2)=0,\"OK\",ROUND(I10+I30-I21-I39,2))","v":"OK"},{"$f":"IF(ROUND(J10+J30-J21-J39,2)=0,\"OK\",ROUND(J10+J30-J21-J39,2))","v":"OK"},{"$f":"IF(ROUND(K10+K30-K21-K39,2)=0,\"OK\",ROUND(K10+K30-K21-K39,2))","v":"OK"},{"$f":"IF(ROUND(L10+L30-L21-L39,2)=0,\"OK\",ROUND(L10+L30-L21-L39,2))","v":"OK"}]
[null,"[6]\"n\" = [6]\"n-1\" + [4.3]\"n\" - [5.1]\"n\" +  ([14.2]\"n\"-[14.2]\"n-1\") + [14.4]",null,"Kontrola poprawności wyliczenia kwoty długu","x","x","x","x",{"$f":"+IF(ROUND(H44+I35-I40+(I99-H99)+I104-I44,2)=0,\"OK\",ROUND(H44+I35-I40+(I99-H99)+I104-I44,2))","v":"OK"},{"$f":"+IF(ROUND(I44+J35-J40+(J99-I99)+J104-J44,2)=0,\"OK\",ROUND(I44+J35-J40+(J99-I99)+J104-J44,2))","v":"OK"},{"$f":"+IF(ROUND(J44+K35-K40+(K99-J99)+K104-K44,2)=0,\"OK\",ROUND(J44+K35-K40+(K99-J99)+K104-K44,2))","v":"OK"},{"$f":"+IF(ROUND(K44+L35-L40+(L99-K99)+L104-L44,2)=0,\"OK\",ROUND(K44+L35-L40+(L99-K99)+L104-L44,2))","v":"OK"}]
[null,"[14.2] \"n\" =  ( [14.2]  \"n-1\" -  [14.3] \"n\" ) ",null,"Analiza zmiany kwoty długu spłacanego wydatkami budżetu \n- wartości różne od zera wymagają objaśnienia \n   - wartości większe od zera wskazują na powstanie w roku prognozy nowego długu tego typu\n   - wartości mniejsze od zera co do zasady nie powinny wystąpić","x","x","x","x",{"$f":"+IF(H99=0,\"N/D\",IF(ROUND(I99+I100-H99,2)=0,\"OK\",ROUND(I99+I100-H99,2)))","v":"N/D"},{"$f":"+IF(I99=0,\"N/D\",IF(ROUND(J99+J100-I99,2)=0,\"OK\",ROUND(J99+J100-I99,2)))","v":"N/D"},{"$f":"+IF(J99=0,\"N/D\",IF(ROUND(K99+K100-J99,2)=0,\"OK\",ROUND(K99+K100-J99,2)))","v":"N/D"},{"$f":"+IF(K99=0,\"N/D\",IF(ROUND(L99+L100-K99,2)=0,\"OK\",ROUND(L99+L100-K99,2)))","v":"N/D"}]
[null,"[13.1] \"n\"  -  ( [13.3] + [13.4] + [13.5] + [13.6] ) \"n\"  =  [13.1] \"n-1\"",null,"Porównanie na koniec roku prognozy stanu zobowiązań przejętych przez jst po likwidowanych i przekształcanych SP ZOZ z wydatkami i umorzeniami poniesionymi na ten cel ze stanem zobowiązań z okresu N-1","x","x","x","x",{"$f":"+IF(H90=0,\"N/D\",IF(ROUND(I90+(I92+I93+I94+I95)-H90,2)=0,\"OK\",ROUND(I90+(I92+I93+I94+I95)-H90,2)))","v":"N/D"},{"$f":"+IF(I90=0,\"N/D\",IF(ROUND(J90+(J92+J93+J94+J95)-I90,2)=0,\"OK\",ROUND(J90+(J92+J93+J94+J95)-I90,2)))","v":"N/D"},{"$f":"+IF(J90=0,\"N/D\",IF(ROUND(K90+(K92+K93+K94+K95)-J90,2)=0,\"OK\",ROUND(K90+(K92+K93+K94+K95)-J90,2)))","v":"N/D"},{"$f":"+IF(K90=0,\"N/D\",IF(ROUND(L90+(L92+L93+L94+L95)-K90,2)=0,\"OK\",ROUND(L90+(L92+L93+L94+L95)-K90,2)))","v":"N/D"}]
[null,"jeśli [3] < 0 to sprawdź czy [4.1.1] + [4.2.1] + [4.3.1] + [4.4.1] + [3] = 0",null,"Kontrola poprawności wykazania źródeł pokrycia deficytu","x","x","x","x",{"$f":"IF(I29<0,IF(ROUND(I32+I34+I36+I38+I29,2)=0,\"OK\",ROUND(I32+I34+I36+I38+I29,2)),\"N/D\")","v":"N/D"},{"$f":"IF(J29<0,IF(ROUND(J32+J34+J36+J38+J29,2)=0,\"OK\",ROUND(J32+J34+J36+J38+J29,2)),\"N/D\")","v":"N/D"},{"$f":"IF(K29<0,IF(ROUND(K32+K34+K36+K38+K29,2)=0,\"OK\",ROUND(K32+K34+K36+K38+K29,2)),\"N/D\")","v":"N/D"},{"$f":"IF(L29<0,IF(ROUND(L32+L34+L36+L38+L29,2)=0,\"OK\",ROUND(L32+L34+L36+L38+L29,2)),\"N/D\")","v":"N/D"}]
[null,"jeśli [3] >= 0 to sprawdź czy [4.1.1]=0 i [4.2.1]=0 i [4.3.1]=0 i  [4.4.1] = 0",null,"Kontrola poprawności niewykazania źródeł pokrycia deficytu przy nadwyżce budżetu","x","x","x","x",{"$f":"IF(I29>=0,IF(ROUND(I32+I34+I36+I38,2)=0,\"OK\",ROUND(I32+I34+I36+I38,2)),\"N/D\")","v":"OK"},{"$f":"IF(J29>=0,IF(ROUND(J32+J34+J36+J38,2)=0,\"OK\",ROUND(J32+J34+J36+J38,2)),\"N/D\")","v":"OK"},{"$f":"IF(K29>=0,IF(ROUND(K32+K34+K36+K38,2)=0,\"OK\",ROUND(K32+K34+K36+K38,2)),\"N/D\")","v":"OK"},{"$f":"IF(L29>=0,IF(ROUND(L32+L34+L36+L38,2)=0,\"OK\",ROUND(L32+L34+L36+L38,2)),\"N/D\")","v":"OK"}]
[null,"[1.1.3] >=  [1.1.3.1]",null,"Reguła logiczna:  [1.1.3] >=  [1.1.3.1]","x","x","x","x",{"$f":"IF(I14>=I15,\"OK\",\"BŁĄD\")","v":"OK"},{"$f":"IF(J14>=J15,\"OK\",\"BŁĄD\")","v":"OK"},{"$f":"IF(K14>=K15,\"OK\",\"BŁĄD\")","v":"OK"},{"$f":"IF(L14>=L15,\"OK\",\"BŁĄD\")","v":"OK"}]
[null,"[1.1.5] >= [13.2]",null,"Reguła logiczna:  [1.1.5] >= [13.2]","x","x","x","x",{"$f":"IF(I17>=I91,\"OK\",\"BŁĄD\")","v":"OK"},{"$f":"IF(J17>=J91,\"OK\",\"BŁĄD\")","v":"OK"},{"$f":"IF(K17>=K91,\"OK\",\"BŁĄD\")","v":"OK"},{"$f":"IF(L17>=L91,\"OK\",\"BŁĄD\")","v":"OK"}]
[null,"[1.1] >=  ([1.1.1] + [1.1.2] + [1.1.3] + [1.1.4] + [1.1.5])",null,"Reguła logiczna:  [1.1] >=  ([1.1.1] + [1.1.2] + [1.1.3] + [1.1.4] + [1.1.5])","x","x","x","x",{"$f":"IF(I11>=I12+I13+I14+I16+I17,\"OK\",\"BŁĄD\")","v":"OK"},{"$f":"IF(J11>=J12+J13+J14+J16+J17,\"OK\",\"BŁĄD\")","v":"OK"},{"$f":"IF(K11>=K12+K13+K14+K16+K17,\"OK\",\"BŁĄD\")","v":"OK"},{"$f":"IF(L11>=L12+L13+L14+L16+L17,\"OK\",\"BŁĄD\")","v":"OK"}]
[null,"[1.1] >= [12.1]",null,"Reguła logiczna:  [1.1] >= [12.1]","x","x","x","x",{"$f":"IF(I11>=I77,\"OK\",\"BŁĄD\")","v":"OK"},{"$f":"IF(J11>=J77,\"OK\",\"BŁĄD\")","v":"OK"},{"$f":"IF(K11>=K77,\"OK\",\"BŁĄD\")","v":"OK"},{"$f":"IF(L11>=L77,\"OK\",\"BŁĄD\")","v":"OK"}]
[null,"[1.2] >= [1.2.1]",null,"Reguła logiczna:  [1.2] >= [1.2.1]","x","x","x","x",{"$f":"IF(I18>=I19,\"OK\",\"BŁĄD\")","v":"OK"},{"$f":"IF(J18>=J19,\"OK\",\"BŁĄD\")","v":"OK"},{"$f":"IF(K18>=K19,\"OK\",\"BŁĄD\")","v":"OK"},{"$f":"IF(L18>=L19,\"OK\",\"BŁĄD\")","v":"OK"}]
[null,"[1.2] >= [1.2.2]",null,"Reguła logiczna:  [1.2] >= [1.2.2]","x","x","x","x",{"$f":"IF(I18>=I20,\"OK\",\"BŁĄD\")","v":"OK"},{"$f":"IF(J18>=J20,\"OK\",\"BŁĄD\")","v":"OK"},{"$f":"IF(K18>=K20,\"OK\",\"BŁĄD\")","v":"OK"},{"$f":"IF(L18>=L20,\"OK\",\"BŁĄD\")","v":"OK"}]
[null,"[1.2] >= [12.2]",null,"Reguła logiczna:  [1.2] >= [12.2]","x","x","x","x",{"$f":"IF(I18>=I80,\"OK\",\"BŁĄD\")","v":"OK"},{"$f":"IF(J18>=J80,\"OK\",\"BŁĄD\")","v":"OK"},{"$f":"IF(K18>=K80,\"OK\",\"BŁĄD\")","v":"OK"},{"$f":"IF(L18>=L80,\"OK\",\"BŁĄD\")","v":"OK"}]
[null,null,null,"Reguła logiczna: jeżeli [3] >0 to [10] = [3]","x","x","x","x",{"$f":"+IF(I29>0,IF(I29=I65,\"OK\",\"Błąd\"),\"N/D\")","v":"OK"},{"$f":"+IF(J29>0,IF(J29=J65,\"OK\",\"Błąd\"),\"N/D\")","v":"N/D"},{"$f":"+IF(K29>0,IF(K29=K65,\"OK\",\"Błąd\"),\"N/D\")","v":"N/D"},{"$f":"+IF(L29>0,IF(L29=L65,\"OK\",\"Błąd\"),\"N/D\")","v":"N/D"}]
[null,"[10] >= [10.1]",null,"Reguła logiczna:  [10] >= [10.1]","x","x","x","x",{"$f":"IF(I65>=I66,\"OK\",\"BŁĄD\")","v":"OK"},{"$f":"IF(J65>=J66,\"OK\",\"BŁĄD\")","v":"OK"},{"$f":"IF(K65>=K66,\"OK\",\"BŁĄD\")","v":"OK"},{"$f":"IF(L65>=L66,\"OK\",\"BŁĄD\")","v":"OK"}]
[null,null,null,"Reguła logiczna:  jeżeli [10] > 0 to [10.1] >0","x","x","x","x",{"$f":"IF(I65>0,IF(I66>0,\"OK\",\"BŁĄD\"),\"N/D\")","v":"OK"},{"$f":"IF(J65>0,IF(J66>0,\"OK\",\"BŁĄD\"),\"N/D\")","v":"N/D"},{"$f":"IF(K65>0,IF(K66>0,\"OK\",\"BŁĄD\"),\"N/D\")","v":"N/D"},{"$f":"IF(L65>0,IF(L66>0,\"OK\",\"BŁĄD\"),\"N/D\")","v":"N/D"}]
[null,"[12.1] >= [12.1.1]",null,"Reguła logiczna:  [12.1] >= [12.1.1]","x","x","x","x",{"$f":"IF(I77>=I78,\"OK\",\"BŁĄD\")","v":"OK"},"OK","OK","OK"]
[null,"[12.1.1] >= [12.1.1.1]",null,"Reguła logiczna:  [12.1.1] >= [12.1.1.1]","x","x","x","x","OK","OK","OK","OK"]
[null,"[12.2] >= [12.2.1]",null,"Reguła logiczna:  [12.2] >= [12.2.1]","x","x","x","x",{"$f":"IF(I80>=I81,\"OK\",\"BŁĄD\")","v":"OK"},"OK","OK","OK"]
[null,"[12.2.1] >= [12.2.1.1]",null,"Reguła logiczna:  [12.2.1] >= [12.2.1.1]","x","x","x","x","OK","OK","OK","OK"]
[null,"[12.3] >= [12.3.1]",null,"Reguła logiczna:  [12.3] >= [12.3.1]","x","x","x","x",{"$f":"IF(I83>=I84,\"OK\",\"BŁĄD\")","v":"OK"},{"$f":"IF(J83>=J84,\"OK\",\"BŁĄD\")","v":"OK"},{"$f":"IF(K83>=K84,\"OK\",\"BŁĄD\")","v":"OK"},{"$f":"IF(L83>=L84,\"OK\",\"BŁĄD\")","v":"OK"}]
[null,"[12.3] >= [12.3.2]",null,"Reguła logiczna:  [12.3] >= [12.3.2]","x","x","x","x",{"$f":"IF(I83>=I85,\"OK\",\"BŁĄD\")","v":"OK"},{"$f":"IF(J83>=J85,\"OK\",\"BŁĄD\")","v":"OK"},{"$f":"IF(K83>=K85,\"OK\",\"BŁĄD\")","v":"OK"},{"$f":"IF(L83>=L85,\"OK\",\"BŁĄD\")","v":"OK"}]
[null,"[12.4] >= [12.4.1]",null,"Reguła logiczna:  [12.4] >= [12.4.1]","x","x","x","x",{"$f":"IF(I86>=I87,\"OK\",\"BŁĄD\")","v":"OK"},{"$f":"IF(J86>=J87,\"OK\",\"BŁĄD\")","v":"OK"},{"$f":"IF(K86>=K87,\"OK\",\"BŁĄD\")","v":"OK"},{"$f":"IF(L86>=L87,\"OK\",\"BŁĄD\")","v":"OK"}]
[null,"[12.4] >= [12.4.2]",null,"Reguła logiczna:  [12.4] >= [12.4.2]","x","x","x","x",{"$f":"IF(I86>=I88,\"OK\",\"BŁĄD\")","v":"OK"},{"$f":"IF(J86>=J88,\"OK\",\"BŁĄD\")","v":"OK"},{"$f":"IF(K86>=K88,\"OK\",\"BŁĄD\")","v":"OK"},{"$f":"IF(L86>=L88,\"OK\",\"BŁĄD\")","v":"OK"}]
[null,"[13.1] >= [13.3]",null,"Reguła logiczna:  [13.1] >= [13.3]","x","x","x","x",{"$f":"IF(I90>=I92,\"OK\",\"BŁĄD\")","v":"OK"},{"$f":"IF(J90>=J92,\"OK\",\"BŁĄD\")","v":"OK"},{"$f":"IF(K90>=K92,\"OK\",\"BŁĄD\")","v":"OK"},{"$f":"IF(L90>=L92,\"OK\",\"BŁĄD\")","v":"OK"}]
[null,"[13.4] >= [2.1.2]",null,"Reguła logiczna:  [13.4] >= [2.1.2]","x","x","x","x",{"$f":"IF(I93>=I25,\"OK\",\"BŁĄD\")","v":"OK"},{"$f":"IF(J93>=J25,\"OK\",\"BŁĄD\")","v":"OK"},{"$f":"IF(K93>=K25,\"OK\",\"BŁĄD\")","v":"OK"},{"$f":"IF(L93>=L25,\"OK\",\"BŁĄD\")","v":"OK"}]
[null,"[14.3] >= [14.3.1] + [14.3.2] + [14.3.3]",null,"Reguła logiczna:  [14.3] >= [14.3.1] + [14.3.2] + [14.3.3]","x","x","x","x",{"$f":"IF(I100>=(I101+I102+I103),\"OK\",\"BŁĄD\")","v":"OK"},{"$f":"IF(J100>=(J101+J102+J103),\"OK\",\"BŁĄD\")","v":"OK"},{"$f":"IF(K100>=(K101+K102+K103),\"OK\",\"BŁĄD\")","v":"OK"},{"$f":"IF(L100>=(L101+L102+L103),\"OK\",\"BŁĄD\")","v":"OK"}]
[null,"[2.1.1] >= [2.1.1.1]",null,"Reguła logiczna:  [2.1.1] >= [2.1.1.1]","x","x","x","x",{"$f":"IF(I23>=I24,\"OK\",\"BŁĄD\")","v":"OK"},{"$f":"IF(J23>=J24,\"OK\",\"BŁĄD\")","v":"OK"},{"$f":"IF(K23>=K24,\"OK\",\"BŁĄD\")","v":"OK"},{"$f":"IF(L23>=L24,\"OK\",\"BŁĄD\")","v":"OK"}]
[null,"[2.1.1] >= [14.3.3]",null,"Reguła logiczna:  [2.1.1] >= [14.3.3]","x","x","x","x",{"$f":"IF(I23>=I103,\"OK\",\"BŁĄD\")","v":"OK"},{"$f":"IF(J23>=J103,\"OK\",\"BŁĄD\")","v":"OK"},{"$f":"IF(K23>=K103,\"OK\",\"BŁĄD\")","v":"OK"},{"$f":"IF(L23>=L103,\"OK\",\"BŁĄD\")","v":"OK"}]
[null,"[2.1.3] >= [2.1.3.1] ",null,"Reguła logiczna:  [2.1.3] >= [2.1.3.1] ","x","x","x","x",{"$f":"IF(I26>=I27,\"OK\",\"BŁĄD\")","v":"OK"},{"$f":"IF(J26>=J27,\"OK\",\"BŁĄD\")","v":"OK"},{"$f":"IF(K26>=K27,\"OK\",\"BŁĄD\")","v":"OK"},{"$f":"IF(L26>=L27,\"OK\",\"BŁĄD\")","v":"OK"}]
[null,"[2.1] >= ([2.1.1] + [2.1.2] + [2.1.3])",null,"Reguła logiczna:  [2.1] >= ([2.1.1] + [2.1.2] + [2.1.3])","x","x","x","x",{"$f":"IF(I22>=(I23+I25+I26),\"OK\",\"BŁĄD\")","v":"OK"},{"$f":"IF(J22>=(J23+J25+J26),\"OK\",\"BŁĄD\")","v":"OK"},{"$f":"IF(K22>=(K23+K25+K26),\"OK\",\"BŁĄD\")","v":"OK"},{"$f":"IF(L22>=(L23+L25+L26),\"OK\",\"BŁĄD\")","v":"OK"}]
[null,"[2.1] >= [11.1]",null,"Reguła logiczna:  [2.1] >= [11.1]","x","x","x","x",{"$f":"IF(I22>=I68,\"OK\",\"BŁĄD\")","v":"OK"},{"$f":"IF(J22>=J68,\"OK\",\"BŁĄD\")","v":"OK"},{"$f":"IF(K22>=K68,\"OK\",\"BŁĄD\")","v":"OK"},{"$f":"IF(L22>=L68,\"OK\",\"BŁĄD\")","v":"OK"}]
[null,"[2.1] >= [11.3.1]",null,"Reguła logiczna:  [2.1] >= [11.3.1]","x","x","x","x",{"$f":"IF(I22>=I71,\"OK\",\"BŁĄD\")","v":"OK"},{"$f":"IF(J22>=J71,\"OK\",\"BŁĄD\")","v":"OK"},{"$f":"IF(K22>=K71,\"OK\",\"BŁĄD\")","v":"OK"},{"$f":"IF(L22>=L71,\"OK\",\"BŁĄD\")","v":"OK"}]
[null,"[2.1] >= [12.3]",null,"Reguła logiczna:  [2.1] >= [12.3]","x","x","x","x",{"$f":"IF(I22>=I83,\"OK\",\"BŁĄD\")","v":"OK"},{"$f":"IF(J22>=J83,\"OK\",\"BŁĄD\")","v":"OK"},{"$f":"IF(K22>=K83,\"OK\",\"BŁĄD\")","v":"OK"},{"$f":"IF(L22>=L83,\"OK\",\"BŁĄD\")","v":"OK"}]
[null,"[2.1] >= [13.7]",null,"Reguła logiczna:  [2.1] >= [13.7]","x","x","x","x",{"$f":"IF(I22>=I96,\"OK\",\"BŁĄD\")","v":"OK"},{"$f":"IF(J22>=J96,\"OK\",\"BŁĄD\")","v":"OK"},{"$f":"IF(K22>=K96,\"OK\",\"BŁĄD\")","v":"OK"},{"$f":"IF(L22>=L96,\"OK\",\"BŁĄD\")","v":"OK"}]
[null,"[2.2] >= [11.3.2]",null,"Reguła logiczna:  [2.2] >= [11.3.2]","x","x","x","x",{"$f":"IF(I28>=I72,\"OK\",\"BŁĄD\")","v":"OK"},{"$f":"IF(J28>=J72,\"OK\",\"BŁĄD\")","v":"OK"},{"$f":"IF(K28>=K72,\"OK\",\"BŁĄD\")","v":"OK"},{"$f":"IF(L28>=L72,\"OK\",\"BŁĄD\")","v":"OK"}]
[null,"[2.2] >= [11.4] + [11.5]",null,"Reguła logiczna:  [2.2] >= [11.4] + [11.5]","x","x","x","x",{"$f":"IF(I28>=I73+I74,\"OK\",\"BŁĄD\")","v":"OK"},{"$f":"IF(J28>=J73+J74,\"OK\",\"BŁĄD\")","v":"OK"},{"$f":"IF(K28>=K73+K74,\"OK\",\"BŁĄD\")","v":"OK"},{"$f":"IF(L28>=L73+L74,\"OK\",\"BŁĄD\")","v":"OK"}]
[null,"[2.2] >= [11.6]",null,"Reguła logiczna:  [2.2] >= [11.6]","x","x","x","x",{"$f":"IF(I28>=I75,\"OK\",\"BŁĄD\")","v":"OK"},{"$f":"IF(J28>=J75,\"OK\",\"BŁĄD\")","v":"OK"},{"$f":"IF(K28>=K75,\"OK\",\"BŁĄD\")","v":"OK"},{"$f":"IF(L28>=L75,\"OK\",\"BŁĄD\")","v":"OK"}]
[null,"[2.2] >= [12.4]",null,"Reguła logiczna:  [2.2] >= [12.4]","x","x","x","x",{"$f":"IF(I28>=I86,\"OK\",\"BŁĄD\")","v":"OK"},{"$f":"IF(J28>=J86,\"OK\",\"BŁĄD\")","v":"OK"},{"$f":"IF(K28>=K86,\"OK\",\"BŁĄD\")","v":"OK"},{"$f":"IF(L28>=L86,\"OK\",\"BŁĄD\")","v":"OK"}]
[null,"[4.1] >= [4.1.1]",null,"Reguła logiczna:  [4.1] >= [4.1.1]","x","x","x","x",{"$f":"IF(I31>=I32,\"OK\",\"BŁĄD\")","v":"OK"},{"$f":"IF(J31>=J32,\"OK\",\"BŁĄD\")","v":"OK"},{"$f":"IF(K31>=K32,\"OK\",\"BŁĄD\")","v":"OK"},{"$f":"IF(L31>=L32,\"OK\",\"BŁĄD\")","v":"OK"}]
[null,"[4.2] >= [4.2.1]",null,"Reguła logiczna:  [4.2] >= [4.2.1]","x","x","x","x",{"$f":"IF(I33>=I34,\"OK\",\"BŁĄD\")","v":"OK"},{"$f":"IF(J33>=J34,\"OK\",\"BŁĄD\")","v":"OK"},{"$f":"IF(K33>=K34,\"OK\",\"BŁĄD\")","v":"OK"},{"$f":"IF(L33>=L34,\"OK\",\"BŁĄD\")","v":"OK"}]
[null,"[4.3] >= [4.3.1]",null,"Reguła logiczna:  [4.3] >= [4.3.1]","x","x","x","x",{"$f":"IF(I35>=I36,\"OK\",\"BŁĄD\")","v":"OK"},{"$f":"IF(J35>=J36,\"OK\",\"BŁĄD\")","v":"OK"},{"$f":"IF(K35>=K36,\"OK\",\"BŁĄD\")","v":"OK"},{"$f":"IF(L35>=L36,\"OK\",\"BŁĄD\")","v":"OK"}]
[null,"[4.4] >= [4.4.1]",null,"Reguła logiczna:  [4.4] >= [4.4.1]","x","x","x","x",{"$f":"IF(I37>=I38,\"OK\",\"BŁĄD\")","v":"OK"},{"$f":"IF(J37>=J38,\"OK\",\"BŁĄD\")","v":"OK"},{"$f":"IF(K37>=K38,\"OK\",\"BŁĄD\")","v":"OK"},{"$f":"IF(L37>=L38,\"OK\",\"BŁĄD\")","v":"OK"}]
[null,"[5.1] >= [5.1.1]",null,"Reguła logiczna:  [5.1] >= [5.1.1]","x","x","x","x",{"$f":"IF(I40>=I41,\"OK\",\"BŁĄD\")","v":"OK"},"OK","OK","OK"]
[null,"[5.1.1] >= [5.1.1.1]",null,"Reguła logiczna:  [5.1.1] >= [5.1.1.1]","x","x","x","x","OK","OK","OK","OK"]
[null,"[5.1] >= [10.1]",null,"Reguła logiczna:  [5.1] >= [10.1]","x","x","x","x",{"$f":"IF(I40>=I66,\"OK\",\"BŁĄD\")","v":"OK"},{"$f":"IF(J40>=J66,\"OK\",\"BŁĄD\")","v":"OK"},{"$f":"IF(K40>=K66,\"OK\",\"BŁĄD\")","v":"OK"},{"$f":"IF(L40>=L66,\"OK\",\"BŁĄD\")","v":"OK"}]
[null,"[5.1] >= [14.1]",null,"Reguła logiczna:  [5.1] >= [14.1]","x","x","x","x",{"$f":"IF(I40>=I98,\"OK\",\"BŁĄD\")","v":"OK"},{"$f":"IF(J40>=J98,\"OK\",\"BŁĄD\")","v":"OK"},{"$f":"IF(K40>=K98,\"OK\",\"BŁĄD\")","v":"OK"},{"$f":"IF(L40>=L98,\"OK\",\"BŁĄD\")","v":"OK"}]
[null,"[6] >= [6.1]",null,"Reguła logiczna:  [6] >= [6.1]","x","x","x","x",{"$f":"IF(I44>=I45,\"OK\",\"BŁĄD\")","v":"OK"},{"$f":"IF(J44>=J45,\"OK\",\"BŁĄD\")","v":"OK"},{"$f":"IF(K44>=K45,\"OK\",\"BŁĄD\")","v":"OK"},{"$f":"IF(L44>=L45,\"OK\",\"BŁĄD\")","v":"OK"}]
[null,"[6] >=[7]",null,"Reguła logiczna:  [6] >=[7]","x","x","x","x",{"$f":"IF(I44>=I49,\"OK\",\"BŁĄD\")","v":"OK"},{"$f":"IF(J44>=J49,\"OK\",\"BŁĄD\")","v":"OK"},{"$f":"IF(K44>=K49,\"OK\",\"BŁĄD\")","v":"OK"},{"$f":"IF(L44>=L49,\"OK\",\"BŁĄD\")","v":"OK"}]
[null,"[6] >= [14.2]",null,"Reguła logiczna:  [6] >= [14.2]","x","x","x","x",{"$f":"IF(I44>=I99,\"OK\",\"BŁĄD\")","v":"OK"},{"$f":"IF(J44>=J99,\"OK\",\"BŁĄD\")","v":"OK"},{"$f":"IF(K44>=K99,\"OK\",\"BŁĄD\")","v":"OK"},{"$f":"IF(L44>=L99,\"OK\",\"BŁĄD\")","v":"OK"}]
[null,"[6.1] >= [6.1.1]",null,"Reguła logiczna:  [6.1] >= [6.1.1]","x","x","x","x",{"$f":"+IF(I45>=I46,\"OK\",\"BŁĄD\")","v":"OK"},{"$f":"+IF(J45>=J46,\"OK\",\"BŁĄD\")","v":"OK"},{"$f":"+IF(K45>=K46,\"OK\",\"BŁĄD\")","v":"OK"},{"$f":"+IF(L45>=L46,\"OK\",\"BŁĄD\")","v":"OK"}]
[null,"7>=13.1",null,"Reguła logiczna:  7>=13.1","x","x","x","x",{"$f":"IF(I49>=I90,\"OK\",\"BŁĄD\")","v":"OK"},{"$f":"IF(J49>=J90,\"OK\",\"BŁĄD\")","v":"OK"},{"$f":"IF(K49>=K90,\"OK\",\"BŁĄD\")","v":"OK"},{"$f":"IF(L49>=L90,\"OK\",\"BŁĄD\")","v":"OK"}]
[null,"jeżeli [2.1.3] <> 0 to  [2.1.3.1] <> 0 ",null,"Reguła logiczna:  jeżeli [2.1.3] <> 0 to  [2.1.3.1] <> 0 ","x","x","x","x",{"$f":"IF(I26<>0,IF(I27<>0,\"OK\",\"BŁĄD\"),\"N/D\")","v":"OK"},{"$f":"IF(J26<>0,IF(J27<>0,\"OK\",\"BŁĄD\"),\"N/D\")","v":"N/D"},{"$f":"IF(K26<>0,IF(K27<>0,\"OK\",\"BŁĄD\"),\"N/D\")","v":"N/D"},{"$f":"IF(L26<>0,IF(L27<>0,\"OK\",\"BŁĄD\"),\"N/D\")","v":"N/D"}]
[]
[null,null,null,"Kontrola poprawności podstawowych kwot"]
[null,null,null,"Dochody ogółem = bieżące + majątkowe",{"$f":"E11+E18","v":11735693.559999999},14062028.149999999,13471394.42,12678694,13601645,10825000,12050000,12170000]
[null,null,null,"Wydatki ogółem = bieżące + majątkowe",{"$f":"E22+E28","v":12835915.98},11481546.43,14584700.699999999,14401220,12827688.810000001,10825000,12050000,12170000]
[null,null,null,"Wynik budżetu = dochody ogółem - wydatki ogółem",{"$f":"E10-E21","v":-1100222.42},2580481.7200000007,-1113306.2799999993,-1722526,773956.18999999948,0,0,0]
[null,null,null,"Kwota wyłączeń innych niż art. 243 ust. 3 (wyłączenia z art. 36 ustawy \"okołobudżetowej\" i art. 121a  \n([poz.  5.1.1] - [poz. 5.1.1.1.]))",{"$f":"+E41-E42","v":0},{"$f":"+F41-F42","v":0},0,0,0,0,0,0]
[null,null,null,"Wyliczenie kwoty długu","x",{"$f":"E44+F35-F40+(F99-E99)+F104","v":1422477.65},"x",{"$f":"F44+H35-H40+(H99-F99)+H104","v":773956.19},{"$f":"H44+I35-I40+(I99-H99)+I104","v":0},{"$f":"I44+J35-J40+(J99-I99)+J104","v":0},{"$f":"J44+K35-K40+(K99-J99)+K104","v":0},{"$f":"K44+L35-L40+(L99-K99)+L104","v":0}]
[null,null,null,"Wyliczenie zobowiązań wynikających z przejęcia przez jst zobowiązań po likwidowanych i przekształcanych SZOZ","x",{"$f":"E90-(F92+F93+F94+F95)","v":0},"x",{"$f":"F90-(H92+H93+H94+H95)","v":0},{"$f":"H90-(I92+I93+I94+I95)","v":0},{"$f":"I90-(J92+J93+J94+J95)","v":0},{"$f":"J90-(K92+K93+K94+K95)","v":0},{"$f":"K90-(L92+L93+L94+L95)","v":0}]
[]
[null,null,null,"Analiza ryzyka niespełnienia wskaźnika z art. 243"]
[null,null,null,"Analiza składowych wzoru wskaźnika z art. 243"]
[null,null,null,0,{"$f":"+\"różnica mniejsza od \"&TEXT(D185*100,\"0,0\")&\"%\"","v":"różnica mniejsza od 0,0%"}]
[null,null,null,5.0000000000000001E-3,{"$f":"+\"różnica mniejsza od \"&TEXT(D186*100,\"0,0\")&\"%\"","v":"różnica mniejsza od 0,5%"}]
[null,null,null,0.01,{"$f":"+\"różnica mniejsza od \"&TEXT(D187*100,\"0,0\")&\"%\"","v":"różnica mniejsza od 1,0%"}]
[null,null,null,"max. limit spłat (planistyczny) - (R+O)/D (bez wyłączeń)","x","x","x","x",{"$f":"+IF(I10=0,\"\",I61-I56)","v":0.1305},{"$f":"+IF(J10=0,\"\",J61-J56)","v":0.21859999999999999},{"$f":"+IF(K10=0,\"\",K61-K56)","v":0.18340000000000001},{"$f":"+IF(L10=0,\"\",L61-L56)","v":0.1875}]
[null,null,null,"max. limit spłat (planistyczny) - (R+O)/D (z wyłączeniami)","x","x","x","x",{"$f":"+IF(I10=0,\"\",I61-I57)","v":0.1305},{"$f":"+IF(J10=0,\"\",J61-J57)","v":0.21859999999999999},{"$f":"+IF(K10=0,\"\",K61-K57)","v":0.18340000000000001},{"$f":"+IF(L10=0,\"\",L61-L57)","v":0.1875}]
[null,null,null,"max. limit spłat (wg wykonania) - (R+O)/D (bez wyłączeń)","x","x","x","x",{"$f":"+IF(I10=0,\"\",I62-I56)","v":0.11890000000000001},{"$f":"+IF(J10=0,\"\",J62-J56)","v":0.20699999999999999},{"$f":"+IF(K10=0,\"\",K62-K56)","v":0.17180000000000001},{"$f":"+IF(L10=0,\"\",L62-L56)","v":0.1875}]
[null,null,null,"max. limit spłat (wg wykonania) - (R+O)/D (z wyłączeniami)","x","x","x","x",{"$f":"+IF(I10=0,\"\",I62-I57)","v":0.11890000000000001},{"$f":"+IF(J10=0,\"\",J62-J57)","v":0.20699999999999999},{"$f":"+IF(K10=0,\"\",K62-K57)","v":0.17180000000000001},{"$f":"+IF(L10=0,\"\",L62-L57)","v":0.1875}]
[null,null,null,"DYNAMIKA podstawowych wielkości z prognozy"]
[null,null,null,0.05,{"$f":"+\"zmiana większa niż +/- \"&TEXT(D193*100,\"0,0\")&\"%\"","v":"zmiana większa niż +/- 5,0%"}]
[null,null,null,0.1,{"$f":"+\"zmiana większa niż +/- \"&TEXT(D194*100,\"0,0\")&\"%\"","v":"zmiana większa niż +/- 10,0%"}]
[null,null,null,0.2,{"$f":"+\"zmiana większa niż +/- \"&TEXT(D195*100,\"0,0\")&\"%\"","v":"zmiana większa niż +/- 20,0%"},null,"[N-1]pl3kw / [N-2]","[N-1]wyk \n/ [N-1]pl3kw"]
[null,null,null,"Dochody ogółem","-",{"$f":"+IF(F10=0,0,IF(E222<>0,F222/E222-1,0))","v":0.19822727801355433},-4.2002030126785161E-2,-5.8843234433336389E-2,7.2795431453744452E-2,-0.20414038154943759,0.1131639722863742,9.9585062240663547E-3]
[null,null,null,"dochody ogółem bez środków UE (fin. i współfin.)","-",{"$f":"+IF(F10=0,0,IF(E223<>0,F223/E223-1,0))","v":0.21523499773174048},5.5606662871960921E-3,-6.1258028660419406E-2,-5.9716074178334355E-2,-5.2287550227665514E-2,0.1131639722863742,9.9585062240663547E-3]
[null,null,null,"dochody bieżące bez środków UE (fin. i współfin.)","-",{"$f":"+IF(F10=0,0,IF(E224<>0,F224/E224-1,0))","v":0.23777705650792025},-1.0118064235595359E-2,-3.7954813083053596E-2,-5.582824363131289E-2,-3.5354674466288261E-2,0.1131639722863742,9.9585062240663547E-3]
[null,null,null,"dochody majątkowe bez środków UE (fin. i współfin.)","-",{"$f":"+IF(F10=0,0,IF(E225<>0,F225/E225-1,0))","v":-0.23343015464939587},0.50944441802136131,-0.55239382028605744,-0.23582949660029884,-1,0,0]
[null,null,null,"dochody majątkowe bez środków UE (fin. i współfin.) \ni bez sprzedaży majątku","-",{"$f":"+IF(F10=0,0,IF(E226<>0,F226/E226-1,0))","v":-0.1278339251570606},-0.19769495772001278,0,-0.99804821685091505,-1,0,0]
[null,null,null,"dochody ze sprzedaży majątku","-",{"$f":"+IF(F10=0,0,IF(E227<>0,F227/E227-1,0))","v":-0.50859533988137051},3.7799132402293143,-0.9812121212121212,31.258064516129032,-1,0,0]
[null,null,null,"Wydatki ogółem","-",{"$f":"+IF(F10=0,0,IF(E228<>0,F228/E228-1,0))","v":-0.10551405541375325},0.27027319785876602,-1.2580354151525364E-2,-0.10926374223850477,-0.15612234126219038,0.1131639722863742,9.9585062240663547E-3]
[null,null,null,"wydatki ogółem bez wydatków na projekty finansowane i współfinansowane środkami UE","-",{"$f":"+IF(F10=0,0,IF(E229<>0,F229/E229-1,0))","v":-0.10771646042584171},2.5597239400375393E-2,-1.6622543515681043E-2,0.18177625030628208,-0.15612234126219038,0.1131639722863742,9.9585062240663547E-3]
[null,null,null,"wydatki bieżące ogółem","-",{"$f":"+IF(F10=0,0,IF(E230<>0,F230/E230-1,0))","v":-1.6955873627015117E-2},9.9788776213226127E-2,-1.8423006130124375E-2,-8.7834379312926814E-2,2.4986707666224683E-2,2.4945295404813939E-2,2.4765157984628416E-2]
[null,null,null,"wydatki bieżące ogółem bez wydatków na projekty współfinansowane środkami UE","-",{"$f":"+IF(F10=0,0,IF(E231<>0,F231/E231-1,0))","v":-2.089427029079971E-2},0.1028682062990478,-1.8695421490098063E-2,-7.4089498782093033E-2,2.4986707666224683E-2,2.4945295404813939E-2,2.4765157984628416E-2]
[null,null,null,"wydatki bieżące na wynagrodzenia i składki od nich naliczane","-",{"$f":"+IF(F10=0,0,IF(E232<>0,F232/E232-1,0))","v":-6.0726135609805998E-2},5.6339006936904079E-2,-3.8579143168907426E-2,-1.6389290618043395E-2,2.499980202120744E-2,2.4983084735524796E-2,2.4999999999999911E-2]
[null,null,null,"pozostałe wydatki bieżące (wydatki bieżące bez wynagrodzeń i pochodnych oraz wydatków związanych z funkcjonowaniem organów jst, wydatków na obsługę długu  oraz poręczeń i gwarancji)","-",{"$f":"+IF(F10=0,0,IF(E233<>0,F233/E233-1,0))","v":8.5141354601001584E-3},0.18025594224546926,1.1728975180650636E-2,-0.191958087389833,3.6026969632663386E-2,2.4872667303702301E-2,2.4364882154833234E-2]
[null,null,null,"WIELKOŚĆ ZMIAN w podstawowych kwotach prognozy",null,null,"[N-1]pl3kw \n- [N-2]","[N-1]wyk \n- [N-1]pl3kw"]
[null,null,null,"Dochody ogółem","-",{"$f":"+IF(F$222=0,\"\",F222-E222)","v":2326334.59},{"$f":"+IF(G$222=0,\"\",G222-F222)","v":-590633.73000000045},{"$f":"+IF(H$222=0,\"\",H222-G222)","v":-792700.41999999993},{"$f":"+IF(I$222=0,\"\",I222-H222)","v":922951},-2776645,1225000,120000]
[null,null,null,"dochody ogółem bez środków UE (fin. i współfin.)","-",2279241.8800000008,71559.059999998659,-792700.41999999993,-725410.02999999933,-597241,1225000,120000]
[null,null,null,"dochody bieżące bez środków UE (fin. i współfin.)","-",2397495.959999999,-126278.02999999933,-468900.41999999993,-663534.02999999933,-396741,1225000,120000]
[null,null,null,"dochody majątkowe bez środków UE (fin. i współfin.)","-",-118254.07999999984,197837.08999999985,-323800,-61876,-200500,0,0]
[null,null,null,"dochody majątkowe bez środków UE (fin. i współfin.) \ni bez sprzedaży majątku","-",-46799.999999999884,-63124.000000000116,0,-255676,-500,0,0]
[null,null,null,"dochody ze sprzedaży majątku","-",-71454.079999999987,260961.09,-323800,193800,-200000,0,0]
[null,null,null,"Wydatki ogółem","-",{"$f":"+IF(F$228=0,\"\",F228-E228)","v":-1354369.5500000007},{"$f":"+IF(G$228=0,\"\",G228-F228)","v":3103154.2699999996},{"$f":"+IF(H$228=0,\"\",H228-G228)","v":-183480.69999999925},{"$f":"+IF(I$228=0,\"\",I228-H228)","v":-1573531.1899999995},{"$f":"+IF(J$228=0,\"\",J228-I228)","v":-2002688.8100000005},1225000,120000]
[null,null,null,"wydatki ogółem bez wydatków na projekty finansowane i współfinansowane środkami UE","-",-1299257.58,275492.12999999896,-183480.69999999925,1973105.4600000009,{"$f":"+IF(J$228=0,\"\",J229-I229)","v":-2002688.8100000005},{"$f":"+IF(K$228=0,\"\",K229-J229)","v":1225000},{"$f":"+IF(L$228=0,\"\",L229-K229)","v":120000}]
[null,null,null,"wydatki bieżące ogółem","-",-156195.23000000045,903654.26999999955,-183480.69999999925,-858655.18999999948,222811.18999999948,228000,232000]
[null,null,null,"wydatki bieżące ogółem bez wydatków na projekty współfinansowane środkami UE","-",-189901.8200000003,915403.72999999858,-183480.69999999925,-713535.53999999911,222811.18999999948,228000,232000]
[null,null,null,"wydatki bieżące na wynagrodzenia i składki od nich naliczane","-",-269698.53000000026,235019.75,-170000.83999999985,-69434,104177,106710,109450]
[null,null,null,"pozostałe wydatki bieżące (wydatki bieżące bez wynagrodzeń i pochodnych oraz wydatków związanych z funkcjonowaniem organów jst, wydatków na obsługę długu  oraz poręczeń i gwarancji)","-",28370.259999999776,605751.27999999933,46520.140000000596,-770285.18999999948,116817.18999999948,83555,83885]
[null,null,null,"PODSTAWOWE wielkości ujęte w prognozie"]
[null,null,null,"Dochody ogółem",{"$f":"+E10","v":11735693.560000001},14062028.15,13471394.42,12678694,13601645,10825000,12050000,12170000]
[null,null,null,"dochody ogółem bez środków UE (fin. i współfin.)",{"$f":"+(E10-E77-E80)","v":10589550.51},12868792.390000001,12940351.449999999,12147651.029999999,11422241,10825000,12050000,12170000]
[null,null,null,"dochody bieżące bez środków UE (fin. i współfin.)",{"$f":"+E11-E77","v":10082957.52},12480453.479999999,12354175.449999999,11885275.029999999,11221741,10825000,12050000,12170000]
[null,null,null,"dochody majątkowe bez środków UE (fin. i współfin.)",{"$f":"+E18-E80","v":506592.99},388338.91000000015,586176,262376,200500,0,0,0]
[null,null,null,"dochody majątkowe bez środków UE (fin. i współfin.) \ni bez sprzedaży majątku",{"$f":"+E18-E80-E19","v":366100},319300.00000000012,256176,256176,500,0,0,0]
[null,null,null,"dochody ze sprzedaży majątku",{"$f":"+E19","v":140492.99},69038.91,330000,6200,200000,0,0,0]
[null,null,null,"Wydatki ogółem",{"$f":"+E21","v":12835915.98},11481546.43,14584700.699999999,14401220,12827688.810000001,10825000,12050000,12170000]
[null,null,null,"wydatki ogółem bez wydatków na projekty finansowane i współfinansowane środkami UE",{"$f":"+E21-E83-E86","v":12061829.5},10762571.92,11038064.049999999,10854583.35,12827688.810000001,10825000,12050000,12170000]
[null,null,null,"wydatki bieżące ogółem",{"$f":"+E22","v":9211865.6600000001},9055670.4299999997,9959324.6999999993,9775844,8917188.8100000005,9140000,9368000,9600000]
[null,null,null,"wydatki bieżące ogółem bez wydatków na projekty współfinansowane środkami UE",{"$f":"+E22-E83","v":9088703.1400000006},8898801.3200000003,9814205.0499999989,9630724.3499999996,8917188.8100000005,9140000,9368000,9600000]
[null,null,null,"wydatki bieżące na wynagrodzenia i składki od nich naliczane",{"$f":"+E68","v":4441226.62},4171528.09,4406547.84,4236547,4167113,4271290,4378000,4487450]
[null,null,null,"pozostałe wydatki bieżące (wydatki bieżące bez wynagrodzeń i pochodnych oraz wydatków związanych z funkcjonowaniem organów jst, wydatków na obsługę długu  oraz poręczeń i gwarancji)",{"$f":"+E22-E23-E26-E68-E69","v":3332136.3200000003},3360506.58,3966257.8599999994,4012778,3242492.8100000005,3359310,3442865,3526750]
[]
[null,null,null,"DYNAMIKA kwot ujętych w WPF ",null,null,"[N-1]pl3kw : [N-2]","[N-1]wyk / [N-2]"]
["x",1,"Dochody ogółem","Dochody ogółem","x",{"$f":"+IF(ISNONTEXT(E10),IF(E10<>0,F10/E10-1,\"\"),\"\")","v":0.19822727801355433},-4.2002030126785161E-2,{"$f":"+IF(ISNONTEXT(F10),IF(F10<>0,H10/F10-1,\"\"),\"\")","v":-9.8373729254695008E-2},{"$f":"+IF(ISNONTEXT(H10),IF(H10<>0,I10/H10-1,\"\"),\"\")","v":7.2795431453744452E-2},-0.20414038154943759,0.1131639722863742,9.9585062240663547E-3]
["x","1.1","Dochody bieżące","Dochody bieżące, w tym:","x",0.24277624736645653,-1.5505092241206442E-2,-5.2541973645254814E-2,-6.4477901260874826E-2,-3.5354674466288261E-2,0.1131639722863742,9.9585062240663547E-3]
[null,"1.1.1","dochody z tytułu udziału we wpływach z podatku dochodowego od osób fizycznych","dochody z tytułu udziału we wpływach z podatku dochodowego od osób fizycznych","x",0.43237874337536142,3.2094966712728157E-2,3.2094966712728157E-2,-7.4786296651778716E-2,0,0,0]
[null,"1.1.2","dochody z tytułu udziału we wpływach z podatku dochodowego od osób prawnych","dochody z tytułu udziału we wpływach z podatku dochodowego od osób prawnych","x",-0.88128196348893195,0.14447903314411281,0.14447903314411281,0,0,0,0]
[null,"1.1.3","podatki i opłaty, w tym:","podatki i opłaty, w tym:","x",0.52571812538741725,-0.18444913745384928,-0.28381199997083317,0.22852602358404872,1.009103583944615E-2,0.27706247019551733,1.0082150858849781E-2]
[null,"1.1.3.1","z podatku od nieruchomości","z podatku od nieruchomości","x",0.89431385625467885,2.2214431281205593E-2,2.2214431281205593E-2,7.7656967511106068E-3,1.0022390639735201E-2,0.67921146953405009,9.9608680184988252E-3]
[null,"1.1.4","z subwencji ogólnej","z subwencji ogólnej","x",0.1099138240627866,5.2196476185566443E-3,5.2196476185566443E-3,-0.26856360694807768,0,0,0]
[null,"1.1.5","z tytułu dotacji i środków przeznaczonych na cele bieżące","z tytułu dotacji i środków przeznaczonych na cele bieżące","x",-5.8805618264314852E-3,-3.9263814355666282E-2,-3.9263814355666282E-2,-0.31773610179910305,0,0,0]
["x","1.2","Dochody majątkowe","Dochody majątkowe, w tym:","x",-9.4842626552690712E-2,-0.28133255881559205,-0.51234376413610394,2.4817842669670682,-1,"",""]
["x","1.2.1","Dochody ze sprzedaży majątku","ze sprzedaży majątku","x",-0.50859533988137051,3.7799132402293143,-0.91019556942599467,31.258064516129032,-1,"",""]
[null,"1.2.2","z tytułu dotacji oraz środków przeznaczonych na inwestycje","z tytułu dotacji oraz środków przeznaczonych na inwestycje","x",-5.2358380419951889E-2,-0.50154643233740237,-0.50154643233740237,2.2824837148510317,-1,"",""]
["x",2,"Wydatki ogółem","Wydatki ogółem","x",-0.10551405541375325,0.27027319785876602,0.25429271116051222,-0.10926374223850477,-0.15612234126219038,0.1131639722863742,9.9585062240663547E-3]
["x","2.1","Wydatki bieżące","Wydatki bieżące, w tym:","x",-1.6955873627015117E-2,9.9788776213226127E-2,7.9527360847207795E-2,-8.7834379312926814E-2,2.4986707666224683E-2,2.4945295404813939E-2,2.4765157984628416E-2]
["x","2.1.1","z tytułu poręczeń i gwarancji","z tytułu poręczeń i gwarancji, w tym:","x","","","","","","",""]
["x","2.1.1.1","gwarancje i poręczenia podlegające wyłączeniu z limitów spłaty zobowiązań określonych w art. 243 ust. 3 pkt 2 ustawy z dnia 27 sierpnia 2009 r. o finansach publicznych (Dz. U. Nr 157, poz. 1240, z późn. zm.) lub art. 169 ust. 3 pkt 2 ustawy z dnia 30 czerwca 2005 r. o finansach publicznych (Dz. U. Nr 249, poz. 2104, z późn. zm)","gwarancje i poręczenia podlegające wyłączeniu z limitów spłaty zobowiązań określonych w art. 243 ust. 3 pkt 2 ustawy z dnia 27 sierpnia 2009 r. o finansach publicznych (Dz. U. Nr 157, poz. 1240, z późn. zm.) lub art. 169 ust. 3 pkt 2 ustawy z dnia 30 czerwca 2005 r. o finansach publicznych (Dz. U. Nr 249, poz. 2104, z późn. zm)","x","","","","","","",""]
[null,"2.1.2","na spłatę przejętych zobowiązań samodzielnego publicznego zakładu opieki zdrowotnej przekształconego na zasadach określonych w przepisach o działalności leczniczej, w wysokości w jakiej nie podlegają sfinansowaniu dotacją z budżetu państwa)","na spłatę przejętych zobowiązań samodzielnego publicznego zakładu opieki zdrowotnej przekształconego na zasadach określonych w przepisach o działalności leczniczej, w wysokości w jakiej nie podlegają sfinansowaniu dotacją z budżetu państwa)","x","","","","","","",""]
["x","2.1.3","Wydatki na obsługę długu","wydatki na obsługę długu, w tym:","x",1.0467268122082203,0.12083048111471428,-0.58706245432615789,-0.4285714285714286,-1,"",""]
["x","2.1.3.1","odsetki i dyskonto określone w art. 243 ust. 1 ustawy lub art. 169 ust. 1 ufp z 2005 r..","odsetki i dyskonto określone w art. 243 ust. 1 ustawy lub art. 169 ust. 1 ufp z 2005 r..","x",1.1737449921575482,0.14190117410278735,-0.57929956743581523,-0.4285714285714286,-1,"",""]
["x","2.2","Wydatki majątkowe","Wydatki majątkowe","x",-0.3306174622873338,0.90668278180747897,0.90668278180747897,-0.15455521886220713,-0.56910880961513866,0.59169139465875364,-4.1759880686055184E-2]
["x",3,"Wynik budżetu","Wynik budżetu","x",-3.3454182291613366,-1.4314335076940594,-1.6675211014476785,-1.4493146634651668,-1,"",""]
["x",4,"Przychody budżetu","Przychody budżetu","x",{"$f":"+IF(ISNONTEXT(E30),IF(E30<>0,F30/E30-1,\"\"),\"\")","v":-0.59983626920043398},0.76182162162321654,1.3417440270520662,{"$f":"+IF(ISNONTEXT(H30),IF(H30<>0,I30/H30-1,\"\"),\"\")","v":-1},"","",""]
["x","4.1","Nadwyżka budżetowa z lat ubiegłych, w tym:","Nadwyżka budżetowa z lat ubiegłych, w tym:","x","","","",-1,"","",""]
["x","4.1.1","na pokrycie deficytu budżetu","na pokrycie deficytu budżetu","x","","","",-1,"","",""]
["x","4.2","Wolne środki, o których mowa w art. 217 ust.2 pkt 6 ustawy, w tym:","Wolne środki, o których mowa w art. 217 ust.2 pkt 6 ustawy, w tym:","x",3.851827142758764,0.57611869316444686,0.57611869316444686,-1,"","",""]
["x","4.2.1","na pokrycie deficytu budżetu","na pokrycie deficytu budżetu","x","","","",-1,"","",""]
["x","4.3","Kredyty, pożyczki, emisja papierów wartościowych, w tym:","Kredyty, pożyczki, emisja papierów wartościowych, w tym:","x",-0.9387876751829527,-0.39864864864864868,-0.39864864864864868,-1,"","",""]
["x","4.3.1","na pokrycie deficytu budżetu","na pokrycie deficytu budżetu","x",-1,"","",-1,"","",""]
["x","4.4","Inne przychody niezwiązane z zaciągnięciem długu, w tym:","Inne przychody niezwiązane z zaciągnięciem długu, w tym:","x",-1,"","",-1,"","",""]
["x","4.4.1","na pokrycie deficytu budżetu","na pokrycie deficytu budżetu","x","","","","","","",""]
["x",5,"Rozchody budżetu","Rozchody budżetu","x",1.1680719176818504,-0.43407005548445943,-0.43407005548445943,4.9401586226385907E-2,-1,"",""]
["x","5.1","Spłaty rat kapitałowych kredytów i pożyczek oraz wykup papierów wartościowych","Spłaty rat kapitałowych kredytów i pożyczek oraz wykup papierów wartościowych, w tym:","x",1.1270097337106888,-0.42314470844528729,-0.42314470844528729,4.9401586226385907E-2,-1,"",""]
["x","5.1.1","łączna kwota przypadających na dany rok kwot wyłączeń określonych w: art. 243 ust. 3 pkt 1 ustawy (lub art. 169 ust. 3 pkt 1 ufp z 2005 r.), art. 121a ustawy z dnia 27 sierpnia 2009 r. – Przepisy wprowadzające ustawę o finansach publicznych (Dz. U. Nr 157, poz. 1241, z późn. zm.) oraz art. 36 ustawy z dnia 7 grudnia 2012 r. o zmianie niektórych ustaw związanych z realizacją ustawy budżetowej (Dz.U. poz. 1456), w tym:","łączna kwota przypadających na dany rok kwot wyłączeń określonych w: art. 243 ust. 3 pkt 1 ustawy (lub art. 169 ust. 3 pkt 1 ufp z 2005 r.), art. 121a ustawy z dnia 27 sierpnia 2009 r. – Przepisy wprowadzające ustawę o finansach publicznych (Dz. U. Nr 157, poz. 1241, z późn. zm.) oraz art. 36 ustawy z dnia 7 grudnia 2012 r. o zmianie niektórych ustaw związanych z realizacją ustawy budżetowej (Dz.U. poz. 1456), w tym:","x",7.7462818049932824E-2,-1,-1,"","","",""]
["x","5.1.1.1","kwota przypadających na dany rok kwot wyłączeń określonych w art. 243 ust. 3 pkt 1 ustawy lub art. 169 ust. 3 pkt 1 ufp z 2005 r.","kwota przypadających na dany rok kwot wyłączeń określonych w art. 243 ust. 3 pkt 1 ustawy lub art. 169 ust. 3 pkt 1 ufp z 2005 r.","x",7.7462818049932824E-2,-1,-1,"","","",""]
[null,"5.2","Inne rozchody niezwiązane ze spłatą długu","Inne rozchody niezwiązane ze spłatą długu","x","",-1,-1,"","","",""]
["x",6,"Kwota długu","Kwota długu","x",-0.44282078280973469,-0.45590977123612453,-0.45590977123612453,-1,"","",""]
[null,"6.1","Łączna kwota wyłączeń z ograniczeń długu określonych w art. 170 ust. 3 ufp z 2005 r. oraz w art. 36 ustawy o zmianie niektórych ustaw związanych z realizacją ustawy budżetowej, w tym: ","Łączna kwota wyłączeń z ograniczeń długu określonych w art. 170 ust. 3 ufp z 2005 r. oraz w art. 36 ustawy o zmianie niektórych ustaw związanych z realizacją ustawy budżetowej, w tym: ","x","","","","","","",""]
[null,"6.1.1","kwota wyłączeń z ograniczeń długu określonych w art. 170 ust. 3 ufp z 2005 r. ","kwota wyłączeń z ograniczeń długu określonych w art. 170 ust. 3 ufp z 2005 r. ","x",-1,"","","","","",""]
[null,"6.2","Wskaźnik z art. 170 ufp z 2005 r., bez uwzględniania wyłączeń","Wskaźnik zadłużenia do dochodów ogółem określony w art. 170 ufp z 2005 r., bez uwzględniania wyłączeń określonych w pkt 6.1.","x",-0.53471264367816085,-0.43181818181818177,-0.39723320158102771,-1,"","",""]
[null,"6.3","Wskaźnik z art. 170 ufp z 2005 r. po uwzględnieniu wyłączeń","Wskaźnik zadłużenia do dochodów ogółem, o którym mowa w art. 170 ufp z 2005 r., po uwzględnieniu wyłączeń określonych w pkt 6.1. ","x",-0.53471264367816085,-0.43181818181818177,-0.39723320158102771,-1,"","",""]
[null,7,"Kwota zobowiązań wynikających z przejęcia przez jednostkę samorządu terytorialnego zobowiązań po likwidowanych i przekształcanych jednostkach zaliczanych do sektora finansów publicznych","Kwota zobowiązań wynikających z przejęcia przez jednostkę samorządu terytorialnego zobowiązań po likwidowanych i przekształcanych jednostkach zaliczanych do sektora finansów publicznych","x","","","","","","",""]
[null,8,"Relacja zrównoważenia wydatków bieżących, o której mowa w art. 242 ustawy","Relacja zrównoważenia wydatków bieżących, o której mowa w art. 242 ustawy","x",{"$f":"+IF(ISNONTEXT(E50),IF(E50<>0,F50/E50-1,\"\"),\"\")","v":""},"","",{"$f":"+IF(ISNONTEXT(H50),IF(H50<>0,I50/H50-1,\"\"),\"\")","v":""},"","",""]
[null,"8.1","Różnica między dochodami bieżącymi a wydatkami bieżącymi","Różnica między dochodami bieżącymi a wydatkami bieżącymi","x",2.6959939951047351,-0.30514500161013658,-0.38432501280947795,3.8404641962402897E-2,-0.26883842886630394,0.59169139465875364,-4.1759880686055184E-2]
[null,"8.2","Różnica między dochodami bieżącymi, powiększonymi o nadwyżkę budżetową określoną w pkt 4.1. i wolne środki określone w pkt 4.2. a wydatkami bieżącymi, pomniejszonym o wydatki określone w pkt 2.1.2.","Różnica między dochodami bieżącymi, powiększonymi o nadwyżkę budżetową określoną w pkt 4.1. i wolne środki określone w pkt 4.2. a wydatkami bieżącymi, pomniejszonym o wydatki określone w pkt 2.1.2.","x",2.881132475798966,-5.8867418012780837E-2,1.297297770772543E-2,-0.49524508199476358,-0.26883842886630394,0.59169139465875364,-4.1759880686055184E-2]
["x",9,"Wskaźnik spłaty zobowiązań","Wskaźnik spłaty zobowiązań","x","x","x","x","x","x","x","x"]
[null,"9.1","Wskaźnik z art. 169 ust. 1 ufp z 2005 r. bez uwzględnienia wyłączeń","Wskaźnik planowanej łącznej kwoty spłaty zobowiązań, o której mowa w art. 169 ust. 1 ufp z 2005 r. do dochodów ogółem, bez uwzględnienia wyłączeń określonych w pkt 5.1.1. ","x","x","x","x","x","x","x","x"]
[null,"9.2","Wskaźnik z art. 169 ust. 1 ufp z 2005 r. po uwzględnieniu wyłączeń","Wskaźnik planowanej łącznej kwoty spłaty zobowiązań, o której mowa w art. 169 ust. 1 ufp z 2005 r. do dochodów ogółem, po uwzględnieniu wyłączeń przypadających na dany rok określonych w pkt 5.1.1. ","x","x","x","x","x","x","x","x"]
["x","9.3","Relacja [R+O]/D , bez uwzględnienia zobowiązań związku JST i bez uwzględniania wyłączeń","Wskaźnik planowanej łącznej kwoty spłaty zobowiązań, o której mowa w art. 243 ust. 1 ustawy do dochodów ogółem, bez uwzględnienia zobowiązań związku współtworzonego przez jednostkę samorządu terytorialnego i bez uwzględniania wyłączeń przypadających na dany rok określonych w pkt 5.1.1.","x","x","x","x","x","x","x","x"]
["x","9.4","Wskaźnik planowanej łącznej kwoty spłaty zobowiązań, o której mowa w art. 243 ust. 1 ustawy do dochodów ogółem, bez uwzględnienia zobowiązań związku współtworzonego przez jednostkę samorządu terytorialnego, po uwzględnieniu wyłączeń przypadających na dany rok określonych w pkt 5.1.1. ","Wskaźnik planowanej łącznej kwoty spłaty zobowiązań, o której mowa w art. 243 ust. 1 ustawy do dochodów ogółem, bez uwzględnienia zobowiązań związku współtworzonego przez jednostkę samorządu terytorialnego, po uwzględnieniu wyłączeń przypadających na dany rok określonych w pkt 5.1.1. ","x","x","x","x","x","x","x","x"]
["x","9.5","Kwota zobowiązań związku współtworzonego przez jednostkę samorządu terytorialnego przypadających do spłaty w danym roku budżetowym, podlegająca doliczeniu zgodnie z art. 244 ustawy ","Kwota zobowiązań związku współtworzonego przez jednostkę samorządu terytorialnego przypadających do spłaty w danym roku budżetowym, podlegająca doliczeniu zgodnie z art. 244 ustawy ","x",{"$f":"+IF(ISNONTEXT(E58),IF(E58<>0,F58/E58-1,\"\"),\"\")","v":""},{"$f":"+IF(ISNONTEXT(F58),IF(F58<>0,G58/F58-1,\"\"),\"\")","v":""},{"$f":"+IF(ISNONTEXT(F58),IF(F58<>0,H58/F58-1,\"\"),\"\")","v":""},{"$f":"+IF(ISNONTEXT(H58),IF(H58<>0,I58/H58-1,\"\"),\"\")","v":""},{"$f":"+IF(ISNONTEXT(I58),IF(I58<>0,J58/I58-1,\"\"),\"\")","v":""},{"$f":"+IF(ISNONTEXT(J58),IF(J58<>0,K58/J58-1,\"\"),\"\")","v":""},{"$f":"+IF(ISNONTEXT(K58),IF(K58<>0,L58/K58-1,\"\"),\"\")","v":""}]
["x","9.6","Relacja [R+O]/D , z uwzględnieniem zobowiązań związku JST i po uwzględnianiu wyłączeń","Wskaźnik planowanej łącznej kwoty spłaty zobowiązań, o której mowa w art. 243 ust. 1 ustawy do dochodów ogółem, po uwzględnieniu zobowiązań związku współtworzonego przez jednostkę samorządu terytorialnego oraz po uwzględnieniu wyłączeń przypadających na dany rok określonych w pkt 5.1.1.","x","x","x","x","x","x","x","x"]
["x","9.6.1","Wskaźnik jednoroczny (prawa strona wzoru z art. 243)","Wskaźnik jednoroczny (prawa strona wzoru z art. 243)","x","x","x","x","x","x","x","x"]
["x","9.7","Limit spłaty zobowiązań z art. 243 ustawy, po uwzględnieniu wyłączeń obliczony w oparciu o plan 3 kw. roku N-1","Dopuszczalny wskaźnik spłaty zobowiązań określony w art. 243 ustawy, po uwzględnieniu wyłączeń określonych w art. 36 ustawy z dnia 7 grudnia 2012 r. o zmianie niektórych ustaw związanych z realizacją ustawy budżetowej, obliczony w oparciu o plan 3 kwartałów roku poprzedzającego rok budżetowy","x","x","x","x","x","x","x","x"]
["x","9.7.1","Limit spłaty zobowiązań z art. 243 ustawy, po uwzględnieniu wyłączeń obliczony w oparciu o wykonanie 4 kw. roku N-1","Dopuszczalny wskaźnik spłaty zobowiązań określony w art. 243 ustawy, po uwzględnieniu wyłączeń określonych w art. 36 ustawy z dnia 7 grudnia 2012 r. o zmianie niektórych ustaw związanych z realizacją ustawy budżetowej, obliczony w oparciu o wykonanie roku poprzedzającego rok budżetowy","x","x","x","x","x","x","x","x"]
["x","9.8","Informacja o spełnieniu wskaźnika spłaty zobowiązań określonego w art. 243 ustawy, po uwzględnieniu zobowiązań związku współtworzonego przez jednostkę samorządu terytorialnego oraz po uwzględnieniu wyłączeń określonych w pkt 5.1.1., obliczonego w oparciu o plan 3 kwartałów roku poprzedzającego rok budżetowy","Informacja o spełnieniu wskaźnika spłaty zobowiązań określonego w art. 243 ustawy, po uwzględnieniu zobowiązań związku współtworzonego przez jednostkę samorządu terytorialnego oraz po uwzględnieniu wyłączeń określonych w pkt 5.1.1., obliczonego w oparciu o plan 3 kwartałów roku poprzedzającego rok budżetowy","x","x","x","x","x","x","x","x"]
["x","9.8.1","Informacja o spełnieniu wskaźnika spłaty zobowiązań określonego w art. 243 ustawy, po uwzględnieniu zobowiązań związku współtworzonego przez jednostkę samorządu terytorialnego oraz po uwzględnieniu wyłączeń określonych w pkt 5.1.1., obliczonego w oparciu o wykonanie roku poprzedzającego rok budżetowy","Informacja o spełnieniu wskaźnika spłaty zobowiązań określonego w art. 243 ustawy, po uwzględnieniu zobowiązań związku współtworzonego przez jednostkę samorządu terytorialnego oraz po uwzględnieniu wyłączeń określonych w pkt 5.1.1., obliczonego w oparciu o wykonanie roku poprzedzającego rok budżetowy","x","x","x","x","x","x","x","x"]
[null,10,"Przeznaczenie prognozowanej nadwyżki budżetowej, w tym na:","Przeznaczenie prognozowanej nadwyżki budżetowej, w tym na:","x",{"$f":"+IF(ISNONTEXT(E65),IF(E65<>0,F65/E65-1,\"\"),\"\")","v":""},"",{"$f":"+IF(ISNONTEXT(F65),IF(F65<>0,H65/F65-1,\"\"),\"\")","v":""},{"$f":"+IF(ISNONTEXT(H65),IF(H65<>0,I65/H65-1,\"\"),\"\")","v":""},-1,"",""]
[null,"10.1","Spłaty kredytów, pożyczek i wykup papierów wartościowych","Spłaty kredytów, pożyczek i wykup papierów wartościowych","x","","","","",-1,"",""]
[null,11,"Informacje uzupełniające o wybranych rodzajach wydatków budżetowych","Informacje uzupełniające o wybranych rodzajach wydatków budżetowych","x","","","","","","",""]
[null,"11.1","Wydatki na wynagrodzenia i składki od nich naliczane","Wydatki bieżące na wynagrodzenia i składki od nich naliczane","x",-6.0726135609805998E-2,5.6339006936904079E-2,1.5586353153383747E-2,-1.6389290618043395E-2,2.499980202120744E-2,2.4983084735524796E-2,2.4999999999999911E-2]
[null,"11.2","Wydatki związane z funkcjonowaniem organów JST","Wydatki związane z funkcjonowaniem organów jednostki samorządu terytorialnego","x",2.9909455787398898E-2,3.6585346360139104E-2,3.6585346360139104E-2,-2.6389204562596857E-3,1.4666072414110776E-2,2.4999999999999911E-2,2.4991354988413983E-2]
[null,"11.3","Wydatki objęte limitem art. 226 ust. 3 ustawy, z tego:","Wydatki objęte limitem art. 226 ust. 3 ustawy, z tego:","x",-0.51448646489850058,3.9329101389143819,3.9329101389143819,-0.99145669461234487,24.897689768976896,-1,""]
[null,"11.3.1","Wydatki bieżące objęte limitem art. 226 ust. 3","bieżące","x",0.27367570913618833,-7.4899768348274498E-2,-7.4899768348274498E-2,-1,"","",""]
[null,"11.3.2","Wydatki majątkowe objęte limitem art. 226 ust. 3","majątkowe","x",-0.58598434428943069,5.0513864481643473,5.0513864481643473,-0.99109220974053636,24.897689768976896,-1,""]
[null,"11.4","Wydatki inwestycyjne kontynuowane ","Wydatki inwestycyjne kontynuowane ","x",-0.28842712375252488,3.0734732341752435,3.0734732341752435,-1,"",-1,""]
[null,"11.5","Nowe wydatki inwestycyjne","Nowe wydatki inwestycyjne","x",-0.35082159984591121,-0.25519681789257043,-0.25519681789257043,2.3003927049547666,-0.76977368622938247,1.9790069976674443,-4.1759880686055184E-2]
[null,"11.6","Wydatki majątkowe w formie dotacji ","Wydatki majątkowe w formie dotacji ","x","","","",-1,"","",""]
[null,12,"Finansowanie programów, projektów lub zadań realizowanych z udziałem środków, o których mowa w art. 5 ust. 1 pkt 2 i 3 ustawy","Finansowanie programów, projektów lub zadań realizowanych z udziałem środków, o których mowa w art. 5 ust. 1 pkt 2 i 3 ustawy","x","","","","","","",""]
[null,"12.1","Dochody bieżące na programy, projekty lub zadania finansowane z udziałem środków, o których mowa w art. 5 ust. 1 pkt 2 i 3 ustawy, w tym:","Dochody bieżące na programy, projekty lub zadania finansowane z udziałem środków, o których mowa w art. 5 ust. 1 pkt 2 i 3 ustawy, w tym:","x",0.72649839380264525,-0.38920392109301116,-0.38920392109301116,-1,"","",""]
[null,"12.1.1","środki określone w art. 5 ust. 1 pkt 2 ustawy, w tym:","środki określone w art. 5 ust. 1 pkt 2 ustawy, w tym:","x",0.54203582815727547,-0.40129535935876137,-0.40129535935876137,-1,"","",""]
[null,"12.1.1.1","środki określone w art. 5 ust. 1 pkt 2 ustawy wynikające wyłącznie z zawartych umów na realizację programu, projektu lub zadania","środki określone w art. 5 ust. 1 pkt 2 ustawy wynikające wyłącznie z zawartych umów na realizację programu, projektu lub zadania","x","","","",-1,"","",""]
[null,"12.2","Dochody majątkowe na programy, projekty lub zadania finansowane z udziałem środków, o których mowa w art. 5 ust. 1 pkt 2 i 3 ustawy, w tym:","Dochody majątkowe na programy, projekty lub zadania finansowane z udziałem środków, o których mowa w art. 5 ust. 1 pkt 2 i 3 ustawy, w tym:","x",-2.7460961422534846E-2,-0.58438395906070384,-0.58438395906070384,4.1748386575931846,-1,"",""]
[null,"12.2.1","środki określone w art. 5 ust. 1 pkt 2 ustawy, w tym:","środki określone w art. 5 ust. 1 pkt 2 ustawy, w tym:","x",-0.20721525181985523,-0.71841042477773254,-0.71841042477773254,8.0902227839829415,-1,"",""]
[null,"12.2.1.1","środki określone w art. 5 ust. 1 pkt 2 ustawy wynikające wyłącznie z zawartych umów na realizację programu, projektu lub zadania","środki określone w art. 5 ust. 1 pkt 2 ustawy wynikające wyłącznie z zawartych umów na realizację programu, projektu lub zadania","x","","","",-1,"","",""]
[null,"12.3","Wydatki bieżące na programy, projekty lub zadania finansowane z udziałem środków, o których mowa w art. 5 ust. 1 pkt 2 i 3 ustawy","Wydatki bieżące na programy, projekty lub zadania finansowane z udziałem środków, o których mowa w art. 5 ust. 1 pkt 2 i 3 ustawy","x",0.27367570913618833,-7.4899768348274498E-2,-7.4899768348274498E-2,-1,"","",""]
[null,"12.3.1","w tym finansowane środkami określonymi w art. 5 ust. 1 pkt 2 ustawy ","w tym finansowane środkami określonymi w art. 5 ust. 1 pkt 2 ustawy ","x",0.28152941448557023,-7.6311840013874144E-2,-7.6311840013874144E-2,-1,"","",""]
[null,"12.3.2","Wydatki bieżące na realizację programu, projektu lub zadania wynikające wyłącznie z zawartych umów z podmiotem dysponującym środkami, o których mowa w art. 5 ust. 1 pkt 2 ustawy ","Wydatki bieżące na realizację programu, projektu lub zadania wynikające wyłącznie z zawartych umów z podmiotem dysponującym środkami, o których mowa w art. 5 ust. 1 pkt 2 ustawy ","x",{"$f":"+IF(ISNONTEXT(E85),IF(E85<>0,F85/E85-1,\"\"),\"\")","v":""},"","",{"$f":"+IF(ISNONTEXT(H85),IF(H85<>0,I85/H85-1,\"\"),\"\")","v":-1},"","",""]
[null,"12.4","Wydatki majątkowe na programy, projekty lub zadania finansowane z udziałem środków, o których mowa w art. 5 ust. 1 pkt 2 i 3 ustawy","Wydatki majątkowe na programy, projekty lub zadania finansowane z udziałem środków, o których mowa w art. 5 ust. 1 pkt 2 i 3 ustawy","x",-0.13644997796670433,5.0513864481643473,5.0513864481643473,-1,"","",""]
[null,"12.4.1","w tym finansowane środkami określonymi w art. 5 ust. 1 pkt 2 ustawy","w tym finansowane środkami określonymi w art. 5 ust. 1 pkt 2 ustawy","x",-0.66076756492417332,14.404408188374569,14.404408188374569,-1,"","",""]
[null,"12.4.2","Wydatki majątkowe na realizację programu, projektu lub zadania wynikające wyłącznie z zawartych umów z podmiotem dysponującym środkami, o których mowa w art. 5 ust. 1 pkt 2 ustawy ","Wydatki majątkowe na realizację programu, projektu lub zadania wynikające wyłącznie z zawartych umów z podmiotem dysponującym środkami, o których mowa w art. 5 ust. 1 pkt 2 ustawy ","x","","","",-1,"","",""]
[null,13,"Kwoty dotyczące przejęcia i spłaty zobowiązań po samodzielnych publicznych zakładach opieki zdrowotnej oraz pokrycia ujemnego wyniku ","Kwoty dotyczące przejęcia i spłaty zobowiązań po samodzielnych publicznych zakładach opieki zdrowotnej oraz pokrycia ujemnego wyniku ","x","","","","","","",""]
[null,"13.1","Kwota zobowiązań wynikających z przejęcia przez jednostkę samorządu terytorialnego zobowiązań po likwidowanych i przekształcanych samodzielnych zakładach opieki zdrowotnej","Kwota zobowiązań wynikających z przejęcia przez jednostkę samorządu terytorialnego zobowiązań po likwidowanych i przekształcanych samodzielnych zakładach opieki zdrowotnej","x","","","","","","",""]
[null,"13.2","Dochody budżetowe z tytułu dotacji celowej z budżetu państwa, o której mowa w art. 196 ustawy z dnia 15 kwietnia 2011 r. o działalności leczniczej (Dz.U. Nr 112, poz. 654, z późn. zm.)","Dochody budżetowe z tytułu dotacji celowej z budżetu państwa, o której mowa w art. 196 ustawy z dnia 15 kwietnia 2011 r. o działalności leczniczej (Dz.U. Nr 112, poz. 654, z późn. zm.)","x","","","","","","",""]
[null,"13.3","Wysokość zobowiązań podlegających umorzeniu, o którym mowa w art. 190 ustawy o działalności leczniczej","Wysokość zobowiązań podlegających umorzeniu, o którym mowa w art. 190 ustawy o działalności leczniczej","x","","","","","","",""]
[null,"13.4","Wydatki na spłatę przejętych zobowiązań samodzielnego publicznego zakładu opieki zdrowotnej przekształconego na zasadach określonych w przepisach o działalności leczniczej","Wydatki na spłatę przejętych zobowiązań samodzielnego publicznego zakładu opieki zdrowotnej przekształconego na zasadach określonych w przepisach o działalności leczniczej","x","","","","","","",""]
[null,"13.5","Wydatki na spłatę przejętych zobowiązań samodzielnego publicznego zakładu opieki zdrowotnej likwidowanego na zasadach określonych w przepisach o działalności leczniczej","Wydatki na spłatę przejętych zobowiązań samodzielnego publicznego zakładu opieki zdrowotnej likwidowanego na zasadach określonych w przepisach o działalności leczniczej","x","","","","","","",""]
[null,"13.6","Wydatki na spłatę zobowiązań samodzielnego publicznego zakładu opieki zdrowotnej przejętych do końca 2011 r. na podstawie przepisów o zakładach opieki zdrowotnej","Wydatki na spłatę zobowiązań samodzielnego publicznego zakładu opieki zdrowotnej przejętych do końca 2011 r. na podstawie przepisów o zakładach opieki zdrowotnej","x","","","","","","",""]
[null,"13.7","Wydatki bieżące na pokrycie ujemnego wyniku finansowego samodzielnego publicznego zakładu opieki zdrowotnej","Wydatki bieżące na pokrycie ujemnego wyniku finansowego samodzielnego publicznego zakładu opieki zdrowotnej","x","","","","","","",""]
["x",14,"Dane uzupełniające o długu i jego spłacie","Dane uzupełniające o długu i jego spłacie","x","","","","","","",""]
["x","14.1","Spłaty rat kapitałowych oraz wykup papierów wartościowych, o których mowa w pkt. 5.1., wynikające wyłącznie z tytułu zobowiązań już zaciągniętych","Spłaty rat kapitałowych oraz wykup papierów wartościowych, o których mowa w pkt. 5.1., wynikające wyłącznie z tytułu zobowiązań już zaciągniętych","x",1.1270097337106888,-0.42314470844528729,-0.42314470844528729,4.9401586226385907E-2,-1,"",""]
["x","14.2","Kwota długu, którego planowana spłata dokona się z wydatków budżetu","Kwota długu, którego planowana spłata dokona się z wydatków budżetu","x","","","","","","",""]
["x","14.3","Wydatki zmniejszające dług, w tym:","Wydatki zmniejszające dług, w tym:","x","","","","","","",""]
["x","14.3.1","spłata zobowiązań wymagalnych z lat poprzednich, innych niż w pkt 14.3.3","spłata zobowiązań wymagalnych z lat poprzednich, innych niż w pkt 14.3.3","x","","","","","","",""]
["x","14.3.2","związane z umowami zaliczanymi do tytułów dłużnych wliczanych w państwowy dług publiczny","związane z umowami zaliczanymi do tytułów dłużnych wliczanych w państwowy dług publiczny","x","","","","","","",""]
["x","14.3.3","wypłaty z tytułu wymagalnych poręczeń i gwarancji","wypłaty z tytułu wymagalnych poręczeń i gwarancji","x","","","","","","",""]
["x","14.4","Wynik operacji niekasowych wpływających na kwotę długu (m.in. umorzenia, różnice kursowe)","Wynik operacji niekasowych wpływających na kwotę długu (m.in. umorzenia, różnice kursowe)","x","","","","","","",""]

{"sheet":"rysunki","index":1,"n_rows":116,"n_cols":9,"rows_kept":116,"cut":false,"hidden":false,"merged":[]}
["Analiza graficzna danych z WPF",null,null,null,null,null,null,null,{"$f":"Zał.1_WPF_bazowy!D5&\" - \"&\"WPF za lata \"&Zał.1_WPF_bazowy!D6&\" - Nr Uchwały JST: \"&Zał.1_WPF_bazowy!D4","v":"KRZYŻANÓW - WPF za lata 2014 - 2017 - Nr Uchwały JST: 1"}]
[]
[]
[]
[]
[]
[]
[]
[]
[]
[]
[]
[]
[]
[]
[]
[]
[]
[]
[]
[]
[]
[]
[]
[]
[]
[]
[]
[]
[]
[]
[]
[]
[]
[]
[]
[]
[]
[]
[]
[]
[]
[]
[]
[]
[]
[]
[]
[]
[]
[]
[]
[]
[]
[]
[]
[]
[]
[]
[]
[]
[]
[]
[]
[]
[]
[]
[]
[]
[]
[]
[]
[]
[]
[]
[]
[]
[]
[]
[]
[]
[]
[]
[]
[]
[]
[]
[]
[]
[]
[]
[]
[]
[]
[]
[]
[]
[]
[null,"Rysunek z wskaźnikiem planistycznym",null,null,null,null,null,null,"Rysunek z wskaźnikiem planistycznym"]
[]
[]
[]
[]
[]
[]
[]
[]
[]
[]
[]
[]
[]
[]
[]
[]
[null,"Rysunek z wskaźnikiem wg wykonania",null,null,null,null,null,null,"Rysunek z wskaźnikiem wg wykonania"]

{"sheet":"WPF_AnalizaWsk_ProjektowanieJST","index":2,"n_rows":233,"n_cols":38,"rows_kept":233,"cut":false,"hidden":false,"merged":[[0,5,0,15],[1,5,1,15],[2,5,2,15],[7,4,7,5]]}
[null,"Zestawienie wygenerowane na podstawie danych wprowadzonych do systemu BESTI@",null,null,null,"Pola z tłem tego koloru są obliczane automatycznie i nie powinny być nadpisywane w celu ochrony formuł"]
[null,"Niniejsze zestawienie można samodzielnie formatować i modyfikować wartości",null,null,null,"Pola z tłem tego koloru są obliczane automatycznie"]
[null,"Układ WPF wg Rozporządzenia Ministra Finansów z dnia 10.01.2013 (Dz.U. z 2013 r., poz. 86)",null,null,null,"Pola z tłem tego koloru można edytowac wprowadzając nowe wartości (projektowanie WPF i obliczanie wskaźników)"]
[]
[null,"Nr Uchwały:",null,{"$f":"DaneZrodlowe!B4","v":"1"},null,null,null,null,{"$f":"D6&\" - \"&\"WPF za lata \"&D7&\" - Nr Uchwały JST: \"&D5","v":"KRZYŻANÓW - WPF za lata 2014 - 2017 - Nr Uchwały JST: 1"}]
[null,"Nazwa JST:",null,{"$f":"DaneZrodlowe!C4","v":"KRZYŻANÓW"}]
[null,"WPF za lata:",null,{"$f":"CONCATENATE(DaneZrodlowe!N1,\" - \",DaneZrodlowe!Q1)","v":"2014 - 2017"}]
[null,null,null,null,"Wykonanie ",null,"Plan 3 kw.","Wykonanie ",{"$f":"\"\"","v":""}]
["X","Lp.","Formuła","Wyszczególnienie",{"$f":"+F9-1","v":2011},{"$f":"+G9-1","v":2012},{"$f":"+H9","v":2013},{"$f":"+I9-1","v":2013},{"$f":"+DaneZrodlowe!$N$1","v":2014},{"$f":"+I9+1","v":2015},{"$f":"+J9+1","v":2016},2017,2018,2019,2020,2021,2022,2023,2024,2025,2026,2027,2028,2029,2030,2031,2032,2033,2034,2035,2036,2037,2038,2039,2040,2041,2042,2043]
["x",1,"[1.1]+[1.2]","Dochody ogółem",{"$f":"Zał.1_WPF_bazowy!E10","v":11735693.560000001},{"$f":"Zał.1_WPF_bazowy!F10","v":14062028.15},{"$f":"Zał.1_WPF_bazowy!G10","v":13471394.42},{"$f":"+H11+H18","v":12678694},{"$f":"+I11+I18","v":13601645},{"$f":"+J11+J18","v":10825000},12050000,12170000,{"$error":"#REF!"},{"$error":"#REF!"},{"$error":"#REF!"},{"$error":"#REF!"},{"$error":"#REF!"},{"$error":"#REF!"},{"$error":"#REF!"},{"$error":"#REF!"},{"$error":"#REF!"},{"$error":"#REF!"},{"$error":"#REF!"},{"$error":"#REF!"},{"$error":"#REF!"},{"$error":"#REF!"},{"$error":"#REF!"},{"$error":"#REF!"},{"$error":"#REF!"},{"$error":"#REF!"},{"$error":"#REF!"},{"$error":"#REF!"},{"$error":"#REF!"},{"$error":"#REF!"},{"$error":"#REF!"},{"$error":"#REF!"},{"$error":"#REF!"},{"$error":"#REF!"}]
["x","1.1",null,"Dochody bieżące, w tym:",{"$f":"Zał.1_WPF_bazowy!E11","v":10187163.27},{"$f":"Zał.1_WPF_bazowy!F11","v":12660364.539999999},{"$f":"Zał.1_WPF_bazowy!G11","v":12464064.42},{"$f":"Zał.1_WPF_bazowy!H11","v":11995164},{"$f":"+Zał.1_WPF_bazowy!I11","v":11221741},{"$f":"+Zał.1_WPF_bazowy!J11","v":10825000},{"$f":"+Zał.1_WPF_bazowy!K11","v":12050000},{"$f":"+Zał.1_WPF_bazowy!L11","v":12170000},{"$f":"+Zał.1_WPF_bazowy!#REF!","v":{"$error":"#REF!"}},{"$f":"+Zał.1_WPF_bazowy!#REF!","v":{"$error":"#REF!"}},{"$f":"+Zał.1_WPF_bazowy!#REF!","v":{"$error":"#REF!"}},{"$f":"+Zał.1_WPF_bazowy!#REF!","v":{"$error":"#REF!"}},{"$f":"+Zał.1_WPF_bazowy!#REF!","v":{"$error":"#REF!"}},{"$f":"+Zał.1_WPF_bazowy!#REF!","v":{"$error":"#REF!"}},{"$f":"+Zał.1_WPF_bazowy!#REF!","v":{"$error":"#REF!"}},{"$f":"+Zał.1_WPF_bazowy!#REF!","v":{"$error":"#REF!"}},{"$f":"+Zał.1_WPF_bazowy!#REF!","v":{"$error":"#REF!"}},{"$f":"+Zał.1_WPF_bazowy!#REF!","v":{"$error":"#REF!"}},{"$f":"+Zał.1_WPF_bazowy!#REF!","v":{"$error":"#REF!"}},{"$f":"+Zał.1_WPF_bazowy!#REF!","v":{"$error":"#REF!"}},{"$f":"+Zał.1_WPF_bazowy!#REF!","v":{"$error":"#REF!"}},{"$f":"+Zał.1_WPF_bazowy!#REF!","v":{"$error":"#REF!"}},{"$f":"+Zał.1_WPF_bazowy!#REF!","v":{"$error":"#REF!"}},{"$f":"+Zał.1_WPF_bazowy!#REF!","v":{"$error":"#REF!"}},{"$f":"+Zał.1_WPF_bazowy!#REF!","v":{"$error":"#REF!"}},{"$f":"+Zał.1_WPF_bazowy!#REF!","v":{"$error":"#REF!"}},{"$f":"+Zał.1_WPF_bazowy!#REF!","v":{"$error":"#REF!"}},{"$f":"+Zał.1_WPF_bazowy!#REF!","v":{"$error":"#REF!"}},{"$f":"+Zał.1_WPF_bazowy!#REF!","v":{"$error":"#REF!"}},{"$f":"+Zał.1_WPF_bazowy!#REF!","v":{"$error":"#REF!"}},{"$f":"+Zał.1_WPF_bazowy!#REF!","v":{"$error":"#REF!"}},{"$f":"+Zał.1_WPF_bazowy!#REF!","v":{"$error":"#REF!"}},{"$f":"+Zał.1_WPF_bazowy!#REF!","v":{"$error":"#REF!"}},{"$f":"+Zał.1_WPF_bazowy!#REF!","v":{"$error":"#REF!"}}]
[null,"1.1.1",null,"dochody z tytułu udziału we wpływach z podatku dochodowego od osób fizycznych",{"$f":"Zał.1_WPF_bazowy!E12","v":976091},{"$f":"Zał.1_WPF_bazowy!F12","v":1398132},{"$f":"Zał.1_WPF_bazowy!G12","v":1443005},{"$f":"Zał.1_WPF_bazowy!H12","v":1443005},{"$f":"+Zał.1_WPF_bazowy!I12","v":1335088},{"$f":"+Zał.1_WPF_bazowy!J12","v":1335088},{"$f":"+Zał.1_WPF_bazowy!K12","v":1335088},{"$f":"+Zał.1_WPF_bazowy!L12","v":1335088},{"$f":"+Zał.1_WPF_bazowy!#REF!","v":{"$error":"#REF!"}},{"$f":"+Zał.1_WPF_bazowy!#REF!","v":{"$error":"#REF!"}},{"$f":"+Zał.1_WPF_bazowy!#REF!","v":{"$error":"#REF!"}},{"$f":"+Zał.1_WPF_bazowy!#REF!","v":{"$error":"#REF!"}},{"$f":"+Zał.1_WPF_bazowy!#REF!","v":{"$error":"#REF!"}},{"$f":"+Zał.1_WPF_bazowy!#REF!","v":{"$error":"#REF!"}},{"$f":"+Zał.1_WPF_bazowy!#REF!","v":{"$error":"#REF!"}},{"$f":"+Zał.1_WPF_bazowy!#REF!","v":{"$error":"#REF!"}},{"$f":"+Zał.1_WPF_bazowy!#REF!","v":{"$error":"#REF!"}},{"$f":"+Zał.1_WPF_bazowy!#REF!","v":{"$error":"#REF!"}},{"$f":"+Zał.1_WPF_bazowy!#REF!","v":{"$error":"#REF!"}},{"$f":"+Zał.1_WPF_bazowy!#REF!","v":{"$error":"#REF!"}},{"$f":"+Zał.1_WPF_bazowy!#REF!","v":{"$error":"#REF!"}},{"$f":"+Zał.1_WPF_bazowy!#REF!","v":{"$error":"#REF!"}},{"$f":"+Zał.1_WPF_bazowy!#REF!","v":{"$error":"#REF!"}},{"$f":"+Zał.1_WPF_bazowy!#REF!","v":{"$error":"#REF!"}},{"$f":"+Zał.1_WPF_bazowy!#REF!","v":{"$error":"#REF!"}},{"$f":"+Zał.1_WPF_bazowy!#REF!","v":{"$error":"#REF!"}},{"$f":"+Zał.1_WPF_bazowy!#REF!","v":{"$error":"#REF!"}},{"$f":"+Zał.1_WPF_bazowy!#REF!","v":{"$error":"#REF!"}},{"$f":"+Zał.1_WPF_bazowy!#REF!","v":{"$error":"#REF!"}},{"$f":"+Zał.1_WPF_bazowy!#REF!","v":{"$error":"#REF!"}},{"$f":"+Zał.1_WPF_bazowy!#REF!","v":{"$error":"#REF!"}},{"$f":"+Zał.1_WPF_bazowy!#REF!","v":{"$error":"#REF!"}},{"$f":"+Zał.1_WPF_bazowy!#REF!","v":{"$error":"#REF!"}},{"$f":"+Zał.1_WPF_bazowy!#REF!","v":{"$error":"#REF!"}}]
[null,"1.1.2",null,"dochody z tytułu udziału we wpływach z podatku dochodowego od osób prawnych",{"$f":"Zał.1_WPF_bazowy!E13","v":7359.96},{"$f":"Zał.1_WPF_bazowy!F13","v":873.76},{"$f":"Zał.1_WPF_bazowy!G13","v":1000},{"$f":"Zał.1_WPF_bazowy!H13","v":1000},{"$f":"+Zał.1_WPF_bazowy!I13","v":1000},{"$f":"+Zał.1_WPF_bazowy!J13","v":1000},{"$f":"+Zał.1_WPF_bazowy!K13","v":1000},{"$f":"+Zał.1_WPF_bazowy!L13","v":1000},{"$f":"+Zał.1_WPF_bazowy!#REF!","v":{"$error":"#REF!"}},{"$f":"+Zał.1_WPF_bazowy!#REF!","v":{"$error":"#REF!"}},{"$f":"+Zał.1_WPF_bazowy!#REF!","v":{"$error":"#REF!"}},{"$f":"+Zał.1_WPF_bazowy!#REF!","v":{"$error":"#REF!"}},{"$f":"+Zał.1_WPF_bazowy!#REF!","v":{"$error":"#REF!"}},{"$f":"+Zał.1_WPF_bazowy!#REF!","v":{"$error":"#REF!"}},{"$f":"+Zał.1_WPF_bazowy!#REF!","v":{"$error":"#REF!"}},{"$f":"+Zał.1_WPF_bazowy!#REF!","v":{"$error":"#REF!"}},{"$f":"+Zał.1_WPF_bazowy!#REF!","v":{"$error":"#REF!"}},{"$f":"+Zał.1_WPF_bazowy!#REF!","v":{"$error":"#REF!"}},{"$f":"+Zał.1_WPF_bazowy!#REF!","v":{"$error":"#REF!"}},{"$f":"+Zał.1_WPF_bazowy!#REF!","v":{"$error":"#REF!"}},{"$f":"+Zał.1_WPF_bazowy!#REF!","v":{"$error":"#REF!"}},{"$f":"+Zał.1_WPF_bazowy!#REF!","v":{"$error":"#REF!"}},{"$f":"+Zał.1_WPF_bazowy!#REF!","v":{"$error":"#REF!"}},{"$f":"+Zał.1_WPF_bazowy!#REF!","v":{"$error":"#REF!"}},{"$f":"+Zał.1_WPF_bazowy!#REF!","v":{"$error":"#REF!"}},{"$f":"+Zał.1_WPF_bazowy!#REF!","v":{"$error":"#REF!"}},{"$f":"+Zał.1_WPF_bazowy!#REF!","v":{"$error":"#REF!"}},{"$f":"+Zał.1_WPF_bazowy!#REF!","v":{"$error":"#REF!"}},{"$f":"+Zał.1_WPF_bazowy!#REF!","v":{"$error":"#REF!"}},{"$f":"+Zał.1_WPF_bazowy!#REF!","v":{"$error":"#REF!"}},{"$f":"+Zał.1_WPF_bazowy!#REF!","v":{"$error":"#REF!"}},{"$f":"+Zał.1_WPF_bazowy!#REF!","v":{"$error":"#REF!"}},{"$f":"+Zał.1_WPF_bazowy!#REF!","v":{"$error":"#REF!"}},{"$f":"+Zał.1_WPF_bazowy!#REF!","v":{"$error":"#REF!"}}]
[null,"1.1.3",null,"podatki i opłaty, w tym:",{"$f":"Zał.1_WPF_bazowy!E14","v":3093016.26},{"$f":"Zał.1_WPF_bazowy!F14","v":4719070.97},{"$f":"Zał.1_WPF_bazowy!G14","v":3848642.4},{"$f":"Zał.1_WPF_bazowy!H14","v":3379742},{"$f":"+Zał.1_WPF_bazowy!I14","v":4152101},{"$f":"+Zał.1_WPF_bazowy!J14","v":4194000},{"$f":"+Zał.1_WPF_bazowy!K14","v":5356000},{"$f":"+Zał.1_WPF_bazowy!L14","v":5410000},{"$f":"+Zał.1_WPF_bazowy!#REF!","v":{"$error":"#REF!"}},{"$f":"+Zał.1_WPF_bazowy!#REF!","v":{"$error":"#REF!"}},{"$f":"+Zał.1_WPF_bazowy!#REF!","v":{"$error":"#REF!"}},{"$f":"+Zał.1_WPF_bazowy!#REF!","v":{"$error":"#REF!"}},{"$f":"+Zał.1_WPF_bazowy!#REF!","v":{"$error":"#REF!"}},{"$f":"+Zał.1_WPF_bazowy!#REF!","v":{"$error":"#REF!"}},{"$f":"+Zał.1_WPF_bazowy!#REF!","v":{"$error":"#REF!"}},{"$f":"+Zał.1_WPF_bazowy!#REF!","v":{"$error":"#REF!"}},{"$f":"+Zał.1_WPF_bazowy!#REF!","v":{"$error":"#REF!"}},{"$f":"+Zał.1_WPF_bazowy!#REF!","v":{"$error":"#REF!"}},{"$f":"+Zał.1_WPF_bazowy!#REF!","v":{"$error":"#REF!"}},{"$f":"+Zał.1_WPF_bazowy!#REF!","v":{"$error":"#REF!"}},{"$f":"+Zał.1_WPF_bazowy!#REF!","v":{"$error":"#REF!"}},{"$f":"+Zał.1_WPF_bazowy!#REF!","v":{"$error":"#REF!"}},{"$f":"+Zał.1_WPF_bazowy!#REF!","v":{"$error":"#REF!"}},{"$f":"+Zał.1_WPF_bazowy!#REF!","v":{"$error":"#REF!"}},{"$f":"+Zał.1_WPF_bazowy!#REF!","v":{"$error":"#REF!"}},{"$f":"+Zał.1_WPF_bazowy!#REF!","v":{"$error":"#REF!"}},{"$f":"+Zał.1_WPF_bazowy!#REF!","v":{"$error":"#REF!"}},{"$f":"+Zał.1_WPF_bazowy!#REF!","v":{"$error":"#REF!"}},{"$f":"+Zał.1_WPF_bazowy!#REF!","v":{"$error":"#REF!"}},{"$f":"+Zał.1_WPF_bazowy!#REF!","v":{"$error":"#REF!"}},{"$f":"+Zał.1_WPF_bazowy!#REF!","v":{"$error":"#REF!"}},{"$f":"+Zał.1_WPF_bazowy!#REF!","v":{"$error":"#REF!"}},{"$f":"+Zał.1_WPF_bazowy!#REF!","v":{"$error":"#REF!"}},{"$f":"+Zał.1_WPF_bazowy!#REF!","v":{"$error":"#REF!"}}]
[null,"1.1.3.1",null,"z podatku od nieruchomości",{"$f":"Zał.1_WPF_bazowy!E15","v":849319.19},{"$f":"Zał.1_WPF_bazowy!F15","v":1608877.11},{"$f":"Zał.1_WPF_bazowy!G15","v":1644617.4},{"$f":"Zał.1_WPF_bazowy!H15","v":1644617.4},{"$f":"+Zał.1_WPF_bazowy!I15","v":1657389},{"$f":"+Zał.1_WPF_bazowy!J15","v":1674000},{"$f":"+Zał.1_WPF_bazowy!K15","v":2811000},{"$f":"+Zał.1_WPF_bazowy!L15","v":2839000},{"$f":"+Zał.1_WPF_bazowy!#REF!","v":{"$error":"#REF!"}},{"$f":"+Zał.1_WPF_bazowy!#REF!","v":{"$error":"#REF!"}},{"$f":"+Zał.1_WPF_bazowy!#REF!","v":{"$error":"#REF!"}},{"$f":"+Zał.1_WPF_bazowy!#REF!","v":{"$error":"#REF!"}},{"$f":"+Zał.1_WPF_bazowy!#REF!","v":{"$error":"#REF!"}},{"$f":"+Zał.1_WPF_bazowy!#REF!","v":{"$error":"#REF!"}},{"$f":"+Zał.1_WPF_bazowy!#REF!","v":{"$error":"#REF!"}},{"$f":"+Zał.1_WPF_bazowy!#REF!","v":{"$error":"#REF!"}},{"$f":"+Zał.1_WPF_bazowy!#REF!","v":{"$error":"#REF!"}},{"$f":"+Zał.1_WPF_bazowy!#REF!","v":{"$error":"#REF!"}},{"$f":"+Zał.1_WPF_bazowy!#REF!","v":{"$error":"#REF!"}},{"$f":"+Zał.1_WPF_bazowy!#REF!","v":{"$error":"#REF!"}},{"$f":"+Zał.1_WPF_bazowy!#REF!","v":{"$error":"#REF!"}},{"$f":"+Zał.1_WPF_bazowy!#REF!","v":{"$error":"#REF!"}},{"$f":"+Zał.1_WPF_bazowy!#REF!","v":{"$error":"#REF!"}},{"$f":"+Zał.1_WPF_bazowy!#REF!","v":{"$error":"#REF!"}},{"$f":"+Zał.1_WPF_bazowy!#REF!","v":{"$error":"#REF!"}},{"$f":"+Zał.1_WPF_bazowy!#REF!","v":{"$error":"#REF!"}},{"$f":"+Zał.1_WPF_bazowy!#REF!","v":{"$error":"#REF!"}},{"$f":"+Zał.1_WPF_bazowy!#REF!","v":{"$error":"#REF!"}},{"$f":"+Zał.1_WPF_bazowy!#REF!","v":{"$error":"#REF!"}},{"$f":"+Zał.1_WPF_bazowy!#REF!","v":{"$error":"#REF!"}},{"$f":"+Zał.1_WPF_bazowy!#REF!","v":{"$error":"#REF!"}},{"$f":"+Zał.1_WPF_bazowy!#REF!","v":{"$error":"#REF!"}},{"$f":"+Zał.1_WPF_bazowy!#REF!","v":{"$error":"#REF!"}},{"$f":"+Zał.1_WPF_bazowy!#REF!","v":{"$error":"#REF!"}}]
[null,"1.1.4",null,"z subwencji ogólnej",{"$f":"Zał.1_WPF_bazowy!E16","v":4037554},{"$f":"Zał.1_WPF_bazowy!F16","v":4481337},{"$f":"Zał.1_WPF_bazowy!G16","v":4504728},{"$f":"Zał.1_WPF_bazowy!H16","v":4504728},{"$f":"+Zał.1_WPF_bazowy!I16","v":3294922},{"$f":"+Zał.1_WPF_bazowy!J16","v":3294922},{"$f":"+Zał.1_WPF_bazowy!K16","v":3294922},{"$f":"+Zał.1_WPF_bazowy!L16","v":3294922},{"$f":"+Zał.1_WPF_bazowy!#REF!","v":{"$error":"#REF!"}},{"$f":"+Zał.1_WPF_bazowy!#REF!","v":{"$error":"#REF!"}},{"$f":"+Zał.1_WPF_bazowy!#REF!","v":{"$error":"#REF!"}},{"$f":"+Zał.1_WPF_bazowy!#REF!","v":{"$error":"#REF!"}},{"$f":"+Zał.1_WPF_bazowy!#REF!","v":{"$error":"#REF!"}},{"$f":"+Zał.1_WPF_bazowy!#REF!","v":{"$error":"#REF!"}},{"$f":"+Zał.1_WPF_bazowy!#REF!","v":{"$error":"#REF!"}},{"$f":"+Zał.1_WPF_bazowy!#REF!","v":{"$error":"#REF!"}},{"$f":"+Zał.1_WPF_bazowy!#REF!","v":{"$error":"#REF!"}},{"$f":"+Zał.1_WPF_bazowy!#REF!","v":{"$error":"#REF!"}},{"$f":"+Zał.1_WPF_bazowy!#REF!","v":{"$error":"#REF!"}},{"$f":"+Zał.1_WPF_bazowy!#REF!","v":{"$error":"#REF!"}},{"$f":"+Zał.1_WPF_bazowy!#REF!","v":{"$error":"#REF!"}},{"$f":"+Zał.1_WPF_bazowy!#REF!","v":{"$error":"#REF!"}},{"$f":"+Zał.1_WPF_bazowy!#REF!","v":{"$error":"#REF!"}},{"$f":"+Zał.1_WPF_bazowy!#REF!","v":{"$error":"#REF!"}},{"$f":"+Zał.1_WPF_bazowy!#REF!","v":{"$error":"#REF!"}},{"$f":"+Zał.1_WPF_bazowy!#REF!","v":{"$error":"#REF!"}},{"$f":"+Zał.1_WPF_bazowy!#REF!","v":{"$error":"#REF!"}},{"$f":"+Zał.1_WPF_bazowy!#REF!","v":{"$error":"#REF!"}},{"$f":"+Zał.1_WPF_bazowy!#REF!","v":{"$error":"#REF!"}},{"$f":"+Zał.1_WPF_bazowy!#REF!","v":{"$error":"#REF!"}},{"$f":"+Zał.1_WPF_bazowy!#REF!","v":{"$error":"#REF!"}},{"$f":"+Zał.1_WPF_bazowy!#REF!","v":{"$error":"#REF!"}},{"$f":"+Zał.1_WPF_bazowy!#REF!","v":{"$error":"#REF!"}},{"$f":"+Zał.1_WPF_bazowy!#REF!","v":{"$error":"#REF!"}}]
[null,"1.1.5",null,"z tytułu dotacji i środków przeznaczonych na cele bieżące",{"$f":"Zał.1_WPF_bazowy!E17","v":2073142.05},{"$f":"Zał.1_WPF_bazowy!F17","v":2060950.81},{"$f":"Zał.1_WPF_bazowy!G17","v":1980030.02},{"$f":"Zał.1_WPF_bazowy!H17","v":1980030.02},{"$f":"+Zał.1_WPF_bazowy!I17","v":1350903},{"$f":"+Zał.1_WPF_bazowy!J17","v":1350903},{"$f":"+Zał.1_WPF_bazowy!K17","v":1350903},{"$f":"+Zał.1_WPF_bazowy!L17","v":1350903},{"$f":"+Zał.1_WPF_bazowy!#REF!","v":{"$error":"#REF!"}},{"$f":"+Zał.1_WPF_bazowy!#REF!","v":{"$error":"#REF!"}},{"$f":"+Zał.1_WPF_bazowy!#REF!","v":{"$error":"#REF!"}},{"$f":"+Zał.1_WPF_bazowy!#REF!","v":{"$error":"#REF!"}},{"$f":"+Zał.1_WPF_bazowy!#REF!","v":{"$error":"#REF!"}},{"$f":"+Zał.1_WPF_bazowy!#REF!","v":{"$error":"#REF!"}},{"$f":"+Zał.1_WPF_bazowy!#REF!","v":{"$error":"#REF!"}},{"$f":"+Zał.1_WPF_bazowy!#REF!","v":{"$error":"#REF!"}},{"$f":"+Zał.1_WPF_bazowy!#REF!","v":{"$error":"#REF!"}},{"$f":"+Zał.1_WPF_bazowy!#REF!","v":{"$error":"#REF!"}},{"$f":"+Zał.1_WPF_bazowy!#REF!","v":{"$error":"#REF!"}},{"$f":"+Zał.1_WPF_bazowy!#REF!","v":{"$error":"#REF!"}},{"$f":"+Zał.1_WPF_bazowy!#REF!","v":{"$error":"#REF!"}},{"$f":"+Zał.1_WPF_bazowy!#REF!","v":{"$error":"#REF!"}},{"$f":"+Zał.1_WPF_bazowy!#REF!","v":{"$error":"#REF!"}},{"$f":"+Zał.1_WPF_bazowy!#REF!","v":{"$error":"#REF!"}},{"$f":"+Zał.1_WPF_bazowy!#REF!","v":{"$error":"#REF!"}},{"$f":"+Zał.1_WPF_bazowy!#REF!","v":{"$error":"#REF!"}},{"$f":"+Zał.1_WPF_bazowy!#REF!","v":{"$error":"#REF!"}},{"$f":"+Zał.1_WPF_bazowy!#REF!","v":{"$error":"#REF!"}},{"$f":"+Zał.1_WPF_bazowy!#REF!","v":{"$error":"#REF!"}},{"$f":"+Zał.1_WPF_bazowy!#REF!","v":{"$error":"#REF!"}},{"$f":"+Zał.1_WPF_bazowy!#REF!","v":{"$error":"#REF!"}},{"$f":"+Zał.1_WPF_bazowy!#REF!","v":{"$error":"#REF!"}},{"$f":"+Zał.1_WPF_bazowy!#REF!","v":{"$error":"#REF!"}},{"$f":"+Zał.1_WPF_bazowy!#REF!","v":{"$error":"#REF!"}}]
["x","1.2",null,"Dochody majątkowe, w tym:",{"$f":"Zał.1_WPF_bazowy!E18","v":1548530.29},{"$f":"Zał.1_WPF_bazowy!F18","v":1401663.61},{"$f":"Zał.1_WPF_bazowy!G18","v":1007330},{"$f":"Zał.1_WPF_bazowy!H18","v":683530},{"$f":"+Zał.1_WPF_bazowy!I18","v":2379904},{"$f":"+Zał.1_WPF_bazowy!J18","v":0},{"$f":"+Zał.1_WPF_bazowy!K18","v":0},{"$f":"+Zał.1_WPF_bazowy!L18","v":0},{"$f":"+Zał.1_WPF_bazowy!#REF!","v":{"$error":"#REF!"}},{"$f":"+Zał.1_WPF_bazowy!#REF!","v":{"$error":"#REF!"}},{"$f":"+Zał.1_WPF_bazowy!#REF!","v":{"$error":"#REF!"}},{"$f":"+Zał.1_WPF_bazowy!#REF!","v":{"$error":"#REF!"}},{"$f":"+Zał.1_WPF_bazowy!#REF!","v":{"$error":"#REF!"}},{"$f":"+Zał.1_WPF_bazowy!#REF!","v":{"$error":"#REF!"}},{"$f":"+Zał.1_WPF_bazowy!#REF!","v":{"$error":"#REF!"}},{"$f":"+Zał.1_WPF_bazowy!#REF!","v":{"$error":"#REF!"}},{"$f":"+Zał.1_WPF_bazowy!#REF!","v":{"$error":"#REF!"}},{"$f":"+Zał.1_WPF_bazowy!#REF!","v":{"$error":"#REF!"}},{"$f":"+Zał.1_WPF_bazowy!#REF!","v":{"$error":"#REF!"}},{"$f":"+Zał.1_WPF_bazowy!#REF!","v":{"$error":"#REF!"}},{"$f":"+Zał.1_WPF_bazowy!#REF!","v":{"$error":"#REF!"}},{"$f":"+Zał.1_WPF_bazowy!#REF!","v":{"$error":"#REF!"}},{"$f":"+Zał.1_WPF_bazowy!#REF!","v":{"$error":"#REF!"}},{"$f":"+Zał.1_WPF_bazowy!#REF!","v":{"$error":"#REF!"}},{"$f":"+Zał.1_WPF_bazowy!#REF!","v":{"$error":"#REF!"}},{"$f":"+Zał.1_WPF_bazowy!#REF!","v":{"$error":"#REF!"}},{"$f":"+Zał.1_WPF_bazowy!#REF!","v":{"$error":"#REF!"}},{"$f":"+Zał.1_WPF_bazowy!#REF!","v":{"$error":"#REF!"}},{"$f":"+Zał.1_WPF_bazowy!#REF!","v":{"$error":"#REF!"}},{"$f":"+Zał.1_WPF_bazowy!#REF!","v":{"$error":"#REF!"}},{"$f":"+Zał.1_WPF_bazowy!#REF!","v":{"$error":"#REF!"}},{"$f":"+Zał.1_WPF_bazowy!#REF!","v":{"$error":"#REF!"}},{"$f":"+Zał.1_WPF_bazowy!#REF!","v":{"$error":"#REF!"}},{"$f":"+Zał.1_WPF_bazowy!#REF!","v":{"$error":"#REF!"}}]
["x","1.2.1",null,"ze sprzedaży majątku",{"$f":"Zał.1_WPF_bazowy!E19","v":140492.99},{"$f":"Zał.1_WPF_bazowy!F19","v":69038.91},{"$f":"Zał.1_WPF_bazowy!G19","v":330000},{"$f":"Zał.1_WPF_bazowy!H19","v":6200},{"$f":"+Zał.1_WPF_bazowy!I19","v":200000},{"$f":"+Zał.1_WPF_bazowy!J19","v":0},{"$f":"+Zał.1_WPF_bazowy!K19","v":0},{"$f":"+Zał.1_WPF_bazowy!L19","v":0},{"$f":"+Zał.1_WPF_bazowy!#REF!","v":{"$error":"#REF!"}},{"$f":"+Zał.1_WPF_bazowy!#REF!","v":{"$error":"#REF!"}},{"$f":"+Zał.1_WPF_bazowy!#REF!","v":{"$error":"#REF!"}},{"$f":"+Zał.1_WPF_bazowy!#REF!","v":{"$error":"#REF!"}},{"$f":"+Zał.1_WPF_bazowy!#REF!","v":{"$error":"#REF!"}},{"$f":"+Zał.1_WPF_bazowy!#REF!","v":{"$error":"#REF!"}},{"$f":"+Zał.1_WPF_bazowy!#REF!","v":{"$error":"#REF!"}},{"$f":"+Zał.1_WPF_bazowy!#REF!","v":{"$error":"#REF!"}},{"$f":"+Zał.1_WPF_bazowy!#REF!","v":{"$error":"#REF!"}},{"$f":"+Zał.1_WPF_bazowy!#REF!","v":{"$error":"#REF!"}},{"$f":"+Zał.1_WPF_bazowy!#REF!","v":{"$error":"#REF!"}},{"$f":"+Zał.1_WPF_bazowy!#REF!","v":{"$error":"#REF!"}},{"$f":"+Zał.1_WPF_bazowy!#REF!","v":{"$error":"#REF!"}},{"$f":"+Zał.1_WPF_bazowy!#REF!","v":{"$error":"#REF!"}},{"$f":"+Zał.1_WPF_bazowy!#REF!","v":{"$error":"#REF!"}},{"$f":"+Zał.1_WPF_bazowy!#REF!","v":{"$error":"#REF!"}},{"$f":"+Zał.1_WPF_bazowy!#REF!","v":{"$error":"#REF!"}},{"$f":"+Zał.1_WPF_bazowy!#REF!","v":{"$error":"#REF!"}},{"$f":"+Zał.1_WPF_bazowy!#REF!","v":{"$error":"#REF!"}},{"$f":"+Zał.1_WPF_bazowy!#REF!","v":{"$error":"#REF!"}},{"$f":"+Zał.1_WPF_bazowy!#REF!","v":{"$error":"#REF!"}},{"$f":"+Zał.1_WPF_bazowy!#REF!","v":{"$error":"#REF!"}},{"$f":"+Zał.1_WPF_bazowy!#REF!","v":{"$error":"#REF!"}},{"$f":"+Zał.1_WPF_bazowy!#REF!","v":{"$error":"#REF!"}},{"$f":"+Zał.1_WPF_bazowy!#REF!","v":{"$error":"#REF!"}},{"$f":"+Zał.1_WPF_bazowy!#REF!","v":{"$error":"#REF!"}}]
[null,"1.2.2",null,"z tytułu dotacji oraz środków przeznaczonych na inwestycje",{"$f":"Zał.1_WPF_bazowy!E20","v":1405937.3},{"$f":"Zał.1_WPF_bazowy!F20","v":1332324.7},{"$f":"Zał.1_WPF_bazowy!G20","v":664102},{"$f":"Zał.1_WPF_bazowy!H20","v":664102},{"$f":"+Zał.1_WPF_bazowy!I20","v":2179904},{"$f":"+Zał.1_WPF_bazowy!J20","v":0},{"$f":"+Zał.1_WPF_bazowy!K20","v":0},{"$f":"+Zał.1_WPF_bazowy!L20","v":0},{"$f":"+Zał.1_WPF_bazowy!#REF!","v":{"$error":"#REF!"}},{"$f":"+Zał.1_WPF_bazowy!#REF!","v":{"$error":"#REF!"}},{"$f":"+Zał.1_WPF_bazowy!#REF!","v":{"$error":"#REF!"}},{"$f":"+Zał.1_WPF_bazowy!#REF!","v":{"$error":"#REF!"}},{"$f":"+Zał.1_WPF_bazowy!#REF!","v":{"$error":"#REF!"}},{"$f":"+Zał.1_WPF_bazowy!#REF!","v":{"$error":"#REF!"}},{"$f":"+Zał.1_WPF_bazowy!#REF!","v":{"$error":"#REF!"}},{"$f":"+Zał.1_WPF_bazowy!#REF!","v":{"$error":"#REF!"}},{"$f":"+Zał.1_WPF_bazowy!#REF!","v":{"$error":"#REF!"}},{"$f":"+Zał.1_WPF_bazowy!#REF!","v":{"$error":"#REF!"}},{"$f":"+Zał.1_WPF_bazowy!#REF!","v":{"$error":"#REF!"}},{"$f":"+Zał.1_WPF_bazowy!#REF!","v":{"$error":"#REF!"}},{"$f":"+Zał.1_WPF_bazowy!#REF!","v":{"$error":"#REF!"}},{"$f":"+Zał.1_WPF_bazowy!#REF!","v":{"$error":"#REF!"}},{"$f":"+Zał.1_WPF_bazowy!#REF!","v":{"$error":"#REF!"}},{"$f":"+Zał.1_WPF_bazowy!#REF!","v":{"$error":"#REF!"}},{"$f":"+Zał.1_WPF_bazowy!#REF!","v":{"$error":"#REF!"}},{"$f":"+Zał.1_WPF_bazowy!#REF!","v":{"$error":"#REF!"}},{"$f":"+Zał.1_WPF_bazowy!#REF!","v":{"$error":"#REF!"}},{"$f":"+Zał.1_WPF_bazowy!#REF!","v":{"$error":"#REF!"}},{"$f":"+Zał.1_WPF_bazowy!#REF!","v":{"$error":"#REF!"}},{"$f":"+Zał.1_WPF_bazowy!#REF!","v":{"$error":"#REF!"}},{"$f":"+Zał.1_WPF_bazowy!#REF!","v":{"$error":"#REF!"}},{"$f":"+Zał.1_WPF_bazowy!#REF!","v":{"$error":"#REF!"}},{"$f":"+Zał.1_WPF_bazowy!#REF!","v":{"$error":"#REF!"}},{"$f":"+Zał.1_WPF_bazowy!#REF!","v":{"$error":"#REF!"}}]
["x",2,"[2.1]+[2.2]","Wydatki ogółem",{"$f":"Zał.1_WPF_bazowy!E21","v":12835915.98},{"$f":"Zał.1_WPF_bazowy!F21","v":11481546.43},{"$f":"Zał.1_WPF_bazowy!G21","v":14584700.699999999},{"$f":"+H22+H28","v":14401220},{"$f":"+I22+I28","v":12827688.810000001},{"$f":"+J22+J28","v":10825000},12050000,12170000,{"$error":"#REF!"},{"$error":"#REF!"},{"$error":"#REF!"},{"$error":"#REF!"},{"$error":"#REF!"},{"$error":"#REF!"},{"$error":"#REF!"},{"$error":"#REF!"},{"$error":"#REF!"},{"$error":"#REF!"},{"$error":"#REF!"},{"$error":"#REF!"},{"$error":"#REF!"},{"$error":"#REF!"},{"$error":"#REF!"},{"$error":"#REF!"},{"$error":"#REF!"},{"$error":"#REF!"},{"$error":"#REF!"},{"$error":"#REF!"},{"$error":"#REF!"},{"$error":"#REF!"},{"$error":"#REF!"},{"$error":"#REF!"},{"$error":"#REF!"},{"$error":"#REF!"}]
["x","2.1",null,"Wydatki bieżące, w tym:",{"$f":"Zał.1_WPF_bazowy!E22","v":9211865.6600000001},{"$f":"Zał.1_WPF_bazowy!F22","v":9055670.4299999997},{"$f":"Zał.1_WPF_bazowy!G22","v":9959324.6999999993},{"$f":"Zał.1_WPF_bazowy!H22","v":9775844},{"$f":"+Zał.1_WPF_bazowy!I22","v":8917188.8100000005},{"$f":"+Zał.1_WPF_bazowy!J22","v":9140000},{"$f":"+Zał.1_WPF_bazowy!K22","v":9368000},{"$f":"+Zał.1_WPF_bazowy!L22","v":9600000},{"$f":"+Zał.1_WPF_bazowy!#REF!","v":{"$error":"#REF!"}},{"$f":"+Zał.1_WPF_bazowy!#REF!","v":{"$error":"#REF!"}},{"$f":"+Zał.1_WPF_bazowy!#REF!","v":{"$error":"#REF!"}},{"$f":"+Zał.1_WPF_bazowy!#REF!","v":{"$error":"#REF!"}},{"$f":"+Zał.1_WPF_bazowy!#REF!","v":{"$error":"#REF!"}},{"$f":"+Zał.1_WPF_bazowy!#REF!","v":{"$error":"#REF!"}},{"$f":"+Zał.1_WPF_bazowy!#REF!","v":{"$error":"#REF!"}},{"$f":"+Zał.1_WPF_bazowy!#REF!","v":{"$error":"#REF!"}},{"$f":"+Zał.1_WPF_bazowy!#REF!","v":{"$error":"#REF!"}},{"$f":"+Zał.1_WPF_bazowy!#REF!","v":{"$error":"#REF!"}},{"$f":"+Zał.1_WPF_bazowy!#REF!","v":{"$error":"#REF!"}},{"$f":"+Zał.1_WPF_bazowy!#REF!","v":{"$error":"#REF!"}},{"$f":"+Zał.1_WPF_bazowy!#REF!","v":{"$error":"#REF!"}},{"$f":"+Zał.1_WPF_bazowy!#REF!","v":{"$error":"#REF!"}},{"$f":"+Zał.1_WPF_bazowy!#REF!","v":{"$error":"#REF!"}},{"$f":"+Zał.1_WPF_bazowy!#REF!","v":{"$error":"#REF!"}},{"$f":"+Zał.1_WPF_bazowy!#REF!","v":{"$error":"#REF!"}},{"$f":"+Zał.1_WPF_bazowy!#REF!","v":{"$error":"#REF!"}},{"$f":"+Zał.1_WPF_bazowy!#REF!","v":{"$error":"#REF!"}},{"$f":"+Zał.1_WPF_bazowy!#REF!","v":{"$error":"#REF!"}},{"$f":"+Zał.1_WPF_bazowy!#REF!","v":{"$error":"#REF!"}},{"$f":"+Zał.1_WPF_bazowy!#REF!","v":{"$error":"#REF!"}},{"$f":"+Zał.1_WPF_bazowy!#REF!","v":{"$error":"#REF!"}},{"$f":"+Zał.1_WPF_bazowy!#REF!","v":{"$error":"#REF!"}},{"$f":"+Zał.1_WPF_bazowy!#REF!","v":{"$error":"#REF!"}},{"$f":"+Zał.1_WPF_bazowy!#REF!","v":{"$error":"#REF!"}}]
["x","2.1.1",null,"z tytułu poręczeń i gwarancji, w tym:",{"$f":"Zał.1_WPF_bazowy!E23","v":0},{"$f":"Zał.1_WPF_bazowy!F23","v":0},{"$f":"Zał.1_WPF_bazowy!G23","v":0},{"$f":"Zał.1_WPF_bazowy!H23","v":0},{"$f":"+Zał.1_WPF_bazowy!I23","v":0},{"$f":"+Zał.1_WPF_bazowy!J23","v":0},{"$f":"+Zał.1_WPF_bazowy!K23","v":0},{"$f":"+Zał.1_WPF_bazowy!L23","v":0},{"$f":"+Zał.1_WPF_bazowy!#REF!","v":{"$error":"#REF!"}},{"$f":"+Zał.1_WPF_bazowy!#REF!","v":{"$error":"#REF!"}},{"$f":"+Zał.1_WPF_bazowy!#REF!","v":{"$error":"#REF!"}},{"$f":"+Zał.1_WPF_bazowy!#REF!","v":{"$error":"#REF!"}},{"$f":"+Zał.1_WPF_bazowy!#REF!","v":{"$error":"#REF!"}},{"$f":"+Zał.1_WPF_bazowy!#REF!","v":{"$error":"#REF!"}},{"$f":"+Zał.1_WPF_bazowy!#REF!","v":{"$error":"#REF!"}},{"$f":"+Zał.1_WPF_bazowy!#REF!","v":{"$error":"#REF!"}},{"$f":"+Zał.1_WPF_bazowy!#REF!","v":{"$error":"#REF!"}},{"$f":"+Zał.1_WPF_bazowy!#REF!","v":{"$error":"#REF!"}},{"$f":"+Zał.1_WPF_bazowy!#REF!","v":{"$error":"#REF!"}},{"$f":"+Zał.1_WPF_bazowy!#REF!","v":{"$error":"#REF!"}},{"$f":"+Zał.1_WPF_bazowy!#REF!","v":{"$error":"#REF!"}},{"$f":"+Zał.1_WPF_bazowy!#REF!","v":{"$error":"#REF!"}},{"$f":"+Zał.1_WPF_bazowy!#REF!","v":{"$error":"#REF!"}},{"$f":"+Zał.1_WPF_bazowy!#REF!","v":{"$error":"#REF!"}},{"$f":"+Zał.1_WPF_bazowy!#REF!","v":{"$error":"#REF!"}},{"$f":"+Zał.1_WPF_bazowy!#REF!","v":{"$error":"#REF!"}},{"$f":"+Zał.1_WPF_bazowy!#REF!","v":{"$error":"#REF!"}},{"$f":"+Zał.1_WPF_bazowy!#REF!","v":{"$error":"#REF!"}},{"$f":"+Zał.1_WPF_bazowy!#REF!","v":{"$error":"#REF!"}},{"$f":"+Zał.1_WPF_bazowy!#REF!","v":{"$error":"#REF!"}},{"$f":"+Zał.1_WPF_bazowy!#REF!","v":{"$error":"#REF!"}},{"$f":"+Zał.1_WPF_bazowy!#REF!","v":{"$error":"#REF!"}},{"$f":"+Zał.1_WPF_bazowy!#REF!","v":{"$error":"#REF!"}},{"$f":"+Zał.1_WPF_bazowy!#REF!","v":{"$error":"#REF!"}}]
["x","2.1.1.1",null,"gwarancje i poręczenia podlegające wyłączeniu z limitów spłaty zobowiązań określonych w art. 243 ust. 3 pkt 2 ustawy z dnia 27 sierpnia 2009 r. o finansach publicznych (Dz. U. Nr 157, poz. 1240, z późn. zm.) lub art. 169 ust. 3 pkt 2 ustawy z dnia 30 czerwca 2005 r. o finansach publicznych (Dz. U. Nr 249, poz. 2104, z późn. zm)",{"$f":"Zał.1_WPF_bazowy!E24","v":0},{"$f":"Zał.1_WPF_bazowy!F24","v":0},{"$f":"Zał.1_WPF_bazowy!G24","v":0},{"$f":"Zał.1_WPF_bazowy!H24","v":0},{"$f":"+Zał.1_WPF_bazowy!I24","v":0},{"$f":"+Zał.1_WPF_bazowy!J24","v":0},{"$f":"+Zał.1_WPF_bazowy!K24","v":0},{"$f":"+Zał.1_WPF_bazowy!L24","v":0},{"$f":"+Zał.1_WPF_bazowy!#REF!","v":{"$error":"#REF!"}},{"$f":"+Zał.1_WPF_bazowy!#REF!","v":{"$error":"#REF!"}},{"$f":"+Zał.1_WPF_bazowy!#REF!","v":{"$error":"#REF!"}},{"$f":"+Zał.1_WPF_bazowy!#REF!","v":{"$error":"#REF!"}},{"$f":"+Zał.1_WPF_bazowy!#REF!","v":{"$error":"#REF!"}},{"$f":"+Zał.1_WPF_bazowy!#REF!","v":{"$error":"#REF!"}},{"$f":"+Zał.1_WPF_bazowy!#REF!","v":{"$error":"#REF!"}},{"$f":"+Zał.1_WPF_bazowy!#REF!","v":{"$error":"#REF!"}},{"$f":"+Zał.1_WPF_bazowy!#REF!","v":{"$error":"#REF!"}},{"$f":"+Zał.1_WPF_bazowy!#REF!","v":{"$error":"#REF!"}},{"$f":"+Zał.1_WPF_bazowy!#REF!","v":{"$error":"#REF!"}},{"$f":"+Zał.1_WPF_bazowy!#REF!","v":{"$error":"#REF!"}},{"$f":"+Zał.1_WPF_bazowy!#REF!","v":{"$error":"#REF!"}},{"$f":"+Zał.1_WPF_bazowy!#REF!","v":{"$error":"#REF!"}},{"$f":"+Zał.1_WPF_bazowy!#REF!","v":{"$error":"#REF!"}},{"$f":"+Zał.1_WPF_bazowy!#REF!","v":{"$error":"#REF!"}},{"$f":"+Zał.1_WPF_bazowy!#REF!","v":{"$error":"#REF!"}},{"$f":"+Zał.1_WPF_bazowy!#REF!","v":{"$error":"#REF!"}},{"$f":"+Zał.1_WPF_bazowy!#REF!","v":{"$error":"#REF!"}},{"$f":"+Zał.1_WPF_bazowy!#REF!","v":{"$error":"#REF!"}},{"$f":"+Zał.1_WPF_bazowy!#REF!","v":{"$error":"#REF!"}},{"$f":"+Zał.1_WPF_bazowy!#REF!","v":{"$error":"#REF!"}},{"$f":"+Zał.1_WPF_bazowy!#REF!","v":{"$error":"#REF!"}},{"$f":"+Zał.1_WPF_bazowy!#REF!","v":{"$error":"#REF!"}},{"$f":"+Zał.1_WPF_bazowy!#REF!","v":{"$error":"#REF!"}},{"$f":"+Zał.1_WPF_bazowy!#REF!","v":{"$error":"#REF!"}}]
[null,"2.1.2",null,"na spłatę przejętych zobowiązań samodzielnego publicznego zakładu opieki zdrowotnej przekształconego na zasadach określonych w przepisach o działalności leczniczej, w wysokości w jakiej nie podlegają sfinansowaniu dotacją z budżetu państwa)",0,0,0,0,{"$f":"+Zał.1_WPF_bazowy!I25","v":0},{"$f":"+Zał.1_WPF_bazowy!J25","v":0},{"$f":"+Zał.1_WPF_bazowy!K25","v":0},{"$f":"+Zał.1_WPF_bazowy!L25","v":0},{"$f":"+Zał.1_WPF_bazowy!#REF!","v":{"$error":"#REF!"}},{"$f":"+Zał.1_WPF_bazowy!#REF!","v":{"$error":"#REF!"}},{"$f":"+Zał.1_WPF_bazowy!#REF!","v":{"$error":"#REF!"}},{"$f":"+Zał.1_WPF_bazowy!#REF!","v":{"$error":"#REF!"}},{"$f":"+Zał.1_WPF_bazowy!#REF!","v":{"$error":"#REF!"}},{"$f":"+Zał.1_WPF_bazowy!#REF!","v":{"$error":"#REF!"}},{"$f":"+Zał.1_WPF_bazowy!#REF!","v":{"$error":"#REF!"}},{"$f":"+Zał.1_WPF_bazowy!#REF!","v":{"$error":"#REF!"}},{"$f":"+Zał.1_WPF_bazowy!#REF!","v":{"$error":"#REF!"}},{"$f":"+Zał.1_WPF_bazowy!#REF!","v":{"$error":"#REF!"}},{"$f":"+Zał.1_WPF_bazowy!#REF!","v":{"$error":"#REF!"}},{"$f":"+Zał.1_WPF_bazowy!#REF!","v":{"$error":"#REF!"}},{"$f":"+Zał.1_WPF_bazowy!#REF!","v":{"$error":"#REF!"}},{"$f":"+Zał.1_WPF_bazowy!#REF!","v":{"$error":"#REF!"}},{"$f":"+Zał.1_WPF_bazowy!#REF!","v":{"$error":"#REF!"}},{"$f":"+Zał.1_WPF_bazowy!#REF!","v":{"$error":"#REF!"}},{"$f":"+Zał.1_WPF_bazowy!#REF!","v":{"$error":"#REF!"}},{"$f":"+Zał.1_WPF_bazowy!#REF!","v":{"$error":"#REF!"}},{"$f":"+Zał.1_WPF_bazowy!#REF!","v":{"$error":"#REF!"}},{"$f":"+Zał.1_WPF_bazowy!#REF!","v":{"$error":"#REF!"}},{"$f":"+Zał.1_WPF_bazowy!#REF!","v":{"$error":"#REF!"}},{"$f":"+Zał.1_WPF_bazowy!#REF!","v":{"$error":"#REF!"}},{"$f":"+Zał.1_WPF_bazowy!#REF!","v":{"$error":"#REF!"}},{"$f":"+Zał.1_WPF_bazowy!#REF!","v":{"$error":"#REF!"}},{"$f":"+Zał.1_WPF_bazowy!#REF!","v":{"$error":"#REF!"}},{"$f":"+Zał.1_WPF_bazowy!#REF!","v":{"$error":"#REF!"}}]
["x","2.1.3",null,"wydatki na obsługę długu, w tym:",{"$f":"Zał.1_WPF_bazowy!E26","v":41411.769999999997},{"$f":"Zał.1_WPF_bazowy!F26","v":84758.58},{"$f":"Zał.1_WPF_bazowy!G26","v":95000},{"$f":"Zał.1_WPF_bazowy!H26","v":35000},{"$f":"+Zał.1_WPF_bazowy!I26","v":20000},{"$f":"+Zał.1_WPF_bazowy!J26","v":0},{"$f":"+Zał.1_WPF_bazowy!K26","v":0},{"$f":"+Zał.1_WPF_bazowy!L26","v":0},{"$f":"+Zał.1_WPF_bazowy!#REF!","v":{"$error":"#REF!"}},{"$f":"+Zał.1_WPF_bazowy!#REF!","v":{"$error":"#REF!"}},{"$f":"+Zał.1_WPF_bazowy!#REF!","v":{"$error":"#REF!"}},{"$f":"+Zał.1_WPF_bazowy!#REF!","v":{"$error":"#REF!"}},{"$f":"+Zał.1_WPF_bazowy!#REF!","v":{"$error":"#REF!"}},{"$f":"+Zał.1_WPF_bazowy!#REF!","v":{"$error":"#REF!"}},{"$f":"+Zał.1_WPF_bazowy!#REF!","v":{"$error":"#REF!"}},{"$f":"+Zał.1_WPF_bazowy!#REF!","v":{"$error":"#REF!"}},{"$f":"+Zał.1_WPF_bazowy!#REF!","v":{"$error":"#REF!"}},{"$f":"+Zał.1_WPF_bazowy!#REF!","v":{"$error":"#REF!"}},{"$f":"+Zał.1_WPF_bazowy!#REF!","v":{"$error":"#REF!"}},{"$f":"+Zał.1_WPF_bazowy!#REF!","v":{"$error":"#REF!"}},{"$f":"+Zał.1_WPF_bazowy!#REF!","v":{"$error":"#REF!"}},{"$f":"+Zał.1_WPF_bazowy!#REF!","v":{"$error":"#REF!"}},{"$f":"+Zał.1_WPF_bazowy!#REF!","v":{"$error":"#REF!"}},{"$f":"+Zał.1_WPF_bazowy!#REF!","v":{"$error":"#REF!"}},{"$f":"+Zał.1_WPF_bazowy!#REF!","v":{"$error":"#REF!"}},{"$f":"+Zał.1_WPF_bazowy!#REF!","v":{"$error":"#REF!"}},{"$f":"+Zał.1_WPF_bazowy!#REF!","v":{"$error":"#REF!"}},{"$f":"+Zał.1_WPF_bazowy!#REF!","v":{"$error":"#REF!"}},{"$f":"+Zał.1_WPF_bazowy!#REF!","v":{"$error":"#REF!"}},{"$f":"+Zał.1_WPF_bazowy!#REF!","v":{"$error":"#REF!"}},{"$f":"+Zał.1_WPF_bazowy!#REF!","v":{"$error":"#REF!"}},{"$f":"+Zał.1_WPF_bazowy!#REF!","v":{"$error":"#REF!"}},{"$f":"+Zał.1_WPF_bazowy!#REF!","v":{"$error":"#REF!"}},{"$f":"+Zał.1_WPF_bazowy!#REF!","v":{"$error":"#REF!"}}]
["x","2.1.3.1",null,"odsetki i dyskonto określone w art. 243 ust. 1 ustawy lub art. 169 ust. 1 ufp z 2005 r..",{"$f":"Zał.1_WPF_bazowy!E27","v":38272.47},{"$f":"Zał.1_WPF_bazowy!F27","v":83194.59},{"$f":"Zał.1_WPF_bazowy!G27","v":95000},{"$f":"Zał.1_WPF_bazowy!H27","v":35000},{"$f":"+Zał.1_WPF_bazowy!I27","v":20000},{"$f":"+Zał.1_WPF_bazowy!J27","v":0},{"$f":"+Zał.1_WPF_bazowy!K27","v":0},{"$f":"+Zał.1_WPF_bazowy!L27","v":0},{"$f":"+Zał.1_WPF_bazowy!#REF!","v":{"$error":"#REF!"}},{"$f":"+Zał.1_WPF_bazowy!#REF!","v":{"$error":"#REF!"}},{"$f":"+Zał.1_WPF_bazowy!#REF!","v":{"$error":"#REF!"}},{"$f":"+Zał.1_WPF_bazowy!#REF!","v":{"$error":"#REF!"}},{"$f":"+Zał.1_WPF_bazowy!#REF!","v":{"$error":"#REF!"}},{"$f":"+Zał.1_WPF_bazowy!#REF!","v":{"$error":"#REF!"}},{"$f":"+Zał.1_WPF_bazowy!#REF!","v":{"$error":"#REF!"}},{"$f":"+Zał.1_WPF_bazowy!#REF!","v":{"$error":"#REF!"}},{"$f":"+Zał.1_WPF_bazowy!#REF!","v":{"$error":"#REF!"}},{"$f":"+Zał.1_WPF_bazowy!#REF!","v":{"$error":"#REF!"}},{"$f":"+Zał.1_WPF_bazowy!#REF!","v":{"$error":"#REF!"}},{"$f":"+Zał.1_WPF_bazowy!#REF!","v":{"$error":"#REF!"}},{"$f":"+Zał.1_WPF_bazowy!#REF!","v":{"$error":"#REF!"}},{"$f":"+Zał.1_WPF_bazowy!#REF!","v":{"$error":"#REF!"}},{"$f":"+Zał.1_WPF_bazowy!#REF!","v":{"$error":"#REF!"}},{"$f":"+Zał.1_WPF_bazowy!#REF!","v":{"$error":"#REF!"}},{"$f":"+Zał.1_WPF_bazowy!#REF!","v":{"$error":"#REF!"}},{"$f":"+Zał.1_WPF_bazowy!#REF!","v":{"$error":"#REF!"}},{"$f":"+Zał.1_WPF_bazowy!#REF!","v":{"$error":"#REF!"}},{"$f":"+Zał.1_WPF_bazowy!#REF!","v":{"$error":"#REF!"}},{"$f":"+Zał.1_WPF_bazowy!#REF!","v":{"$error":"#REF!"}},{"$f":"+Zał.1_WPF_bazowy!#REF!","v":{"$error":"#REF!"}},{"$f":"+Zał.1_WPF_bazowy!#REF!","v":{"$error":"#REF!"}},{"$f":"+Zał.1_WPF_bazowy!#REF!","v":{"$error":"#REF!"}},{"$f":"+Zał.1_WPF_bazowy!#REF!","v":{"$error":"#REF!"}},{"$f":"+Zał.1_WPF_bazowy!#REF!","v":{"$error":"#REF!"}}]
["x","2.2",null,"Wydatki majątkowe",{"$f":"Zał.1_WPF_bazowy!E28","v":3624050.32},{"$f":"Zał.1_WPF_bazowy!F28","v":2425876},{"$f":"Zał.1_WPF_bazowy!G28","v":4625376},{"$f":"Zał.1_WPF_bazowy!H28","v":4625376},{"$f":"+Zał.1_WPF_bazowy!I28","v":3910500},{"$f":"+Zał.1_WPF_bazowy!J28","v":1685000},{"$f":"+Zał.1_WPF_bazowy!K28","v":2682000},{"$f":"+Zał.1_WPF_bazowy!L28","v":2570000},{"$f":"+Zał.1_WPF_bazowy!#REF!","v":{"$error":"#REF!"}},{"$f":"+Zał.1_WPF_bazowy!#REF!","v":{"$error":"#REF!"}},{"$f":"+Zał.1_WPF_bazowy!#REF!","v":{"$error":"#REF!"}},{"$f":"+Zał.1_WPF_bazowy!#REF!","v":{"$error":"#REF!"}},{"$f":"+Zał.1_WPF_bazowy!#REF!","v":{"$error":"#REF!"}},{"$f":"+Zał.1_WPF_bazowy!#REF!","v":{"$error":"#REF!"}},{"$f":"+Zał.1_WPF_bazowy!#REF!","v":{"$error":"#REF!"}},{"$f":"+Zał.1_WPF_bazowy!#REF!","v":{"$error":"#REF!"}},{"$f":"+Zał.1_WPF_bazowy!#REF!","v":{"$error":"#REF!"}},{"$f":"+Zał.1_WPF_bazowy!#REF!","v":{"$error":"#REF!"}},{"$f":"+Zał.1_WPF_bazowy!#REF!","v":{"$error":"#REF!"}},{"$f":"+Zał.1_WPF_bazowy!#REF!","v":{"$error":"#REF!"}},{"$f":"+Zał.1_WPF_bazowy!#REF!","v":{"$error":"#REF!"}},{"$f":"+Zał.1_WPF_bazowy!#REF!","v":{"$error":"#REF!"}},{"$f":"+Zał.1_WPF_bazowy!#REF!","v":{"$error":"#REF!"}},{"$f":"+Zał.1_WPF_bazowy!#REF!","v":{"$error":"#REF!"}},{"$f":"+Zał.1_WPF_bazowy!#REF!","v":{"$error":"#REF!"}},{"$f":"+Zał.1_WPF_bazowy!#REF!","v":{"$error":"#REF!"}},{"$f":"+Zał.1_WPF_bazowy!#REF!","v":{"$error":"#REF!"}},{"$f":"+Zał.1_WPF_bazowy!#REF!","v":{"$error":"#REF!"}},{"$f":"+Zał.1_WPF_bazowy!#REF!","v":{"$error":"#REF!"}},{"$f":"+Zał.1_WPF_bazowy!#REF!","v":{"$error":"#REF!"}},{"$f":"+Zał.1_WPF_bazowy!#REF!","v":{"$error":"#REF!"}},{"$f":"+Zał.1_WPF_bazowy!#REF!","v":{"$error":"#REF!"}},{"$f":"+Zał.1_WPF_bazowy!#REF!","v":{"$error":"#REF!"}},{"$f":"+Zał.1_WPF_bazowy!#REF!","v":{"$error":"#REF!"}}]
["x",3,"[1]-[2]","Wynik budżetu",{"$f":"Zał.1_WPF_bazowy!E29","v":-1100222.42},{"$f":"Zał.1_WPF_bazowy!F29","v":2580481.7200000002},{"$f":"Zał.1_WPF_bazowy!G29","v":-1113306.28},{"$f":"+H10-H21","v":-1722526},{"$f":"+I10-I21","v":773956.18999999948},{"$f":"+J10-J21","v":0},0,0,{"$error":"#REF!"},{"$error":"#REF!"},{"$error":"#REF!"},{"$error":"#REF!"},{"$error":"#REF!"},{"$error":"#REF!"},{"$error":"#REF!"},{"$error":"#REF!"},{"$error":"#REF!"},{"$error":"#REF!"},{"$error":"#REF!"},{"$error":"#REF!"},{"$error":"#REF!"},{"$error":"#REF!"},{"$error":"#REF!"},{"$error":"#REF!"},{"$error":"#REF!"},{"$error":"#REF!"},{"$error":"#REF!"},{"$error":"#REF!"},{"$error":"#REF!"},{"$error":"#REF!"},{"$error":"#REF!"},{"$error":"#REF!"},{"$error":"#REF!"},{"$error":"#REF!"}]
["x",4,"[4.1]+[4.2]+[4.3]+[4.4]","Przychody budżetu",{"$f":"Zał.1_WPF_bazowy!E30","v":2625223.85},{"$f":"Zał.1_WPF_bazowy!F30","v":1050519.3700000001},{"$f":"Zał.1_WPF_bazowy!G30","v":1850827.74},{"$f":"+H31+H33+H35+H37","v":2460047.46},{"$f":"+I31+I33+I35+I37","v":0},{"$f":"+J31+J33+J35+J37","v":0},0,0,{"$error":"#REF!"},{"$error":"#REF!"},{"$error":"#REF!"},{"$error":"#REF!"},{"$error":"#REF!"},{"$error":"#REF!"},{"$error":"#REF!"},{"$error":"#REF!"},{"$error":"#REF!"},{"$error":"#REF!"},{"$error":"#REF!"},{"$error":"#REF!"},{"$error":"#REF!"},{"$error":"#REF!"},{"$error":"#REF!"},{"$error":"#REF!"},{"$error":"#REF!"},{"$error":"#REF!"},{"$error":"#REF!"},{"$error":"#REF!"},{"$error":"#REF!"},{"$error":"#REF!"},{"$error":"#REF!"},{"$error":"#REF!"},{"$error":"#REF!"},{"$error":"#REF!"}]
["x","4.1",null,"Nadwyżka budżetowa z lat ubiegłych, w tym:",{"$f":"Zał.1_WPF_bazowy!E31","v":0},{"$f":"Zał.1_WPF_bazowy!F31","v":0},{"$f":"Zał.1_WPF_bazowy!G31","v":314668.09000000003},{"$f":"Zał.1_WPF_bazowy!H31","v":923887.81},{"$f":"+Zał.1_WPF_bazowy!I31","v":0},{"$f":"+Zał.1_WPF_bazowy!J31","v":0},{"$f":"+Zał.1_WPF_bazowy!K31","v":0},{"$f":"+Zał.1_WPF_bazowy!L31","v":0},{"$f":"+Zał.1_WPF_bazowy!#REF!","v":{"$error":"#REF!"}},{"$f":"+Zał.1_WPF_bazowy!#REF!","v":{"$error":"#REF!"}},{"$f":"+Zał.1_WPF_bazowy!#REF!","v":{"$error":"#REF!"}},{"$f":"+Zał.1_WPF_bazowy!#REF!","v":{"$error":"#REF!"}},{"$f":"+Zał.1_WPF_bazowy!#REF!","v":{"$error":"#REF!"}},{"$f":"+Zał.1_WPF_bazowy!#REF!","v":{"$error":"#REF!"}},{"$f":"+Zał.1_WPF_bazowy!#REF!","v":{"$error":"#REF!"}},{"$f":"+Zał.1_WPF_bazowy!#REF!","v":{"$error":"#REF!"}},{"$f":"+Zał.1_WPF_bazowy!#REF!","v":{"$error":"#REF!"}},{"$f":"+Zał.1_WPF_bazowy!#REF!","v":{"$error":"#REF!"}},{"$f":"+Zał.1_WPF_bazowy!#REF!","v":{"$error":"#REF!"}},{"$f":"+Zał.1_WPF_bazowy!#REF!","v":{"$error":"#REF!"}},{"$f":"+Zał.1_WPF_bazowy!#REF!","v":{"$error":"#REF!"}},{"$f":"+Zał.1_WPF_bazowy!#REF!","v":{"$error":"#REF!"}},{"$f":"+Zał.1_WPF_bazowy!#REF!","v":{"$error":"#REF!"}},{"$f":"+Zał.1_WPF_bazowy!#REF!","v":{"$error":"#REF!"}},{"$f":"+Zał.1_WPF_bazowy!#REF!","v":{"$error":"#REF!"}},{"$f":"+Zał.1_WPF_bazowy!#REF!","v":{"$error":"#REF!"}},{"$f":"+Zał.1_WPF_bazowy!#REF!","v":{"$error":"#REF!"}},{"$f":"+Zał.1_WPF_bazowy!#REF!","v":{"$error":"#REF!"}},{"$f":"+Zał.1_WPF_bazowy!#REF!","v":{"$error":"#REF!"}},{"$f":"+Zał.1_WPF_bazowy!#REF!","v":{"$error":"#REF!"}},{"$f":"+Zał.1_WPF_bazowy!#REF!","v":{"$error":"#REF!"}},{"$f":"+Zał.1_WPF_bazowy!#REF!","v":{"$error":"#REF!"}},{"$f":"+Zał.1_WPF_bazowy!#REF!","v":{"$error":"#REF!"}},{"$f":"+Zał.1_WPF_bazowy!#REF!","v":{"$error":"#REF!"}}]
["x","4.1.1",null,"na pokrycie deficytu budżetu",{"$f":"Zał.1_WPF_bazowy!E32","v":0},{"$f":"Zał.1_WPF_bazowy!F32","v":0},{"$f":"Zał.1_WPF_bazowy!G32","v":0},{"$f":"Zał.1_WPF_bazowy!H32","v":211048.35},{"$f":"+Zał.1_WPF_bazowy!I32","v":0},{"$f":"+Zał.1_WPF_bazowy!J32","v":0},{"$f":"+Zał.1_WPF_bazowy!K32","v":0},{"$f":"+Zał.1_WPF_bazowy!L32","v":0},{"$f":"+Zał.1_WPF_bazowy!#REF!","v":{"$error":"#REF!"}},{"$f":"+Zał.1_WPF_bazowy!#REF!","v":{"$error":"#REF!"}},{"$f":"+Zał.1_WPF_bazowy!#REF!","v":{"$error":"#REF!"}},{"$f":"+Zał.1_WPF_bazowy!#REF!","v":{"$error":"#REF!"}},{"$f":"+Zał.1_WPF_bazowy!#REF!","v":{"$error":"#REF!"}},{"$f":"+Zał.1_WPF_bazowy!#REF!","v":{"$error":"#REF!"}},{"$f":"+Zał.1_WPF_bazowy!#REF!","v":{"$error":"#REF!"}},{"$f":"+Zał.1_WPF_bazowy!#REF!","v":{"$error":"#REF!"}},{"$f":"+Zał.1_WPF_bazowy!#REF!","v":{"$error":"#REF!"}},{"$f":"+Zał.1_WPF_bazowy!#REF!","v":{"$error":"#REF!"}},{"$f":"+Zał.1_WPF_bazowy!#REF!","v":{"$error":"#REF!"}},{"$f":"+Zał.1_WPF_bazowy!#REF!","v":{"$error":"#REF!"}},{"$f":"+Zał.1_WPF_bazowy!#REF!","v":{"$error":"#REF!"}},{"$f":"+Zał.1_WPF_bazowy!#REF!","v":{"$error":"#REF!"}},{"$f":"+Zał.1_WPF_bazowy!#REF!","v":{"$error":"#REF!"}},{"$f":"+Zał.1_WPF_bazowy!#REF!","v":{"$error":"#REF!"}},{"$f":"+Zał.1_WPF_bazowy!#REF!","v":{"$error":"#REF!"}},{"$f":"+Zał.1_WPF_bazowy!#REF!","v":{"$error":"#REF!"}},{"$f":"+Zał.1_WPF_bazowy!#REF!","v":{"$error":"#REF!"}},{"$f":"+Zał.1_WPF_bazowy!#REF!","v":{"$error":"#REF!"}},{"$f":"+Zał.1_WPF_bazowy!#REF!","v":{"$error":"#REF!"}},{"$f":"+Zał.1_WPF_bazowy!#REF!","v":{"$error":"#REF!"}},{"$f":"+Zał.1_WPF_bazowy!#REF!","v":{"$error":"#REF!"}},{"$f":"+Zał.1_WPF_bazowy!#REF!","v":{"$error":"#REF!"}},{"$f":"+Zał.1_WPF_bazowy!#REF!","v":{"$error":"#REF!"}},{"$f":"+Zał.1_WPF_bazowy!#REF!","v":{"$error":"#REF!"}}]
["x","4.2",null,"Wolne środki, o których mowa w art. 217 ust.2 pkt 6 ustawy, w tym:",{"$f":"Zał.1_WPF_bazowy!E33","v":186016.39},{"$f":"Zał.1_WPF_bazowy!F33","v":902519.37},{"$f":"Zał.1_WPF_bazowy!G33","v":1422477.65},{"$f":"Zał.1_WPF_bazowy!H33","v":1422477.65},{"$f":"+Zał.1_WPF_bazowy!I33","v":0},{"$f":"+Zał.1_WPF_bazowy!J33","v":0},{"$f":"+Zał.1_WPF_bazowy!K33","v":0},{"$f":"+Zał.1_WPF_bazowy!L33","v":0},{"$f":"+Zał.1_WPF_bazowy!#REF!","v":{"$error":"#REF!"}},{"$f":"+Zał.1_WPF_bazowy!#REF!","v":{"$error":"#REF!"}},{"$f":"+Zał.1_WPF_bazowy!#REF!","v":{"$error":"#REF!"}},{"$f":"+Zał.1_WPF_bazowy!#REF!","v":{"$error":"#REF!"}},{"$f":"+Zał.1_WPF_bazowy!#REF!","v":{"$error":"#REF!"}},{"$f":"+Zał.1_WPF_bazowy!#REF!","v":{"$error":"#REF!"}},{"$f":"+Zał.1_WPF_bazowy!#REF!","v":{"$error":"#REF!"}},{"$f":"+Zał.1_WPF_bazowy!#REF!","v":{"$error":"#REF!"}},{"$f":"+Zał.1_WPF_bazowy!#REF!","v":{"$error":"#REF!"}},{"$f":"+Zał.1_WPF_bazowy!#REF!","v":{"$error":"#REF!"}},{"$f":"+Zał.1_WPF_bazowy!#REF!","v":{"$error":"#REF!"}},{"$f":"+Zał.1_WPF_bazowy!#REF!","v":{"$error":"#REF!"}},{"$f":"+Zał.1_WPF_bazowy!#REF!","v":{"$error":"#REF!"}},{"$f":"+Zał.1_WPF_bazowy!#REF!","v":{"$error":"#REF!"}},{"$f":"+Zał.1_WPF_bazowy!#REF!","v":{"$error":"#REF!"}},{"$f":"+Zał.1_WPF_bazowy!#REF!","v":{"$error":"#REF!"}},{"$f":"+Zał.1_WPF_bazowy!#REF!","v":{"$error":"#REF!"}},{"$f":"+Zał.1_WPF_bazowy!#REF!","v":{"$error":"#REF!"}},{"$f":"+Zał.1_WPF_bazowy!#REF!","v":{"$error":"#REF!"}},{"$f":"+Zał.1_WPF_bazowy!#REF!","v":{"$error":"#REF!"}},{"$f":"+Zał.1_WPF_bazowy!#REF!","v":{"$error":"#REF!"}},{"$f":"+Zał.1_WPF_bazowy!#REF!","v":{"$error":"#REF!"}},{"$f":"+Zał.1_WPF_bazowy!#REF!","v":{"$error":"#REF!"}},{"$f":"+Zał.1_WPF_bazowy!#REF!","v":{"$error":"#REF!"}},{"$f":"+Zał.1_WPF_bazowy!#REF!","v":{"$error":"#REF!"}},{"$f":"+Zał.1_WPF_bazowy!#REF!","v":{"$error":"#REF!"}}]
["x","4.2.1",null,"na pokrycie deficytu budżetu",{"$f":"Zał.1_WPF_bazowy!E34","v":0},{"$f":"Zał.1_WPF_bazowy!F34","v":0},{"$f":"Zał.1_WPF_bazowy!G34","v":1024306.28},{"$f":"Zał.1_WPF_bazowy!H34","v":1422477.65},{"$f":"+Zał.1_WPF_bazowy!I34","v":0},{"$f":"+Zał.1_WPF_bazowy!J34","v":0},{"$f":"+Zał.1_WPF_bazowy!K34","v":0},{"$f":"+Zał.1_WPF_bazowy!L34","v":0},{"$f":"+Zał.1_WPF_bazowy!#REF!","v":{"$error":"#REF!"}},{"$f":"+Zał.1_WPF_bazowy!#REF!","v":{"$error":"#REF!"}},{"$f":"+Zał.1_WPF_bazowy!#REF!","v":{"$error":"#REF!"}},{"$f":"+Zał.1_WPF_bazowy!#REF!","v":{"$error":"#REF!"}},{"$f":"+Zał.1_WPF_bazowy!#REF!","v":{"$error":"#REF!"}},{"$f":"+Zał.1_WPF_bazowy!#REF!","v":{"$error":"#REF!"}},{"$f":"+Zał.1_WPF_bazowy!#REF!","v":{"$error":"#REF!"}},{"$f":"+Zał.1_WPF_bazowy!#REF!","v":{"$error":"#REF!"}},{"$f":"+Zał.1_WPF_bazowy!#REF!","v":{"$error":"#REF!"}},{"$f":"+Zał.1_WPF_bazowy!#REF!","v":{"$error":"#REF!"}},{"$f":"+Zał.1_WPF_bazowy!#REF!","v":{"$error":"#REF!"}},{"$f":"+Zał.1_WPF_bazowy!#REF!","v":{"$error":"#REF!"}},{"$f":"+Zał.1_WPF_bazowy!#REF!","v":{"$error":"#REF!"}},{"$f":"+Zał.1_WPF_bazowy!#REF!","v":{"$error":"#REF!"}},{"$f":"+Zał.1_WPF_bazowy!#REF!","v":{"$error":"#REF!"}},{"$f":"+Zał.1_WPF_bazowy!#REF!","v":{"$error":"#REF!"}},{"$f":"+Zał.1_WPF_bazowy!#REF!","v":{"$error":"#REF!"}},{"$f":"+Zał.1_WPF_bazowy!#REF!","v":{"$error":"#REF!"}},{"$f":"+Zał.1_WPF_bazowy!#REF!","v":{"$error":"#REF!"}},{"$f":"+Zał.1_WPF_bazowy!#REF!","v":{"$error":"#REF!"}},{"$f":"+Zał.1_WPF_bazowy!#REF!","v":{"$error":"#REF!"}},{"$f":"+Zał.1_WPF_bazowy!#REF!","v":{"$error":"#REF!"}},{"$f":"+Zał.1_WPF_bazowy!#REF!","v":{"$error":"#REF!"}},{"$f":"+Zał.1_WPF_bazowy!#REF!","v":{"$error":"#REF!"}},{"$f":"+Zał.1_WPF_bazowy!#REF!","v":{"$error":"#REF!"}},{"$f":"+Zał.1_WPF_bazowy!#REF!","v":{"$error":"#REF!"}}]
["x","4.3",null,"Kredyty, pożyczki, emisja papierów wartościowych, w tym:",{"$f":"Zał.1_WPF_bazowy!E35","v":2417813.7400000002},{"$f":"Zał.1_WPF_bazowy!F35","v":148000},{"$f":"Zał.1_WPF_bazowy!G35","v":89000},{"$f":"Zał.1_WPF_bazowy!H35","v":89000},{"$f":"+Zał.1_WPF_bazowy!I35","v":0},{"$f":"+Zał.1_WPF_bazowy!J35","v":0},{"$f":"+Zał.1_WPF_bazowy!K35","v":0},{"$f":"+Zał.1_WPF_bazowy!L35","v":0},{"$f":"+Zał.1_WPF_bazowy!#REF!","v":{"$error":"#REF!"}},{"$f":"+Zał.1_WPF_bazowy!#REF!","v":{"$error":"#REF!"}},{"$f":"+Zał.1_WPF_bazowy!#REF!","v":{"$error":"#REF!"}},{"$f":"+Zał.1_WPF_bazowy!#REF!","v":{"$error":"#REF!"}},{"$f":"+Zał.1_WPF_bazowy!#REF!","v":{"$error":"#REF!"}},{"$f":"+Zał.1_WPF_bazowy!#REF!","v":{"$error":"#REF!"}},{"$f":"+Zał.1_WPF_bazowy!#REF!","v":{"$error":"#REF!"}},{"$f":"+Zał.1_WPF_bazowy!#REF!","v":{"$error":"#REF!"}},{"$f":"+Zał.1_WPF_bazowy!#REF!","v":{"$error":"#REF!"}},{"$f":"+Zał.1_WPF_bazowy!#REF!","v":{"$error":"#REF!"}},{"$f":"+Zał.1_WPF_bazowy!#REF!","v":{"$error":"#REF!"}},{"$f":"+Zał.1_WPF_bazowy!#REF!","v":{"$error":"#REF!"}},{"$f":"+Zał.1_WPF_bazowy!#REF!","v":{"$error":"#REF!"}},{"$f":"+Zał.1_WPF_bazowy!#REF!","v":{"$error":"#REF!"}},{"$f":"+Zał.1_WPF_bazowy!#REF!","v":{"$error":"#REF!"}},{"$f":"+Zał.1_WPF_bazowy!#REF!","v":{"$error":"#REF!"}},{"$f":"+Zał.1_WPF_bazowy!#REF!","v":{"$error":"#REF!"}},{"$f":"+Zał.1_WPF_bazowy!#REF!","v":{"$error":"#REF!"}},{"$f":"+Zał.1_WPF_bazowy!#REF!","v":{"$error":"#REF!"}},{"$f":"+Zał.1_WPF_bazowy!#REF!","v":{"$error":"#REF!"}},{"$f":"+Zał.1_WPF_bazowy!#REF!","v":{"$error":"#REF!"}},{"$f":"+Zał.1_WPF_bazowy!#REF!","v":{"$error":"#REF!"}},{"$f":"+Zał.1_WPF_bazowy!#REF!","v":{"$error":"#REF!"}},{"$f":"+Zał.1_WPF_bazowy!#REF!","v":{"$error":"#REF!"}},{"$f":"+Zał.1_WPF_bazowy!#REF!","v":{"$error":"#REF!"}},{"$f":"+Zał.1_WPF_bazowy!#REF!","v":{"$error":"#REF!"}}]
["x","4.3.1",null,"na pokrycie deficytu budżetu",{"$f":"Zał.1_WPF_bazowy!E36","v":1100222.42},{"$f":"Zał.1_WPF_bazowy!F36","v":0},{"$f":"Zał.1_WPF_bazowy!G36","v":89000},{"$f":"Zał.1_WPF_bazowy!H36","v":89000},{"$f":"+Zał.1_WPF_bazowy!I36","v":0},{"$f":"+Zał.1_WPF_bazowy!J36","v":0},{"$f":"+Zał.1_WPF_bazowy!K36","v":0},{"$f":"+Zał.1_WPF_bazowy!L36","v":0},{"$f":"+Zał.1_WPF_bazowy!#REF!","v":{"$error":"#REF!"}},{"$f":"+Zał.1_WPF_bazowy!#REF!","v":{"$error":"#REF!"}},{"$f":"+Zał.1_WPF_bazowy!#REF!","v":{"$error":"#REF!"}},{"$f":"+Zał.1_WPF_bazowy!#REF!","v":{"$error":"#REF!"}},{"$f":"+Zał.1_WPF_bazowy!#REF!","v":{"$error":"#REF!"}},{"$f":"+Zał.1_WPF_bazowy!#REF!","v":{"$error":"#REF!"}},{"$f":"+Zał.1_WPF_bazowy!#REF!","v":{"$error":"#REF!"}},{"$f":"+Zał.1_WPF_bazowy!#REF!","v":{"$error":"#REF!"}},{"$f":"+Zał.1_WPF_bazowy!#REF!","v":{"$error":"#REF!"}},{"$f":"+Zał.1_WPF_bazowy!#REF!","v":{"$error":"#REF!"}},{"$f":"+Zał.1_WPF_bazowy!#REF!","v":{"$error":"#REF!"}},{"$f":"+Zał.1_WPF_bazowy!#REF!","v":{"$error":"#REF!"}},{"$f":"+Zał.1_WPF_bazowy!#REF!","v":{"$error":"#REF!"}},{"$f":"+Zał.1_WPF_bazowy!#REF!","v":{"$error":"#REF!"}},{"$f":"+Zał.1_WPF_bazowy!#REF!","v":{"$error":"#REF!"}},{"$f":"+Zał.1_WPF_bazowy!#REF!","v":{"$error":"#REF!"}},{"$f":"+Zał.1_WPF_bazowy!#REF!","v":{"$error":"#REF!"}},{"$f":"+Zał.1_WPF_bazowy!#REF!","v":{"$error":"#REF!"}},{"$f":"+Zał.1_WPF_bazowy!#REF!","v":{"$error":"#REF!"}},{"$f":"+Zał.1_WPF_bazowy!#REF!","v":{"$error":"#REF!"}},{"$f":"+Zał.1_WPF_bazowy!#REF!","v":{"$error":"#REF!"}},{"$f":"+Zał.1_WPF_bazowy!#REF!","v":{"$error":"#REF!"}},{"$f":"+Zał.1_WPF_bazowy!#REF!","v":{"$error":"#REF!"}},{"$f":"+Zał.1_WPF_bazowy!#REF!","v":{"$error":"#REF!"}},{"$f":"+Zał.1_WPF_bazowy!#REF!","v":{"$error":"#REF!"}},{"$f":"+Zał.1_WPF_bazowy!#REF!","v":{"$error":"#REF!"}}]
["x","4.4",null,"Inne przychody niezwiązane z zaciągnięciem długu, w tym:",{"$f":"Zał.1_WPF_bazowy!E37","v":21393.72},{"$f":"Zał.1_WPF_bazowy!F37","v":0},{"$f":"Zał.1_WPF_bazowy!G37","v":24682},{"$f":"Zał.1_WPF_bazowy!H37","v":24682},{"$f":"+Zał.1_WPF_bazowy!I37","v":0},{"$f":"+Zał.1_WPF_bazowy!J37","v":0},{"$f":"+Zał.1_WPF_bazowy!K37","v":0},{"$f":"+Zał.1_WPF_bazowy!L37","v":0},{"$f":"+Zał.1_WPF_bazowy!#REF!","v":{"$error":"#REF!"}},{"$f":"+Zał.1_WPF_bazowy!#REF!","v":{"$error":"#REF!"}},{"$f":"+Zał.1_WPF_bazowy!#REF!","v":{"$error":"#REF!"}},{"$f":"+Zał.1_WPF_bazowy!#REF!","v":{"$error":"#REF!"}},{"$f":"+Zał.1_WPF_bazowy!#REF!","v":{"$error":"#REF!"}},{"$f":"+Zał.1_WPF_bazowy!#REF!","v":{"$error":"#REF!"}},{"$f":"+Zał.1_WPF_bazowy!#REF!","v":{"$error":"#REF!"}},{"$f":"+Zał.1_WPF_bazowy!#REF!","v":{"$error":"#REF!"}},{"$f":"+Zał.1_WPF_bazowy!#REF!","v":{"$error":"#REF!"}},{"$f":"+Zał.1_WPF_bazowy!#REF!","v":{"$error":"#REF!"}},{"$f":"+Zał.1_WPF_bazowy!#REF!","v":{"$error":"#REF!"}},{"$f":"+Zał.1_WPF_bazowy!#REF!","v":{"$error":"#REF!"}},{"$f":"+Zał.1_WPF_bazowy!#REF!","v":{"$error":"#REF!"}},{"$f":"+Zał.1_WPF_bazowy!#REF!","v":{"$error":"#REF!"}},{"$f":"+Zał.1_WPF_bazowy!#REF!","v":{"$error":"#REF!"}},{"$f":"+Zał.1_WPF_bazowy!#REF!","v":{"$error":"#REF!"}},{"$f":"+Zał.1_WPF_bazowy!#REF!","v":{"$error":"#REF!"}},{"$f":"+Zał.1_WPF_bazowy!#REF!","v":{"$error":"#REF!"}},{"$f":"+Zał.1_WPF_bazowy!#REF!","v":{"$error":"#REF!"}},{"$f":"+Zał.1_WPF_bazowy!#REF!","v":{"$error":"#REF!"}},{"$f":"+Zał.1_WPF_bazowy!#REF!","v":{"$error":"#REF!"}},{"$f":"+Zał.1_WPF_bazowy!#REF!","v":{"$error":"#REF!"}},{"$f":"+Zał.1_WPF_bazowy!#REF!","v":{"$error":"#REF!"}},{"$f":"+Zał.1_WPF_bazowy!#REF!","v":{"$error":"#REF!"}},{"$f":"+Zał.1_WPF_bazowy!#REF!","v":{"$error":"#REF!"}},{"$f":"+Zał.1_WPF_bazowy!#REF!","v":{"$error":"#REF!"}}]
["x","4.4.1",null,"na pokrycie deficytu budżetu",{"$f":"Zał.1_WPF_bazowy!E38","v":0},{"$f":"Zał.1_WPF_bazowy!F38","v":0},{"$f":"Zał.1_WPF_bazowy!G38","v":0},{"$f":"Zał.1_WPF_bazowy!H38","v":0},{"$f":"+Zał.1_WPF_bazowy!I38","v":0},{"$f":"+Zał.1_WPF_bazowy!J38","v":0},{"$f":"+Zał.1_WPF_bazowy!K38","v":0},{"$f":"+Zał.1_WPF_bazowy!L38","v":0},{"$f":"+Zał.1_WPF_bazowy!#REF!","v":{"$error":"#REF!"}},{"$f":"+Zał.1_WPF_bazowy!#REF!","v":{"$error":"#REF!"}},{"$f":"+Zał.1_WPF_bazowy!#REF!","v":{"$error":"#REF!"}},{"$f":"+Zał.1_WPF_bazowy!#REF!","v":{"$error":"#REF!"}},{"$f":"+Zał.1_WPF_bazowy!#REF!","v":{"$error":"#REF!"}},{"$f":"+Zał.1_WPF_bazowy!#REF!","v":{"$error":"#REF!"}},{"$f":"+Zał.1_WPF_bazowy!#REF!","v":{"$error":"#REF!"}},{"$f":"+Zał.1_WPF_bazowy!#REF!","v":{"$error":"#REF!"}},{"$f":"+Zał.1_WPF_bazowy!#REF!","v":{"$error":"#REF!"}},{"$f":"+Zał.1_WPF_bazowy!#REF!","v":{"$error":"#REF!"}},{"$f":"+Zał.1_WPF_bazowy!#REF!","v":{"$error":"#REF!"}},{"$f":"+Zał.1_WPF_bazowy!#REF!","v":{"$error":"#REF!"}},{"$f":"+Zał.1_WPF_bazowy!#REF!","v":{"$error":"#REF!"}},{"$f":"+Zał.1_WPF_bazowy!#REF!","v":{"$error":"#REF!"}},{"$f":"+Zał.1_WPF_bazowy!#REF!","v":{"$error":"#REF!"}},{"$f":"+Zał.1_WPF_bazowy!#REF!","v":{"$error":"#REF!"}},{"$f":"+Zał.1_WPF_bazowy!#REF!","v":{"$error":"#REF!"}},{"$f":"+Zał.1_WPF_bazowy!#REF!","v":{"$error":"#REF!"}},{"$f":"+Zał.1_WPF_bazowy!#REF!","v":{"$error":"#REF!"}},{"$f":"+Zał.1_WPF_bazowy!#REF!","v":{"$error":"#REF!"}},{"$f":"+Zał.1_WPF_bazowy!#REF!","v":{"$error":"#REF!"}},{"$f":"+Zał.1_WPF_bazowy!#REF!","v":{"$error":"#REF!"}},{"$f":"+Zał.1_WPF_bazowy!#REF!","v":{"$error":"#REF!"}},{"$f":"+Zał.1_WPF_bazowy!#REF!","v":{"$error":"#REF!"}},{"$f":"+Zał.1_WPF_bazowy!#REF!","v":{"$error":"#REF!"}},{"$f":"+Zał.1_WPF_bazowy!#REF!","v":{"$error":"#REF!"}}]
["x",5,"[5.1]+[5.2]","Rozchody budżetu",{"$f":"Zał.1_WPF_bazowy!E39","v":601088.34},{"$f":"Zał.1_WPF_bazowy!F39","v":1303202.75},{"$f":"Zał.1_WPF_bazowy!G39","v":737521.46},{"$f":"+H40+H43","v":737521.46},{"$f":"+I40+I43","v":773956.19},{"$f":"+J40+J43","v":0},0,0,{"$error":"#REF!"},{"$error":"#REF!"},{"$error":"#REF!"},{"$error":"#REF!"},{"$error":"#REF!"},{"$error":"#REF!"},{"$error":"#REF!"},{"$error":"#REF!"},{"$error":"#REF!"},{"$error":"#REF!"},{"$error":"#REF!"},{"$error":"#REF!"},{"$error":"#REF!"},{"$error":"#REF!"},{"$error":"#REF!"},{"$error":"#REF!"},{"$error":"#REF!"},{"$error":"#REF!"},{"$error":"#REF!"},{"$error":"#REF!"},{"$error":"#REF!"},{"$error":"#REF!"},{"$error":"#REF!"},{"$error":"#REF!"},{"$error":"#REF!"},{"$error":"#REF!"}]
["x","5.1",null,"Spłaty rat kapitałowych kredytów i pożyczek oraz wykup papierów wartościowych, w tym:",{"$f":"Zał.1_WPF_bazowy!E40","v":601088.34},{"$f":"Zał.1_WPF_bazowy!F40","v":1278520.75},{"$f":"Zał.1_WPF_bazowy!G40","v":737521.46},{"$f":"Zał.1_WPF_bazowy!H40","v":737521.46},{"$f":"+Zał.1_WPF_bazowy!I40","v":773956.19},{"$f":"+Zał.1_WPF_bazowy!J40","v":0},{"$f":"+Zał.1_WPF_bazowy!K40","v":0},{"$f":"+Zał.1_WPF_bazowy!L40","v":0},{"$f":"+Zał.1_WPF_bazowy!#REF!","v":{"$error":"#REF!"}},{"$f":"+Zał.1_WPF_bazowy!#REF!","v":{"$error":"#REF!"}},{"$f":"+Zał.1_WPF_bazowy!#REF!","v":{"$error":"#REF!"}},{"$f":"+Zał.1_WPF_bazowy!#REF!","v":{"$error":"#REF!"}},{"$f":"+Zał.1_WPF_bazowy!#REF!","v":{"$error":"#REF!"}},{"$f":"+Zał.1_WPF_bazowy!#REF!","v":{"$error":"#REF!"}},{"$f":"+Zał.1_WPF_bazowy!#REF!","v":{"$error":"#REF!"}},{"$f":"+Zał.1_WPF_bazowy!#REF!","v":{"$error":"#REF!"}},{"$f":"+Zał.1_WPF_bazowy!#REF!","v":{"$error":"#REF!"}},{"$f":"+Zał.1_WPF_bazowy!#REF!","v":{"$error":"#REF!"}},{"$f":"+Zał.1_WPF_bazowy!#REF!","v":{"$error":"#REF!"}},{"$f":"+Zał.1_WPF_bazowy!#REF!","v":{"$error":"#REF!"}},{"$f":"+Zał.1_WPF_bazowy!#REF!","v":{"$error":"#REF!"}},{"$f":"+Zał.1_WPF_bazowy!#REF!","v":{"$error":"#REF!"}},{"$f":"+Zał.1_WPF_bazowy!#REF!","v":{"$error":"#REF!"}},{"$f":"+Zał.1_WPF_bazowy!#REF!","v":{"$error":"#REF!"}},{"$f":"+Zał.1_WPF_bazowy!#REF!","v":{"$error":"#REF!"}},{"$f":"+Zał.1_WPF_bazowy!#REF!","v":{"$error":"#REF!"}},{"$f":"+Zał.1_WPF_bazowy!#REF!","v":{"$error":"#REF!"}},{"$f":"+Zał.1_WPF_bazowy!#REF!","v":{"$error":"#REF!"}},{"$f":"+Zał.1_WPF_bazowy!#REF!","v":{"$error":"#REF!"}},{"$f":"+Zał.1_WPF_bazowy!#REF!","v":{"$error":"#REF!"}},{"$f":"+Zał.1_WPF_bazowy!#REF!","v":{"$error":"#REF!"}},{"$f":"+Zał.1_WPF_bazowy!#REF!","v":{"$error":"#REF!"}},{"$f":"+Zał.1_WPF_bazowy!#REF!","v":{"$error":"#REF!"}},{"$f":"+Zał.1_WPF_bazowy!#REF!","v":{"$error":"#REF!"}}]
["x","5.1.1",null,"łączna kwota przypadających na dany rok kwot wyłączeń określonych w: art. 243 ust. 3 pkt 1 ustawy (lub art. 169 ust. 3 pkt 1 ufp z 2005 r.), art. 121a ustawy z dnia 27 sierpnia 2009 r. – Przepisy wprowadzające ustawę o finansach publicznych (Dz. U. Nr 157, poz. 1241, z późn. zm.) oraz art. 36 ustawy z dnia 7 grudnia 2012 r. o zmianie niektórych ustaw związanych z realizacją ustawy budżetowej (Dz.U. poz. 1456), w tym:",{"$f":"Zał.1_WPF_bazowy!E41","v":552822},{"$f":"Zał.1_WPF_bazowy!F41","v":595645.15},{"$f":"Zał.1_WPF_bazowy!G41","v":0},{"$f":"Zał.1_WPF_bazowy!H41","v":0},{"$f":"+Zał.1_WPF_bazowy!I41","v":0},{"$f":"+Zał.1_WPF_bazowy!J41","v":0},{"$f":"+Zał.1_WPF_bazowy!K41","v":0},{"$f":"+Zał.1_WPF_bazowy!L41","v":0},{"$f":"+Zał.1_WPF_bazowy!#REF!","v":{"$error":"#REF!"}},{"$f":"+Zał.1_WPF_bazowy!#REF!","v":{"$error":"#REF!"}},{"$f":"+Zał.1_WPF_bazowy!#REF!","v":{"$error":"#REF!"}},{"$f":"+Zał.1_WPF_bazowy!#REF!","v":{"$error":"#REF!"}},{"$f":"+Zał.1_WPF_bazowy!#REF!","v":{"$error":"#REF!"}},{"$f":"+Zał.1_WPF_bazowy!#REF!","v":{"$error":"#REF!"}},{"$f":"+Zał.1_WPF_bazowy!#REF!","v":{"$error":"#REF!"}},{"$f":"+Zał.1_WPF_bazowy!#REF!","v":{"$error":"#REF!"}},{"$f":"+Zał.1_WPF_bazowy!#REF!","v":{"$error":"#REF!"}},{"$f":"+Zał.1_WPF_bazowy!#REF!","v":{"$error":"#REF!"}},{"$f":"+Zał.1_WPF_bazowy!#REF!","v":{"$error":"#REF!"}},{"$f":"+Zał.1_WPF_bazowy!#REF!","v":{"$error":"#REF!"}},{"$f":"+Zał.1_WPF_bazowy!#REF!","v":{"$error":"#REF!"}},{"$f":"+Zał.1_WPF_bazowy!#REF!","v":{"$error":"#REF!"}},{"$f":"+Zał.1_WPF_bazowy!#REF!","v":{"$error":"#REF!"}},{"$f":"+Zał.1_WPF_bazowy!#REF!","v":{"$error":"#REF!"}},{"$f":"+Zał.1_WPF_bazowy!#REF!","v":{"$error":"#REF!"}},{"$f":"+Zał.1_WPF_bazowy!#REF!","v":{"$error":"#REF!"}},{"$f":"+Zał.1_WPF_bazowy!#REF!","v":{"$error":"#REF!"}},{"$f":"+Zał.1_WPF_bazowy!#REF!","v":{"$error":"#REF!"}},{"$f":"+Zał.1_WPF_bazowy!#REF!","v":{"$error":"#REF!"}},{"$f":"+Zał.1_WPF_bazowy!#REF!","v":{"$error":"#REF!"}},{"$f":"+Zał.1_WPF_bazowy!#REF!","v":{"$error":"#REF!"}},{"$f":"+Zał.1_WPF_bazowy!#REF!","v":{"$error":"#REF!"}},{"$f":"+Zał.1_WPF_bazowy!#REF!","v":{"$error":"#REF!"}},{"$f":"+Zał.1_WPF_bazowy!#REF!","v":{"$error":"#REF!"}}]
["x","5.1.1.1",null,"kwota przypadających na dany rok kwot wyłączeń określonych w art. 243 ust. 3 pkt 1 ustawy lub art. 169 ust. 3 pkt 1 ufp z 2005 r.",{"$f":"Zał.1_WPF_bazowy!E42","v":552822},{"$f":"Zał.1_WPF_bazowy!F42","v":595645.15},{"$f":"Zał.1_WPF_bazowy!G42","v":0},{"$f":"Zał.1_WPF_bazowy!H42","v":0},{"$f":"+Zał.1_WPF_bazowy!I42","v":0},{"$f":"+Zał.1_WPF_bazowy!J42","v":0},{"$f":"+Zał.1_WPF_bazowy!K42","v":0},{"$f":"+Zał.1_WPF_bazowy!L42","v":0},{"$f":"+Zał.1_WPF_bazowy!#REF!","v":{"$error":"#REF!"}},{"$f":"+Zał.1_WPF_bazowy!#REF!","v":{"$error":"#REF!"}},{"$f":"+Zał.1_WPF_bazowy!#REF!","v":{"$error":"#REF!"}},{"$f":"+Zał.1_WPF_bazowy!#REF!","v":{"$error":"#REF!"}},{"$f":"+Zał.1_WPF_bazowy!#REF!","v":{"$error":"#REF!"}},{"$f":"+Zał.1_WPF_bazowy!#REF!","v":{"$error":"#REF!"}},{"$f":"+Zał.1_WPF_bazowy!#REF!","v":{"$error":"#REF!"}},{"$f":"+Zał.1_WPF_bazowy!#REF!","v":{"$error":"#REF!"}},{"$f":"+Zał.1_WPF_bazowy!#REF!","v":{"$error":"#REF!"}},{"$f":"+Zał.1_WPF_bazowy!#REF!","v":{"$error":"#REF!"}},{"$f":"+Zał.1_WPF_bazowy!#REF!","v":{"$error":"#REF!"}},{"$f":"+Zał.1_WPF_bazowy!#REF!","v":{"$error":"#REF!"}},{"$f":"+Zał.1_WPF_bazowy!#REF!","v":{"$error":"#REF!"}},{"$f":"+Zał.1_WPF_bazowy!#REF!","v":{"$error":"#REF!"}},{"$f":"+Zał.1_WPF_bazowy!#REF!","v":{"$error":"#REF!"}},{"$f":"+Zał.1_WPF_bazowy!#REF!","v":{"$error":"#REF!"}},{"$f":"+Zał.1_WPF_bazowy!#REF!","v":{"$error":"#REF!"}},{"$f":"+Zał.1_WPF_bazowy!#REF!","v":{"$error":"#REF!"}},{"$f":"+Zał.1_WPF_bazowy!#REF!","v":{"$error":"#REF!"}},{"$f":"+Zał.1_WPF_bazowy!#REF!","v":{"$error":"#REF!"}},{"$f":"+Zał.1_WPF_bazowy!#REF!","v":{"$error":"#REF!"}},{"$f":"+Zał.1_WPF_bazowy!#REF!","v":{"$error":"#REF!"}},{"$f":"+Zał.1_WPF_bazowy!#REF!","v":{"$error":"#REF!"}},{"$f":"+Zał.1_WPF_bazowy!#REF!","v":{"$error":"#REF!"}},{"$f":"+Zał.1_WPF_bazowy!#REF!","v":{"$error":"#REF!"}},{"$f":"+Zał.1_WPF_bazowy!#REF!","v":{"$error":"#REF!"}}]
[null,"5.2",null,"Inne rozchody niezwiązane ze spłatą długu",{"$f":"Zał.1_WPF_bazowy!E43","v":0},{"$f":"Zał.1_WPF_bazowy!F43","v":24682},{"$f":"Zał.1_WPF_bazowy!G43","v":0},{"$f":"Zał.1_WPF_bazowy!H43","v":0},{"$f":"+Zał.1_WPF_bazowy!I43","v":0},{"$f":"+Zał.1_WPF_bazowy!J43","v":0},{"$f":"+Zał.1_WPF_bazowy!K43","v":0},{"$f":"+Zał.1_WPF_bazowy!L43","v":0},{"$f":"+Zał.1_WPF_bazowy!#REF!","v":{"$error":"#REF!"}},{"$f":"+Zał.1_WPF_bazowy!#REF!","v":{"$error":"#REF!"}},{"$f":"+Zał.1_WPF_bazowy!#REF!","v":{"$error":"#REF!"}},{"$f":"+Zał.1_WPF_bazowy!#REF!","v":{"$error":"#REF!"}},{"$f":"+Zał.1_WPF_bazowy!#REF!","v":{"$error":"#REF!"}},{"$f":"+Zał.1_WPF_bazowy!#REF!","v":{"$error":"#REF!"}},{"$f":"+Zał.1_WPF_bazowy!#REF!","v":{"$error":"#REF!"}},{"$f":"+Zał.1_WPF_bazowy!#REF!","v":{"$error":"#REF!"}},{"$f":"+Zał.1_WPF_bazowy!#REF!","v":{"$error":"#REF!"}},{"$f":"+Zał.1_WPF_bazowy!#REF!","v":{"$error":"#REF!"}},{"$f":"+Zał.1_WPF_bazowy!#REF!","v":{"$error":"#REF!"}},{"$f":"+Zał.1_WPF_bazowy!#REF!","v":{"$error":"#REF!"}},{"$f":"+Zał.1_WPF_bazowy!#REF!","v":{"$error":"#REF!"}},{"$f":"+Zał.1_WPF_bazowy!#REF!","v":{"$error":"#REF!"}},{"$f":"+Zał.1_WPF_bazowy!#REF!","v":{"$error":"#REF!"}},{"$f":"+Zał.1_WPF_bazowy!#REF!","v":{"$error":"#REF!"}},{"$f":"+Zał.1_WPF_bazowy!#REF!","v":{"$error":"#REF!"}},{"$f":"+Zał.1_WPF_bazowy!#REF!","v":{"$error":"#REF!"}},{"$f":"+Zał.1_WPF_bazowy!#REF!","v":{"$error":"#REF!"}},{"$f":"+Zał.1_WPF_bazowy!#REF!","v":{"$error":"#REF!"}},{"$f":"+Zał.1_WPF_bazowy!#REF!","v":{"$error":"#REF!"}},{"$f":"+Zał.1_WPF_bazowy!#REF!","v":{"$error":"#REF!"}},{"$f":"+Zał.1_WPF_bazowy!#REF!","v":{"$error":"#REF!"}},{"$f":"+Zał.1_WPF_bazowy!#REF!","v":{"$error":"#REF!"}},{"$f":"+Zał.1_WPF_bazowy!#REF!","v":{"$error":"#REF!"}},{"$f":"+Zał.1_WPF_bazowy!#REF!","v":{"$error":"#REF!"}}]
["x",6,null,"Kwota długu",{"$f":"Zał.1_WPF_bazowy!E44","v":2552998.4},{"$f":"Zał.1_WPF_bazowy!F44","v":1422477.65},{"$f":"Zał.1_WPF_bazowy!G44","v":773956.19},{"$f":"Zał.1_WPF_bazowy!H44","v":773956.19},{"$f":"+IF(I10<>0,H44+I35-I40+(I99-H99)+I104,0)","v":0},{"$f":"+IF(J10<>0,I44+J35-J40+(J99-I99)+J104,0)","v":0},0,0,{"$error":"#REF!"},{"$error":"#REF!"},{"$error":"#REF!"},{"$error":"#REF!"},{"$error":"#REF!"},{"$error":"#REF!"},{"$error":"#REF!"},{"$error":"#REF!"},{"$error":"#REF!"},{"$error":"#REF!"},{"$error":"#REF!"},{"$error":"#REF!"},{"$error":"#REF!"},{"$error":"#REF!"},{"$error":"#REF!"},{"$error":"#REF!"},{"$error":"#REF!"},{"$error":"#REF!"},{"$error":"#REF!"},{"$error":"#REF!"},{"$error":"#REF!"},{"$error":"#REF!"},{"$error":"#REF!"},{"$error":"#REF!"},{"$error":"#REF!"},{"$error":"#REF!"}]
[null,"6.1",null,"Łączna kwota wyłączeń z ograniczeń długu określonych w art. 170 ust. 3 ufp z 2005 r. oraz w art. 36 ustawy o zmianie niektórych ustaw związanych z realizacją ustawy budżetowej, w tym: ",{"$f":"Zał.1_WPF_bazowy!E45","v":0},{"$f":"Zał.1_WPF_bazowy!F45","v":0},{"$f":"Zał.1_WPF_bazowy!G45","v":0},{"$f":"Zał.1_WPF_bazowy!H45","v":0},{"$f":"+Zał.1_WPF_bazowy!I45","v":0},{"$f":"+Zał.1_WPF_bazowy!J45","v":0},{"$f":"+Zał.1_WPF_bazowy!K45","v":0},{"$f":"+Zał.1_WPF_bazowy!L45","v":0},{"$f":"+Zał.1_WPF_bazowy!#REF!","v":{"$error":"#REF!"}},{"$f":"+Zał.1_WPF_bazowy!#REF!","v":{"$error":"#REF!"}},{"$f":"+Zał.1_WPF_bazowy!#REF!","v":{"$error":"#REF!"}},{"$f":"+Zał.1_WPF_bazowy!#REF!","v":{"$error":"#REF!"}},{"$f":"+Zał.1_WPF_bazowy!#REF!","v":{"$error":"#REF!"}},{"$f":"+Zał.1_WPF_bazowy!#REF!","v":{"$error":"#REF!"}},{"$f":"+Zał.1_WPF_bazowy!#REF!","v":{"$error":"#REF!"}},{"$f":"+Zał.1_WPF_bazowy!#REF!","v":{"$error":"#REF!"}},{"$f":"+Zał.1_WPF_bazowy!#REF!","v":{"$error":"#REF!"}},{"$f":"+Zał.1_WPF_bazowy!#REF!","v":{"$error":"#REF!"}},{"$f":"+Zał.1_WPF_bazowy!#REF!","v":{"$error":"#REF!"}},{"$f":"+Zał.1_WPF_bazowy!#REF!","v":{"$error":"#REF!"}},{"$f":"+Zał.1_WPF_bazowy!#REF!","v":{"$error":"#REF!"}},{"$f":"+Zał.1_WPF_bazowy!#REF!","v":{"$error":"#REF!"}},{"$f":"+Zał.1_WPF_bazowy!#REF!","v":{"$error":"#REF!"}},{"$f":"+Zał.1_WPF_bazowy!#REF!","v":{"$error":"#REF!"}},{"$f":"+Zał.1_WPF_bazowy!#REF!","v":{"$error":"#REF!"}},{"$f":"+Zał.1_WPF_bazowy!#REF!","v":{"$error":"#REF!"}},{"$f":"+Zał.1_WPF_bazowy!#REF!","v":{"$error":"#REF!"}},{"$f":"+Zał.1_WPF_bazowy!#REF!","v":{"$error":"#REF!"}},{"$f":"+Zał.1_WPF_bazowy!#REF!","v":{"$error":"#REF!"}},{"$f":"+Zał.1_WPF_bazowy!#REF!","v":{"$error":"#REF!"}},{"$f":"+Zał.1_WPF_bazowy!#REF!","v":{"$error":"#REF!"}},{"$f":"+Zał.1_WPF_bazowy!#REF!","v":{"$error":"#REF!"}},{"$f":"+Zał.1_WPF_bazowy!#REF!","v":{"$error":"#REF!"}},{"$f":"+Zał.1_WPF_bazowy!#REF!","v":{"$error":"#REF!"}}]
[null,"6.1.1",null,"kwota wyłączeń z ograniczeń długu określonych w art. 170 ust. 3 ufp z 2005 r. ",{"$f":"Zał.1_WPF_bazowy!E46","v":595645.15},{"$f":"Zał.1_WPF_bazowy!F46","v":0},{"$f":"Zał.1_WPF_bazowy!G46","v":0},{"$f":"Zał.1_WPF_bazowy!H46","v":0},{"$f":"+Zał.1_WPF_bazowy!I46","v":0},{"$f":"+Zał.1_WPF_bazowy!J46","v":0},{"$f":"+Zał.1_WPF_bazowy!K46","v":0},{"$f":"+Zał.1_WPF_bazowy!L46","v":0},{"$f":"+Zał.1_WPF_bazowy!#REF!","v":{"$error":"#REF!"}},{"$f":"+Zał.1_WPF_bazowy!#REF!","v":{"$error":"#REF!"}},{"$f":"+Zał.1_WPF_bazowy!#REF!","v":{"$error":"#REF!"}},{"$f":"+Zał.1_WPF_bazowy!#REF!","v":{"$error":"#REF!"}},{"$f":"+Zał.1_WPF_bazowy!#REF!","v":{"$error":"#REF!"}},{"$f":"+Zał.1_WPF_bazowy!#REF!","v":{"$error":"#REF!"}},{"$f":"+Zał.1_WPF_bazowy!#REF!","v":{"$error":"#REF!"}},{"$f":"+Zał.1_WPF_bazowy!#REF!","v":{"$error":"#REF!"}},{"$f":"+Zał.1_WPF_bazowy!#REF!","v":{"$error":"#REF!"}},{"$f":"+Zał.1_WPF_bazowy!#REF!","v":{"$error":"#REF!"}},{"$f":"+Zał.1_WPF_bazowy!#REF!","v":{"$error":"#REF!"}},{"$f":"+Zał.1_WPF_bazowy!#REF!","v":{"$error":"#REF!"}},{"$f":"+Zał.1_WPF_bazowy!#REF!","v":{"$error":"#REF!"}},{"$f":"+Zał.1_WPF_bazowy!#REF!","v":{"$error":"#REF!"}},{"$f":"+Zał.1_WPF_bazowy!#REF!","v":{"$error":"#REF!"}},{"$f":"+Zał.1_WPF_bazowy!#REF!","v":{"$error":"#REF!"}},{"$f":"+Zał.1_WPF_bazowy!#REF!","v":{"$error":"#REF!"}},{"$f":"+Zał.1_WPF_bazowy!#REF!","v":{"$error":"#REF!"}},{"$f":"+Zał.1_WPF_bazowy!#REF!","v":{"$error":"#REF!"}},{"$f":"+Zał.1_WPF_bazowy!#REF!","v":{"$error":"#REF!"}},{"$f":"+Zał.1_WPF_bazowy!#REF!","v":{"$error":"#REF!"}},{"$f":"+Zał.1_WPF_bazowy!#REF!","v":{"$error":"#REF!"}},{"$f":"+Zał.1_WPF_bazowy!#REF!","v":{"$error":"#REF!"}},{"$f":"+Zał.1_WPF_bazowy!#REF!","v":{"$error":"#REF!"}},{"$f":"+Zał.1_WPF_bazowy!#REF!","v":{"$error":"#REF!"}},{"$f":"+Zał.1_WPF_bazowy!#REF!","v":{"$error":"#REF!"}}]
[null,"6.2","[6]/[1]","Wskaźnik zadłużenia do dochodów ogółem określony w art. 170 ufp z 2005 r., bez uwzględniania wyłączeń określonych w pkt 6.1.",{"$f":"Zał.1_WPF_bazowy!E47","v":0.2175},{"$f":"Zał.1_WPF_bazowy!F47","v":0.1012},{"$f":"Zał.1_WPF_bazowy!G47","v":5.7500000000000002E-2},{"$f":"+IF(H10<>0,H44/H10,\"-\")","v":6.1043841739535629E-2},{"$f":"+IF(I10<>0,I44/I10,\"-\")","v":0},{"$f":"+IF(J10<>0,J44/J10,\"-\")","v":0},0,0,{"$error":"#REF!"},{"$error":"#REF!"},{"$error":"#REF!"},{"$error":"#REF!"},{"$error":"#REF!"},{"$error":"#REF!"},{"$error":"#REF!"},{"$error":"#REF!"},{"$error":"#REF!"},{"$error":"#REF!"},{"$error":"#REF!"},{"$error":"#REF!"},{"$error":"#REF!"},{"$error":"#REF!"},{"$error":"#REF!"},{"$error":"#REF!"},{"$error":"#REF!"},{"$error":"#REF!"},{"$error":"#REF!"},{"$error":"#REF!"},{"$error":"#REF!"},{"$error":"#REF!"},{"$error":"#REF!"},{"$error":"#REF!"},{"$error":"#REF!"},{"$error":"#REF!"}]
[null,"6.3","([6]-[6.1])/[1]","Wskaźnik zadłużenia do dochodów ogółem, o którym mowa w art. 170 ufp z 2005 r., po uwzględnieniu wyłączeń określonych w pkt 6.1. ",{"$f":"Zał.1_WPF_bazowy!E48","v":0.2175},{"$f":"Zał.1_WPF_bazowy!F48","v":0.1012},{"$f":"Zał.1_WPF_bazowy!G48","v":5.7500000000000002E-2},{"$f":"+IF(H10<>0,(H44-H45)/H10,\"-\")","v":6.1043841739535629E-2},{"$f":"+IF(I10<>0,(I44-I45)/I10,\"-\")","v":0},{"$f":"+IF(J10<>0,(J44-J45)/J10,\"-\")","v":0},0,0,{"$error":"#REF!"},{"$error":"#REF!"},{"$error":"#REF!"},{"$error":"#REF!"},{"$error":"#REF!"},{"$error":"#REF!"},{"$error":"#REF!"},{"$error":"#REF!"},{"$error":"#REF!"},{"$error":"#REF!"},{"$error":"#REF!"},{"$error":"#REF!"},{"$error":"#REF!"},{"$error":"#REF!"},{"$error":"#REF!"},{"$error":"#REF!"},{"$error":"#REF!"},{"$error":"#REF!"},{"$error":"#REF!"},{"$error":"#REF!"},{"$error":"#REF!"},{"$error":"#REF!"},{"$error":"#REF!"},{"$error":"#REF!"},{"$error":"#REF!"},{"$error":"#REF!"}]
[null,7,null,"Kwota zobowiązań wynikających z przejęcia przez jednostkę samorządu terytorialnego zobowiązań po likwidowanych i przekształcanych jednostkach zaliczanych do sektora finansów publicznych",{"$f":"Zał.1_WPF_bazowy!E49","v":0},{"$f":"Zał.1_WPF_bazowy!F49","v":0},{"$f":"Zał.1_WPF_bazowy!G49","v":0},{"$f":"Zał.1_WPF_bazowy!H49","v":0},{"$f":"+Zał.1_WPF_bazowy!I49","v":0},{"$f":"+Zał.1_WPF_bazowy!J49","v":0},{"$f":"+Zał.1_WPF_bazowy!K49","v":0},{"$f":"+Zał.1_WPF_bazowy!L49","v":0},{"$f":"+Zał.1_WPF_bazowy!#REF!","v":{"$error":"#REF!"}},{"$f":"+Zał.1_WPF_bazowy!#REF!","v":{"$error":"#REF!"}},{"$f":"+Zał.1_WPF_bazowy!#REF!","v":{"$error":"#REF!"}},{"$f":"+Zał.1_WPF_bazowy!#REF!","v":{"$error":"#REF!"}},{"$f":"+Zał.1_WPF_bazowy!#REF!","v":{"$error":"#REF!"}},{"$f":"+Zał.1_WPF_bazowy!#REF!","v":{"$error":"#REF!"}},{"$f":"+Zał.1_WPF_bazowy!#REF!","v":{"$error":"#REF!"}},{"$f":"+Zał.1_WPF_bazowy!#REF!","v":{"$error":"#REF!"}},{"$f":"+Zał.1_WPF_bazowy!#REF!","v":{"$error":"#REF!"}},{"$f":"+Zał.1_WPF_bazowy!#REF!","v":{"$error":"#REF!"}},{"$f":"+Zał.1_WPF_bazowy!#REF!","v":{"$error":"#REF!"}},{"$f":"+Zał.1_WPF_bazowy!#REF!","v":{"$error":"#REF!"}},{"$f":"+Zał.1_WPF_bazowy!#REF!","v":{"$error":"#REF!"}},{"$f":"+Zał.1_WPF_bazowy!#REF!","v":{"$error":"#REF!"}},{"$f":"+Zał.1_WPF_bazowy!#REF!","v":{"$error":"#REF!"}},{"$f":"+Zał.1_WPF_bazowy!#REF!","v":{"$error":"#REF!"}},{"$f":"+Zał.1_WPF_bazowy!#REF!","v":{"$error":"#REF!"}},{"$f":"+Zał.1_WPF_bazowy!#REF!","v":{"$error":"#REF!"}},{"$f":"+Zał.1_WPF_bazowy!#REF!","v":{"$error":"#REF!"}},{"$f":"+Zał.1_WPF_bazowy!#REF!","v":{"$error":"#REF!"}},{"$f":"+Zał.1_WPF_bazowy!#REF!","v":{"$error":"#REF!"}},{"$f":"+Zał.1_WPF_bazowy!#REF!","v":{"$error":"#REF!"}},{"$f":"+Zał.1_WPF_bazowy!#REF!","v":{"$error":"#REF!"}},{"$f":"+Zał.1_WPF_bazowy!#REF!","v":{"$error":"#REF!"}},{"$f":"+Zał.1_WPF_bazowy!#REF!","v":{"$error":"#REF!"}},{"$f":"+Zał.1_WPF_bazowy!#REF!","v":{"$error":"#REF!"}}]
[null,8,null,"Relacja zrównoważenia wydatków bieżących, o której mowa w art. 242 ustawy","x","x","x","x","x","x","x","x","x","x","x","x","x","x","x","x","x","x","x","x","x","x","x","x","x","x","x","x","x","x","x","x","x","x"]
[null,"8.1","[1.1]-[2.1]","Różnica między dochodami bieżącymi a wydatkami bieżącymi",{"$f":"Zał.1_WPF_bazowy!E51","v":975297.61},{"$f":"Zał.1_WPF_bazowy!F51","v":3604694.11},{"$f":"Zał.1_WPF_bazowy!G51","v":2504739.7200000002},{"$f":"+H11-H22","v":2219320},{"$f":"+I11-I22","v":2304552.1899999995},{"$f":"+J11-J22","v":1685000},2682000,2570000,{"$error":"#REF!"},{"$error":"#REF!"},{"$error":"#REF!"},{"$error":"#REF!"},{"$error":"#REF!"},{"$error":"#REF!"},{"$error":"#REF!"},{"$error":"#REF!"},{"$error":"#REF!"},{"$error":"#REF!"},{"$error":"#REF!"},{"$error":"#REF!"},{"$error":"#REF!"},{"$error":"#REF!"},{"$error":"#REF!"},{"$error":"#REF!"},{"$error":"#REF!"},{"$error":"#REF!"},{"$error":"#REF!"},{"$error":"#REF!"},{"$error":"#REF!"},{"$error":"#REF!"},{"$error":"#REF!"},{"$error":"#REF!"},{"$error":"#REF!"},{"$error":"#REF!"}]
[null,"8.2","[1.1]+[4.1]+[4.2]-([2.1]-[2.1.2])","Różnica między dochodami bieżącymi, powiększonymi o nadwyżkę budżetową określoną w pkt 4.1. i wolne środki określone w pkt 4.2. a wydatkami bieżącymi, pomniejszonym o wydatki określone w pkt 2.1.2.",{"$f":"+IF(AND(E9>=2013,E9<=2015),+E11+E31+E33-(E22-E25),+E11+E31+E33-E22)","v":1161314},{"$f":"+IF(AND(F9>=2013,F9<=2015),+F11+F31+F33-(F22-F25),+F11+F31+F33-F22)","v":4507213.4799999986},{"$f":"+IF(AND(G9>=2013,G9<=2015),+G11+G31+G33-(G22-G25),+G11+G31+G33-G22)","v":4241885.4600000009},{"$f":"+IF(AND(H9>=2013,H9<=2015),+H11+H31+H33-(H22-H25),+H11+H31+H33-H22)","v":4565685.4600000009},{"$f":"+IF(AND(I9>=2013,I9<=2015),+I11+I31+I33-(I22-I25),+I11+I31+I33-I22)","v":2304552.1899999995},{"$f":"+IF(AND(J9>=2013,J9<=2015),+J11+J31+J33-(J22-J25),+J11+J31+J33-J22)","v":1685000},2682000,2570000,{"$error":"#REF!"},{"$error":"#REF!"},{"$error":"#REF!"},{"$error":"#REF!"},{"$error":"#REF!"},{"$error":"#REF!"},{"$error":"#REF!"},{"$error":"#REF!"},{"$error":"#REF!"},{"$error":"#REF!"},{"$error":"#REF!"},{"$error":"#REF!"},{"$error":"#REF!"},{"$error":"#REF!"},{"$error":"#REF!"},{"$error":"#REF!"},{"$error":"#REF!"},{"$error":"#REF!"},{"$error":"#REF!"},{"$error":"#REF!"},{"$error":"#REF!"},{"$error":"#REF!"},{"$error":"#REF!"},{"$error":"#REF!"},{"$error":"#REF!"},{"$error":"#REF!"}]
["x",9,null,"Wskaźnik spłaty zobowiązań","x","x","x","x","x","x","x","x","x","x","x","x","x","x","x","x","x","x","x","x","x","x","x","x","x","x","x","x","x","x","x","x","x","x"]
[null,"9.1","([2.1.1]+[2.1.3.1]+[5.1])/[1]","Wskaźnik planowanej łącznej kwoty spłaty zobowiązań, o której mowa w art. 169 ust. 1 ufp z 2005 r. do dochodów ogółem, bez uwzględnienia wyłączeń określonych w pkt 5.1.1. ",{"$f":"Zał.1_WPF_bazowy!E54","v":5.45E-2},{"$f":"Zał.1_WPF_bazowy!F54","v":9.6799999999999997E-2},{"$f":"Zał.1_WPF_bazowy!G54","v":6.1800000000000001E-2},{"$f":"+IF(H10<>0,(H23+H27+H40)/H10,\"-\")","v":6.0930681030711836E-2},{"$f":"+IF(I10<>0,(I23+I27+I40)/I10,\"-\")","v":5.8372071172273644E-2},{"$f":"+IF(J10<>0,(J23+J27+J40)/J10,\"-\")","v":0},0,0,{"$error":"#REF!"},{"$error":"#REF!"},{"$error":"#REF!"},{"$error":"#REF!"},{"$error":"#REF!"},{"$error":"#REF!"},{"$error":"#REF!"},{"$error":"#REF!"},{"$error":"#REF!"},{"$error":"#REF!"},{"$error":"#REF!"},{"$error":"#REF!"},{"$error":"#REF!"},{"$error":"#REF!"},{"$error":"#REF!"},{"$error":"#REF!"},{"$error":"#REF!"},{"$error":"#REF!"},{"$error":"#REF!"},{"$error":"#REF!"},{"$error":"#REF!"},{"$error":"#REF!"},{"$error":"#REF!"},{"$error":"#REF!"},{"$error":"#REF!"},{"$error":"#REF!"}]
[null,"9.2","([2.1.1]+[2.1.3.1]+[5.1]-[5.1.1])/[1]","Wskaźnik planowanej łącznej kwoty spłaty zobowiązań, o której mowa w art. 169 ust. 1 ufp z 2005 r. do dochodów ogółem, po uwzględnieniu wyłączeń przypadających na dany rok określonych w pkt 5.1.1. ",{"$f":"Zał.1_WPF_bazowy!E55","v":7.4000000000000003E-3},{"$f":"Zał.1_WPF_bazowy!F55","v":5.45E-2},{"$f":"Zał.1_WPF_bazowy!G55","v":6.1800000000000001E-2},{"$f":"+IF(H10<>0,(H23+H27+H40-H41-H24)/H10,\"-\")","v":6.0930681030711836E-2},{"$f":"+IF(I10<>0,(I23+I27+I40-I41-I24)/I10,\"-\")","v":5.8372071172273644E-2},{"$f":"+IF(J10<>0,(J23+J27+J40-J41-J24)/J10,\"-\")","v":0},{"$f":"+IF(K10<>0,(K23+K27+K40-K41-K24)/K10,\"-\")","v":0},0,{"$error":"#REF!"},{"$error":"#REF!"},{"$error":"#REF!"},{"$error":"#REF!"},{"$error":"#REF!"},{"$error":"#REF!"},{"$error":"#REF!"},{"$error":"#REF!"},{"$error":"#REF!"},{"$error":"#REF!"},{"$error":"#REF!"},{"$error":"#REF!"},{"$error":"#REF!"},{"$error":"#REF!"},{"$error":"#REF!"},{"$error":"#REF!"},{"$error":"#REF!"},{"$error":"#REF!"},{"$error":"#REF!"},{"$error":"#REF!"},{"$error":"#REF!"},{"$error":"#REF!"},{"$error":"#REF!"},{"$error":"#REF!"},{"$error":"#REF!"},{"$error":"#REF!"}]
["x","9.3","([2.1.1]+[2.1.3.1]+[5.1])/[1]","Wskaźnik planowanej łącznej kwoty spłaty zobowiązań, o której mowa w art. 243 ust. 1 ustawy do dochodów ogółem, bez uwzględnienia zobowiązań związku współtworzonego przez jednostkę samorządu terytorialnego i bez uwzględniania wyłączeń przypadających na dany rok określonych w pkt 5.1.1.",{"$f":"Zał.1_WPF_bazowy!E56","v":5.45E-2},{"$f":"Zał.1_WPF_bazowy!F56","v":9.6799999999999997E-2},{"$f":"Zał.1_WPF_bazowy!G56","v":6.1800000000000001E-2},{"$f":"+IF(H10<>0,(H23+H27+H40)/H10,\"-\")","v":6.0930681030711836E-2},{"$f":"+IF(I10<>0,(I23+I27+I40)/I10,\"-\")","v":5.8372071172273644E-2},{"$f":"+IF(J10<>0,(J23+J27+J40)/J10,\"-\")","v":0},0,0,{"$error":"#REF!"},{"$error":"#REF!"},{"$error":"#REF!"},{"$error":"#REF!"},{"$error":"#REF!"},{"$error":"#REF!"},{"$error":"#REF!"},{"$error":"#REF!"},{"$error":"#REF!"},{"$error":"#REF!"},{"$error":"#REF!"},{"$error":"#REF!"},{"$error":"#REF!"},{"$error":"#REF!"},{"$error":"#REF!"},{"$error":"#REF!"},{"$error":"#REF!"},{"$error":"#REF!"},{"$error":"#REF!"},{"$error":"#REF!"},{"$error":"#REF!"},{"$error":"#REF!"},{"$error":"#REF!"},{"$error":"#REF!"},{"$error":"#REF!"},{"$error":"#REF!"}]
["x","9.4","([2.1.1]+[2.1.3.1]+[5.1]-[5.1.1])/[1]","Wskaźnik planowanej łącznej kwoty spłaty zobowiązań, o której mowa w art. 243 ust. 1 ustawy do dochodów ogółem, bez uwzględnienia zobowiązań związku współtworzonego przez jednostkę samorządu terytorialnego, po uwzględnieniu wyłączeń przypadających na dany rok określonych w pkt 5.1.1. ",{"$f":"Zał.1_WPF_bazowy!E57","v":7.4000000000000003E-3},{"$f":"Zał.1_WPF_bazowy!F57","v":5.45E-2},{"$f":"Zał.1_WPF_bazowy!G57","v":6.1800000000000001E-2},{"$f":"+IF(H10<>0,(H23+H27+H40-H41-H24)/H10,\"-\")","v":6.0930681030711836E-2},{"$f":"+IF(I10<>0,(I23+I27+I40-I41-I24)/I10,\"-\")","v":5.8372071172273644E-2},0,0,0,{"$error":"#REF!"},{"$error":"#REF!"},{"$error":"#REF!"},{"$error":"#REF!"},{"$error":"#REF!"},{"$error":"#REF!"},{"$error":"#REF!"},{"$error":"#REF!"},{"$error":"#REF!"},{"$error":"#REF!"},{"$error":"#REF!"},{"$error":"#REF!"},{"$error":"#REF!"},{"$error":"#REF!"},{"$error":"#REF!"},{"$error":"#REF!"},{"$error":"#REF!"},{"$error":"#REF!"},{"$error":"#REF!"},{"$error":"#REF!"},{"$error":"#REF!"},{"$error":"#REF!"},{"$error":"#REF!"},{"$error":"#REF!"},{"$error":"#REF!"},{"$error":"#REF!"}]
["x","9.5",null,"Kwota zobowiązań związku współtworzonego przez jednostkę samorządu terytorialnego przypadających do spłaty w danym roku budżetowym, podlegająca doliczeniu zgodnie z art. 244 ustawy ",{"$f":"Zał.1_WPF_bazowy!E58","v":0},{"$f":"Zał.1_WPF_bazowy!F58","v":0},{"$f":"Zał.1_WPF_bazowy!G58","v":0},{"$f":"Zał.1_WPF_bazowy!H58","v":0},{"$f":"+Zał.1_WPF_bazowy!I58","v":0},{"$f":"+Zał.1_WPF_bazowy!J58","v":0},{"$f":"+Zał.1_WPF_bazowy!K58","v":0},{"$f":"+Zał.1_WPF_bazowy!L58","v":0},{"$f":"+Zał.1_WPF_bazowy!#REF!","v":{"$error":"#REF!"}},{"$f":"+Zał.1_WPF_bazowy!#REF!","v":{"$error":"#REF!"}},{"$f":"+Zał.1_WPF_bazowy!#REF!","v":{"$error":"#REF!"}},{"$f":"+Zał.1_WPF_bazowy!#REF!","v":{"$error":"#REF!"}},{"$f":"+Zał.1_WPF_bazowy!#REF!","v":{"$error":"#REF!"}},{"$f":"+Zał.1_WPF_bazowy!#REF!","v":{"$error":"#REF!"}},{"$f":"+Zał.1_WPF_bazowy!#REF!","v":{"$error":"#REF!"}},{"$f":"+Zał.1_WPF_bazowy!#REF!","v":{"$error":"#REF!"}},{"$f":"+Zał.1_WPF_bazowy!#REF!","v":{"$error":"#REF!"}},{"$f":"+Zał.1_WPF_bazowy!#REF!","v":{"$error":"#REF!"}},{"$f":"+Zał.1_WPF_bazowy!#REF!","v":{"$error":"#REF!"}},{"$f":"+Zał.1_WPF_bazowy!#REF!","v":{"$error":"#REF!"}},{"$f":"+Zał.1_WPF_bazowy!#REF!","v":{"$error":"#REF!"}},{"$f":"+Zał.1_WPF_bazowy!#REF!","v":{"$error":"#REF!"}},{"$f":"+Zał.1_WPF_bazowy!#REF!","v":{"$error":"#REF!"}},{"$f":"+Zał.1_WPF_bazowy!#REF!","v":{"$error":"#REF!"}},{"$f":"+Zał.1_WPF_bazowy!#REF!","v":{"$error":"#REF!"}},{"$f":"+Zał.1_WPF_bazowy!#REF!","v":{"$error":"#REF!"}},{"$f":"+Zał.1_WPF_bazowy!#REF!","v":{"$error":"#REF!"}},{"$f":"+Zał.1_WPF_bazowy!#REF!","v":{"$error":"#REF!"}},{"$f":"+Zał.1_WPF_bazowy!#REF!","v":{"$error":"#REF!"}},{"$f":"+Zał.1_WPF_bazowy!#REF!","v":{"$error":"#REF!"}},{"$f":"+Zał.1_WPF_bazowy!#REF!","v":{"$error":"#REF!"}},{"$f":"+Zał.1_WPF_bazowy!#REF!","v":{"$error":"#REF!"}},{"$f":"+Zał.1_WPF_bazowy!#REF!","v":{"$error":"#REF!"}},{"$f":"+Zał.1_WPF_bazowy!#REF!","v":{"$error":"#REF!"}}]
["x","9.6","([2.1.1]+[2.1.3.1]+[5.1]+[9.5]-[5.1.1])/[1]","Wskaźnik planowanej łącznej kwoty spłaty zobowiązań, o której mowa w art. 243 ust. 1 ustawy do dochodów ogółem, po uwzględnieniu zobowiązań związku współtworzonego przez jednostkę samorządu terytorialnego oraz po uwzględnieniu wyłączeń przypadających na dany rok określonych w pkt 5.1.1.",{"$f":"Zał.1_WPF_bazowy!E59","v":7.4000000000000003E-3},{"$f":"Zał.1_WPF_bazowy!F59","v":5.45E-2},{"$f":"Zał.1_WPF_bazowy!G59","v":6.1800000000000001E-2},{"$f":"+IF(H10<>0,(H23+H27+H40+H58-H41-H24)/H10,\"-\")","v":6.0930681030711836E-2},{"$f":"+IF(I10<>0,(I23+I27+I40+I58-I41-I24)/I10,\"-\")","v":5.8372071172273644E-2},0,0,0,{"$error":"#REF!"},{"$error":"#REF!"},{"$error":"#REF!"},{"$error":"#REF!"},{"$error":"#REF!"},{"$error":"#REF!"},{"$error":"#REF!"},{"$error":"#REF!"},{"$error":"#REF!"},{"$error":"#REF!"},{"$error":"#REF!"},{"$error":"#REF!"},{"$error":"#REF!"},{"$error":"#REF!"},{"$error":"#REF!"},{"$error":"#REF!"},{"$error":"#REF!"},{"$error":"#REF!"},{"$error":"#REF!"},{"$error":"#REF!"},{"$error":"#REF!"},{"$error":"#REF!"},{"$error":"#REF!"},{"$error":"#REF!"},{"$error":"#REF!"},{"$error":"#REF!"}]
["x","9.6.1","[1.1]+[1.2.1]-[2.1]/[1]","Wskaźnik jednoroczny (prawa strona wzoru z art. 243)",{"$f":"+IF(AND(E9>=2013,E9<=2018),IF(E10<>0,(E11+E19-E22+E25)/E10,0),IF(E10<>0,(E11+E19-E22)/E10,0))","v":9.5076664561442384E-2},{"$f":"+IF(AND(F9>=2013,F9<=2018),IF(F10<>0,(F11+F19-F22+F25)/F10,0),IF(F10<>0,(F11+F19-F22)/F10,0))","v":0.26125200296942935},0.21042659962442112,0.17553227485417663,{"$f":"+IF(AND(I9>=2013,I9<=2018),IF(I10<>0,(I11+I19-I22+I25)/I10,0),IF(I10<>0,(I11+I19-I22)/I10,0))","v":0.18413597693514272},0.1556581986143187,0.22257261410788381,0.21117502054231718,{"$error":"#REF!"},{"$error":"#REF!"},{"$error":"#REF!"},{"$error":"#REF!"},{"$error":"#REF!"},{"$error":"#REF!"},{"$error":"#REF!"},{"$error":"#REF!"},{"$error":"#REF!"},{"$error":"#REF!"},{"$error":"#REF!"},{"$error":"#REF!"},{"$error":"#REF!"},{"$error":"#REF!"},{"$error":"#REF!"},{"$error":"#REF!"},{"$error":"#REF!"},{"$error":"#REF!"},{"$error":"#REF!"},{"$error":"#REF!"},{"$error":"#REF!"},{"$error":"#REF!"},{"$error":"#REF!"},{"$error":"#REF!"},{"$error":"#REF!"},{"$error":"#REF!"}]
["x","9.7","średnia z trzech poprzednich lat [9.6.1]","Dopuszczalny wskaźnik spłaty zobowiązań określony w art. 243 ustawy, po uwzględnieniu wyłączeń określonych w art. 36 ustawy z dnia 7 grudnia 2012 r. o zmianie niektórych ustaw związanych z realizacją ustawy budżetowej, obliczony w oparciu o plan 3 kwartałów roku poprzedzającego rok budżetowy",{"$f":"Zał.1_WPF_bazowy!E61","v":"x"},{"$f":"Zał.1_WPF_bazowy!F61","v":"x"},{"$f":"Zał.1_WPF_bazowy!G61","v":"x"},{"$f":"Zał.1_WPF_bazowy!H61","v":"x"},{"$f":"+IF(I10<>0,(G60+F60+E60)/3,\"-\")","v":0.18891842238509762},{"$f":"+IF(J10<>0,(I60+G60+F60)/3,\"-\")","v":0.21860485984299771},{"$f":"+IF(K10<>0,(J60+I60+G60)/3,\"-\")","v":0.18340692505796086},{"$f":"+IF(L10<>0,(K60+J60+I60)/3,\"-\")","v":0.18745559655244839},{"$f":"+IF(M10<>0,(L60+K60+J60)/3,\"-\")","v":{"$error":"#REF!"}},{"$error":"#REF!"},{"$error":"#REF!"},{"$error":"#REF!"},{"$error":"#REF!"},{"$error":"#REF!"},{"$error":"#REF!"},{"$error":"#REF!"},{"$error":"#REF!"},{"$error":"#REF!"},{"$error":"#REF!"},{"$error":"#REF!"},{"$error":"#REF!"},{"$error":"#REF!"},{"$error":"#REF!"},{"$error":"#REF!"},{"$error":"#REF!"},{"$error":"#REF!"},{"$error":"#REF!"},{"$error":"#REF!"},{"$error":"#REF!"},{"$error":"#REF!"},{"$error":"#REF!"},{"$error":"#REF!"},{"$error":"#REF!"},{"$error":"#REF!"}]
["x","9.7.1","średnia z trzech poprzednich lat [9.6.1]","Dopuszczalny wskaźnik spłaty zobowiązań określony w art. 243 ustawy, po uwzględnieniu wyłączeń określonych w art. 36 ustawy z dnia 7 grudnia 2012 r. o zmianie niektórych ustaw związanych z realizacją ustawy budżetowej, obliczony w oparciu o wykonanie roku poprzedzającego rok budżetowy",{"$f":"Zał.1_WPF_bazowy!E62","v":"x"},{"$f":"Zał.1_WPF_bazowy!F62","v":"x"},{"$f":"Zał.1_WPF_bazowy!G62","v":"x"},{"$f":"Zał.1_WPF_bazowy!H62","v":"x"},{"$f":"+IF(I10<>0,(H60+F60+E60)/3,\"-\")","v":0.17728698079501612},{"$f":"+IF(J10<>0,(I60+H60+F60)/3,\"-\")","v":0.20697341825291624},{"$f":"+IF(K10<>0,(J60+I60+H60)/3,\"-\")","v":0.17177548346787938},{"$f":"+IF(L10<>0,(K60+J60+I60)/3,\"-\")","v":0.18745559655244839},{"$f":"+IF(M10<>0,(L60+K60+J60)/3,\"-\")","v":{"$error":"#REF!"}},{"$error":"#REF!"},{"$error":"#REF!"},{"$error":"#REF!"},{"$error":"#REF!"},{"$error":"#REF!"},{"$error":"#REF!"},{"$error":"#REF!"},{"$error":"#REF!"},{"$error":"#REF!"},{"$error":"#REF!"},{"$error":"#REF!"},{"$error":"#REF!"},{"$error":"#REF!"},{"$error":"#REF!"},{"$error":"#REF!"},{"$error":"#REF!"},{"$error":"#REF!"},{"$error":"#REF!"},{"$error":"#REF!"},{"$error":"#REF!"},{"$error":"#REF!"},{"$error":"#REF!"},{"$error":"#REF!"},{"$error":"#REF!"},{"$error":"#REF!"}]
["x","9.8","[9.6]-[9.7]","Informacja o spełnieniu wskaźnika spłaty zobowiązań określonego w art. 243 ustawy, po uwzględnieniu zobowiązań związku współtworzonego przez jednostkę samorządu terytorialnego oraz po uwzględnieniu wyłączeń określonych w pkt 5.1.1., obliczonego w oparciu o plan 3 kwartałów roku poprzedzającego rok budżetowy",{"$f":"Zał.1_WPF_bazowy!E63","v":"x"},{"$f":"Zał.1_WPF_bazowy!F63","v":"x"},{"$f":"Zał.1_WPF_bazowy!G63","v":"x"},{"$f":"Zał.1_WPF_bazowy!H63","v":"x"},{"$f":"+IF(I10<>0,IF(I61>=I59,\"Spełniona\",\"Nie spełniona\"),\"-\")","v":"Spełniona"},"Spełniona","Spełniona","Spełniona",{"$error":"#REF!"},{"$error":"#REF!"},{"$error":"#REF!"},{"$error":"#REF!"},{"$error":"#REF!"},{"$error":"#REF!"},{"$error":"#REF!"},{"$error":"#REF!"},{"$error":"#REF!"},{"$error":"#REF!"},{"$error":"#REF!"},{"$error":"#REF!"},{"$error":"#REF!"},{"$error":"#REF!"},{"$error":"#REF!"},{"$error":"#REF!"},{"$error":"#REF!"},{"$error":"#REF!"},{"$error":"#REF!"},{"$error":"#REF!"},{"$error":"#REF!"},{"$error":"#REF!"},{"$error":"#REF!"},{"$error":"#REF!"},{"$error":"#REF!"},{"$error":"#REF!"}]
["x","9.8.1","[9.6]-[9.7.1]","Informacja o spełnieniu wskaźnika spłaty zobowiązań określonego w art. 243 ustawy, po uwzględnieniu zobowiązań związku współtworzonego przez jednostkę samorządu terytorialnego oraz po uwzględnieniu wyłączeń określonych w pkt 5.1.1., obliczonego w oparciu o wykonanie roku poprzedzającego rok budżetowy",{"$f":"Zał.1_WPF_bazowy!E64","v":"x"},{"$f":"Zał.1_WPF_bazowy!F64","v":"x"},{"$f":"Zał.1_WPF_bazowy!G64","v":"x"},{"$f":"Zał.1_WPF_bazowy!H64","v":"x"},{"$f":"+IF(I10<>0,IF(I62>=I59,\"Spełniona\",\"Nie spełniona\"),\"-\")","v":"Spełniona"},"Spełniona","Spełniona","Spełniona",{"$error":"#REF!"},{"$error":"#REF!"},{"$error":"#REF!"},{"$error":"#REF!"},{"$error":"#REF!"},{"$error":"#REF!"},{"$error":"#REF!"},{"$error":"#REF!"},{"$error":"#REF!"},{"$error":"#REF!"},{"$error":"#REF!"},{"$error":"#REF!"},{"$error":"#REF!"},{"$error":"#REF!"},{"$error":"#REF!"},{"$error":"#REF!"},{"$error":"#REF!"},{"$error":"#REF!"},{"$error":"#REF!"},{"$error":"#REF!"},{"$error":"#REF!"},{"$error":"#REF!"},{"$error":"#REF!"},{"$error":"#REF!"},{"$error":"#REF!"},{"$error":"#REF!"}]
[null,10,null,"Przeznaczenie prognozowanej nadwyżki budżetowej, w tym na:",{"$f":"Zał.1_WPF_bazowy!E65","v":0},{"$f":"Zał.1_WPF_bazowy!F65","v":0},{"$f":"Zał.1_WPF_bazowy!G65","v":0},{"$f":"Zał.1_WPF_bazowy!H65","v":0},{"$f":"+Zał.1_WPF_bazowy!I65","v":773956.19},{"$f":"+Zał.1_WPF_bazowy!J65","v":0},{"$f":"+Zał.1_WPF_bazowy!K65","v":0},{"$f":"+Zał.1_WPF_bazowy!L65","v":0},{"$f":"+Zał.1_WPF_bazowy!#REF!","v":{"$error":"#REF!"}},{"$f":"+Zał.1_WPF_bazowy!#REF!","v":{"$error":"#REF!"}},{"$f":"+Zał.1_WPF_bazowy!#REF!","v":{"$error":"#REF!"}},{"$f":"+Zał.1_WPF_bazowy!#REF!","v":{"$error":"#REF!"}},{"$f":"+Zał.1_WPF_bazowy!#REF!","v":{"$error":"#REF!"}},{"$f":"+Zał.1_WPF_bazowy!#REF!","v":{"$error":"#REF!"}},{"$f":"+Zał.1_WPF_bazowy!#REF!","v":{"$error":"#REF!"}},{"$f":"+Zał.1_WPF_bazowy!#REF!","v":{"$error":"#REF!"}},{"$f":"+Zał.1_WPF_bazowy!#REF!","v":{"$error":"#REF!"}},{"$f":"+Zał.1_WPF_bazowy!#REF!","v":{"$error":"#REF!"}},{"$f":"+Zał.1_WPF_bazowy!#REF!","v":{"$error":"#REF!"}},{"$f":"+Zał.1_WPF_bazowy!#REF!","v":{"$error":"#REF!"}},{"$f":"+Zał.1_WPF_bazowy!#REF!","v":{"$error":"#REF!"}},{"$f":"+Zał.1_WPF_bazowy!#REF!","v":{"$error":"#REF!"}},{"$f":"+Zał.1_WPF_bazowy!#REF!","v":{"$error":"#REF!"}},{"$f":"+Zał.1_WPF_bazowy!#REF!","v":{"$error":"#REF!"}},{"$f":"+Zał.1_WPF_bazowy!#REF!","v":{"$error":"#REF!"}},{"$f":"+Zał.1_WPF_bazowy!#REF!","v":{"$error":"#REF!"}},{"$f":"+Zał.1_WPF_bazowy!#REF!","v":{"$error":"#REF!"}},{"$f":"+Zał.1_WPF_bazowy!#REF!","v":{"$error":"#REF!"}},{"$f":"+Zał.1_WPF_bazowy!#REF!","v":{"$error":"#REF!"}},{"$f":"+Zał.1_WPF_bazowy!#REF!","v":{"$error":"#REF!"}},{"$f":"+Zał.1_WPF_bazowy!#REF!","v":{"$error":"#REF!"}},{"$f":"+Zał.1_WPF_bazowy!#REF!","v":{"$error":"#REF!"}},{"$f":"+Zał.1_WPF_bazowy!#REF!","v":{"$error":"#REF!"}},{"$f":"+Zał.1_WPF_bazowy!#REF!","v":{"$error":"#REF!"}}]
[null,"10.1",null,"Spłaty kredytów, pożyczek i wykup papierów wartościowych",{"$f":"Zał.1_WPF_bazowy!E66","v":0},{"$f":"Zał.1_WPF_bazowy!F66","v":0},{"$f":"Zał.1_WPF_bazowy!G66","v":0},{"$f":"Zał.1_WPF_bazowy!H66","v":0},{"$f":"+Zał.1_WPF_bazowy!I66","v":773956.19},{"$f":"+Zał.1_WPF_bazowy!J66","v":0},{"$f":"+Zał.1_WPF_bazowy!K66","v":0},{"$f":"+Zał.1_WPF_bazowy!L66","v":0},{"$f":"+Zał.1_WPF_bazowy!#REF!","v":{"$error":"#REF!"}},{"$f":"+Zał.1_WPF_bazowy!#REF!","v":{"$error":"#REF!"}},{"$f":"+Zał.1_WPF_bazowy!#REF!","v":{"$error":"#REF!"}},{"$f":"+Zał.1_WPF_bazowy!#REF!","v":{"$error":"#REF!"}},{"$f":"+Zał.1_WPF_bazowy!#REF!","v":{"$error":"#REF!"}},{"$f":"+Zał.1_WPF_bazowy!#REF!","v":{"$error":"#REF!"}},{"$f":"+Zał.1_WPF_bazowy!#REF!","v":{"$error":"#REF!"}},{"$f":"+Zał.1_WPF_bazowy!#REF!","v":{"$error":"#REF!"}},{"$f":"+Zał.1_WPF_bazowy!#REF!","v":{"$error":"#REF!"}},{"$f":"+Zał.1_WPF_bazowy!#REF!","v":{"$error":"#REF!"}},{"$f":"+Zał.1_WPF_bazowy!#REF!","v":{"$error":"#REF!"}},{"$f":"+Zał.1_WPF_bazowy!#REF!","v":{"$error":"#REF!"}},{"$f":"+Zał.1_WPF_bazowy!#REF!","v":{"$error":"#REF!"}},{"$f":"+Zał.1_WPF_bazowy!#REF!","v":{"$error":"#REF!"}},{"$f":"+Zał.1_WPF_bazowy!#REF!","v":{"$error":"#REF!"}},{"$f":"+Zał.1_WPF_bazowy!#REF!","v":{"$error":"#REF!"}},{"$f":"+Zał.1_WPF_bazowy!#REF!","v":{"$error":"#REF!"}},{"$f":"+Zał.1_WPF_bazowy!#REF!","v":{"$error":"#REF!"}},{"$f":"+Zał.1_WPF_bazowy!#REF!","v":{"$error":"#REF!"}},{"$f":"+Zał.1_WPF_bazowy!#REF!","v":{"$error":"#REF!"}},{"$f":"+Zał.1_WPF_bazowy!#REF!","v":{"$error":"#REF!"}},{"$f":"+Zał.1_WPF_bazowy!#REF!","v":{"$error":"#REF!"}},{"$f":"+Zał.1_WPF_bazowy!#REF!","v":{"$error":"#REF!"}},{"$f":"+Zał.1_WPF_bazowy!#REF!","v":{"$error":"#REF!"}},{"$f":"+Zał.1_WPF_bazowy!#REF!","v":{"$error":"#REF!"}},{"$f":"+Zał.1_WPF_bazowy!#REF!","v":{"$error":"#REF!"}}]
[null,11,null,"Informacje uzupełniające o wybranych rodzajach wydatków budżetowych","x","x","x","x","x","x","x","x","x","x","x","x","x","x","x","x","x","x","x","x","x","x","x","x","x","x","x","x","x","x","x","x","x","x"]
[null,"11.1",null,"Wydatki bieżące na wynagrodzenia i składki od nich naliczane",{"$f":"Zał.1_WPF_bazowy!E68","v":4441226.62},{"$f":"Zał.1_WPF_bazowy!F68","v":4171528.09},{"$f":"Zał.1_WPF_bazowy!G68","v":4406547.84},{"$f":"Zał.1_WPF_bazowy!H68","v":4236547},{"$f":"+Zał.1_WPF_bazowy!I68","v":4167113},{"$f":"+Zał.1_WPF_bazowy!J68","v":4271290},{"$f":"+Zał.1_WPF_bazowy!K68","v":4378000},{"$f":"+Zał.1_WPF_bazowy!L68","v":4487450},{"$f":"+Zał.1_WPF_bazowy!#REF!","v":{"$error":"#REF!"}},{"$f":"+Zał.1_WPF_bazowy!#REF!","v":{"$error":"#REF!"}},{"$f":"+Zał.1_WPF_bazowy!#REF!","v":{"$error":"#REF!"}},{"$f":"+Zał.1_WPF_bazowy!#REF!","v":{"$error":"#REF!"}},{"$f":"+Zał.1_WPF_bazowy!#REF!","v":{"$error":"#REF!"}},{"$f":"+Zał.1_WPF_bazowy!#REF!","v":{"$error":"#REF!"}},{"$f":"+Zał.1_WPF_bazowy!#REF!","v":{"$error":"#REF!"}},{"$f":"+Zał.1_WPF_bazowy!#REF!","v":{"$error":"#REF!"}},{"$f":"+Zał.1_WPF_bazowy!#REF!","v":{"$error":"#REF!"}},{"$f":"+Zał.1_WPF_bazowy!#REF!","v":{"$error":"#REF!"}},{"$f":"+Zał.1_WPF_bazowy!#REF!","v":{"$error":"#REF!"}},{"$f":"+Zał.1_WPF_bazowy!#REF!","v":{"$error":"#REF!"}},{"$f":"+Zał.1_WPF_bazowy!#REF!","v":{"$error":"#REF!"}},{"$f":"+Zał.1_WPF_bazowy!#REF!","v":{"$error":"#REF!"}},{"$f":"+Zał.1_WPF_bazowy!#REF!","v":{"$error":"#REF!"}},{"$f":"+Zał.1_WPF_bazowy!#REF!","v":{"$error":"#REF!"}},{"$f":"+Zał.1_WPF_bazowy!#REF!","v":{"$error":"#REF!"}},{"$f":"+Zał.1_WPF_bazowy!#REF!","v":{"$error":"#REF!"}},{"$f":"+Zał.1_WPF_bazowy!#REF!","v":{"$error":"#REF!"}},{"$f":"+Zał.1_WPF_bazowy!#REF!","v":{"$error":"#REF!"}},{"$f":"+Zał.1_WPF_bazowy!#REF!","v":{"$error":"#REF!"}},{"$f":"+Zał.1_WPF_bazowy!#REF!","v":{"$error":"#REF!"}},{"$f":"+Zał.1_WPF_bazowy!#REF!","v":{"$error":"#REF!"}},{"$f":"+Zał.1_WPF_bazowy!#REF!","v":{"$error":"#REF!"}},{"$f":"+Zał.1_WPF_bazowy!#REF!","v":{"$error":"#REF!"}},{"$f":"+Zał.1_WPF_bazowy!#REF!","v":{"$error":"#REF!"}}]
[null,"11.2",null,"Wydatki związane z funkcjonowaniem organów jednostki samorządu terytorialnego",{"$f":"Zał.1_WPF_bazowy!E69","v":1397090.95},{"$f":"Zał.1_WPF_bazowy!F69","v":1438877.18},{"$f":"Zał.1_WPF_bazowy!G69","v":1491519},{"$f":"Zał.1_WPF_bazowy!H69","v":1491519},{"$f":"+Zał.1_WPF_bazowy!I69","v":1487583},{"$f":"+Zał.1_WPF_bazowy!J69","v":1509400},{"$f":"+Zał.1_WPF_bazowy!K69","v":1547135},{"$f":"+Zał.1_WPF_bazowy!L69","v":1585800},{"$f":"+Zał.1_WPF_bazowy!#REF!","v":{"$error":"#REF!"}},{"$f":"+Zał.1_WPF_bazowy!#REF!","v":{"$error":"#REF!"}},{"$f":"+Zał.1_WPF_bazowy!#REF!","v":{"$error":"#REF!"}},{"$f":"+Zał.1_WPF_bazowy!#REF!","v":{"$error":"#REF!"}},{"$f":"+Zał.1_WPF_bazowy!#REF!","v":{"$error":"#REF!"}},{"$f":"+Zał.1_WPF_bazowy!#REF!","v":{"$error":"#REF!"}},{"$f":"+Zał.1_WPF_bazowy!#REF!","v":{"$error":"#REF!"}},{"$f":"+Zał.1_WPF_bazowy!#REF!","v":{"$error":"#REF!"}},{"$f":"+Zał.1_WPF_bazowy!#REF!","v":{"$error":"#REF!"}},{"$f":"+Zał.1_WPF_bazowy!#REF!","v":{"$error":"#REF!"}},{"$f":"+Zał.1_WPF_bazowy!#REF!","v":{"$error":"#REF!"}},{"$f":"+Zał.1_WPF_bazowy!#REF!","v":{"$error":"#REF!"}},{"$f":"+Zał.1_WPF_bazowy!#REF!","v":{"$error":"#REF!"}},{"$f":"+Zał.1_WPF_bazowy!#REF!","v":{"$error":"#REF!"}},{"$f":"+Zał.1_WPF_bazowy!#REF!","v":{"$error":"#REF!"}},{"$f":"+Zał.1_WPF_bazowy!#REF!","v":{"$error":"#REF!"}},{"$f":"+Zał.1_WPF_bazowy!#REF!","v":{"$error":"#REF!"}},{"$f":"+Zał.1_WPF_bazowy!#REF!","v":{"$error":"#REF!"}},{"$f":"+Zał.1_WPF_bazowy!#REF!","v":{"$error":"#REF!"}},{"$f":"+Zał.1_WPF_bazowy!#REF!","v":{"$error":"#REF!"}},{"$f":"+Zał.1_WPF_bazowy!#REF!","v":{"$error":"#REF!"}},{"$f":"+Zał.1_WPF_bazowy!#REF!","v":{"$error":"#REF!"}},{"$f":"+Zał.1_WPF_bazowy!#REF!","v":{"$error":"#REF!"}},{"$f":"+Zał.1_WPF_bazowy!#REF!","v":{"$error":"#REF!"}},{"$f":"+Zał.1_WPF_bazowy!#REF!","v":{"$error":"#REF!"}},{"$f":"+Zał.1_WPF_bazowy!#REF!","v":{"$error":"#REF!"}}]
[null,"11.3","[11.3.1]+[11.3.2]","Wydatki objęte limitem art. 226 ust. 3 ustawy, z tego:",{"$f":"Zał.1_WPF_bazowy!E70","v":1480853.69},{"$f":"Zał.1_WPF_bazowy!F70","v":718974.51},{"$f":"Zał.1_WPF_bazowy!G70","v":3546636.65},{"$f":"+H71+H72","v":3546636.65},{"$f":"+I71+I72","v":30300},{"$f":"+J71+J72","v":784700},0,0,{"$error":"#REF!"},{"$error":"#REF!"},{"$error":"#REF!"},{"$error":"#REF!"},{"$error":"#REF!"},{"$error":"#REF!"},{"$error":"#REF!"},{"$error":"#REF!"},{"$error":"#REF!"},{"$error":"#REF!"},{"$error":"#REF!"},{"$error":"#REF!"},{"$error":"#REF!"},{"$error":"#REF!"},{"$error":"#REF!"},{"$error":"#REF!"},{"$error":"#REF!"},{"$error":"#REF!"},{"$error":"#REF!"},{"$error":"#REF!"},{"$error":"#REF!"},{"$error":"#REF!"},{"$error":"#REF!"},{"$error":"#REF!"},{"$error":"#REF!"},{"$error":"#REF!"}]
[null,"11.3.1",null,"bieżące",{"$f":"Zał.1_WPF_bazowy!E71","v":123162.52},{"$f":"Zał.1_WPF_bazowy!F71","v":156869.10999999999},{"$f":"Zał.1_WPF_bazowy!G71","v":145119.65},{"$f":"Zał.1_WPF_bazowy!H71","v":145119.65},{"$f":"+Zał.1_WPF_bazowy!I71","v":0},{"$f":"+Zał.1_WPF_bazowy!J71","v":0},{"$f":"+Zał.1_WPF_bazowy!K71","v":0},{"$f":"+Zał.1_WPF_bazowy!L71","v":0},{"$f":"+Zał.1_WPF_bazowy!#REF!","v":{"$error":"#REF!"}},{"$f":"+Zał.1_WPF_bazowy!#REF!","v":{"$error":"#REF!"}},{"$f":"+Zał.1_WPF_bazowy!#REF!","v":{"$error":"#REF!"}},{"$f":"+Zał.1_WPF_bazowy!#REF!","v":{"$error":"#REF!"}},{"$f":"+Zał.1_WPF_bazowy!#REF!","v":{"$error":"#REF!"}},{"$f":"+Zał.1_WPF_bazowy!#REF!","v":{"$error":"#REF!"}},{"$f":"+Zał.1_WPF_bazowy!#REF!","v":{"$error":"#REF!"}},{"$f":"+Zał.1_WPF_bazowy!#REF!","v":{"$error":"#REF!"}},{"$f":"+Zał.1_WPF_bazowy!#REF!","v":{"$error":"#REF!"}},{"$f":"+Zał.1_WPF_bazowy!#REF!","v":{"$error":"#REF!"}},{"$f":"+Zał.1_WPF_bazowy!#REF!","v":{"$error":"#REF!"}},{"$f":"+Zał.1_WPF_bazowy!#REF!","v":{"$error":"#REF!"}},{"$f":"+Zał.1_WPF_bazowy!#REF!","v":{"$error":"#REF!"}},{"$f":"+Zał.1_WPF_bazowy!#REF!","v":{"$error":"#REF!"}},{"$f":"+Zał.1_WPF_bazowy!#REF!","v":{"$error":"#REF!"}},{"$f":"+Zał.1_WPF_bazowy!#REF!","v":{"$error":"#REF!"}},{"$f":"+Zał.1_WPF_bazowy!#REF!","v":{"$error":"#REF!"}},{"$f":"+Zał.1_WPF_bazowy!#REF!","v":{"$error":"#REF!"}},{"$f":"+Zał.1_WPF_bazowy!#REF!","v":{"$error":"#REF!"}},{"$f":"+Zał.1_WPF_bazowy!#REF!","v":{"$error":"#REF!"}},{"$f":"+Zał.1_WPF_bazowy!#REF!","v":{"$error":"#REF!"}},{"$f":"+Zał.1_WPF_bazowy!#REF!","v":{"$error":"#REF!"}},{"$f":"+Zał.1_WPF_bazowy!#REF!","v":{"$error":"#REF!"}},{"$f":"+Zał.1_WPF_bazowy!#REF!","v":{"$error":"#REF!"}},{"$f":"+Zał.1_WPF_bazowy!#REF!","v":{"$error":"#REF!"}},{"$f":"+Zał.1_WPF_bazowy!#REF!","v":{"$error":"#REF!"}}]
[null,"11.3.2",null,"majątkowe",{"$f":"Zał.1_WPF_bazowy!E72","v":1357691.17},{"$f":"Zał.1_WPF_bazowy!F72","v":562105.4},{"$f":"Zał.1_WPF_bazowy!G72","v":3401517},{"$f":"Zał.1_WPF_bazowy!H72","v":3401517},{"$f":"+Zał.1_WPF_bazowy!I72","v":30300},{"$f":"+Zał.1_WPF_bazowy!J72","v":784700},{"$f":"+Zał.1_WPF_bazowy!K72","v":0},{"$f":"+Zał.1_WPF_bazowy!L72","v":0},{"$f":"+Zał.1_WPF_bazowy!#REF!","v":{"$error":"#REF!"}},{"$f":"+Zał.1_WPF_bazowy!#REF!","v":{"$error":"#REF!"}},{"$f":"+Zał.1_WPF_bazowy!#REF!","v":{"$error":"#REF!"}},{"$f":"+Zał.1_WPF_bazowy!#REF!","v":{"$error":"#REF!"}},{"$f":"+Zał.1_WPF_bazowy!#REF!","v":{"$error":"#REF!"}},{"$f":"+Zał.1_WPF_bazowy!#REF!","v":{"$error":"#REF!"}},{"$f":"+Zał.1_WPF_bazowy!#REF!","v":{"$error":"#REF!"}},{"$f":"+Zał.1_WPF_bazowy!#REF!","v":{"$error":"#REF!"}},{"$f":"+Zał.1_WPF_bazowy!#REF!","v":{"$error":"#REF!"}},{"$f":"+Zał.1_WPF_bazowy!#REF!","v":{"$error":"#REF!"}},{"$f":"+Zał.1_WPF_bazowy!#REF!","v":{"$error":"#REF!"}},{"$f":"+Zał.1_WPF_bazowy!#REF!","v":{"$error":"#REF!"}},{"$f":"+Zał.1_WPF_bazowy!#REF!","v":{"$error":"#REF!"}},{"$f":"+Zał.1_WPF_bazowy!#REF!","v":{"$error":"#REF!"}},{"$f":"+Zał.1_WPF_bazowy!#REF!","v":{"$error":"#REF!"}},{"$f":"+Zał.1_WPF_bazowy!#REF!","v":{"$error":"#REF!"}},{"$f":"+Zał.1_WPF_bazowy!#REF!","v":{"$error":"#REF!"}},{"$f":"+Zał.1_WPF_bazowy!#REF!","v":{"$error":"#REF!"}},{"$f":"+Zał.1_WPF_bazowy!#REF!","v":{"$error":"#REF!"}},{"$f":"+Zał.1_WPF_bazowy!#REF!","v":{"$error":"#REF!"}},{"$f":"+Zał.1_WPF_bazowy!#REF!","v":{"$error":"#REF!"}},{"$f":"+Zał.1_WPF_bazowy!#REF!","v":{"$error":"#REF!"}},{"$f":"+Zał.1_WPF_bazowy!#REF!","v":{"$error":"#REF!"}},{"$f":"+Zał.1_WPF_bazowy!#REF!","v":{"$error":"#REF!"}},{"$f":"+Zał.1_WPF_bazowy!#REF!","v":{"$error":"#REF!"}},{"$f":"+Zał.1_WPF_bazowy!#REF!","v":{"$error":"#REF!"}}]
[null,"11.4",null,"Wydatki inwestycyjne kontynuowane ",{"$f":"Zał.1_WPF_bazowy!E73","v":1173514.32},{"$f":"Zał.1_WPF_bazowy!F73","v":835040.96},{"$f":"Zał.1_WPF_bazowy!G73","v":3401517},{"$f":"Zał.1_WPF_bazowy!H73","v":3401517},{"$f":"+Zał.1_WPF_bazowy!I73","v":0},{"$f":"+Zał.1_WPF_bazowy!J73","v":784700},{"$f":"+Zał.1_WPF_bazowy!K73","v":0},{"$f":"+Zał.1_WPF_bazowy!L73","v":0},{"$f":"+Zał.1_WPF_bazowy!#REF!","v":{"$error":"#REF!"}},{"$f":"+Zał.1_WPF_bazowy!#REF!","v":{"$error":"#REF!"}},{"$f":"+Zał.1_WPF_bazowy!#REF!","v":{"$error":"#REF!"}},{"$f":"+Zał.1_WPF_bazowy!#REF!","v":{"$error":"#REF!"}},{"$f":"+Zał.1_WPF_bazowy!#REF!","v":{"$error":"#REF!"}},{"$f":"+Zał.1_WPF_bazowy!#REF!","v":{"$error":"#REF!"}},{"$f":"+Zał.1_WPF_bazowy!#REF!","v":{"$error":"#REF!"}},{"$f":"+Zał.1_WPF_bazowy!#REF!","v":{"$error":"#REF!"}},{"$f":"+Zał.1_WPF_bazowy!#REF!","v":{"$error":"#REF!"}},{"$f":"+Zał.1_WPF_bazowy!#REF!","v":{"$error":"#REF!"}},{"$f":"+Zał.1_WPF_bazowy!#REF!","v":{"$error":"#REF!"}},{"$f":"+Zał.1_WPF_bazowy!#REF!","v":{"$error":"#REF!"}},{"$f":"+Zał.1_WPF_bazowy!#REF!","v":{"$error":"#REF!"}},{"$f":"+Zał.1_WPF_bazowy!#REF!","v":{"$error":"#REF!"}},{"$f":"+Zał.1_WPF_bazowy!#REF!","v":{"$error":"#REF!"}},{"$f":"+Zał.1_WPF_bazowy!#REF!","v":{"$error":"#REF!"}},{"$f":"+Zał.1_WPF_bazowy!#REF!","v":{"$error":"#REF!"}},{"$f":"+Zał.1_WPF_bazowy!#REF!","v":{"$error":"#REF!"}},{"$f":"+Zał.1_WPF_bazowy!#REF!","v":{"$error":"#REF!"}},{"$f":"+Zał.1_WPF_bazowy!#REF!","v":{"$error":"#REF!"}},{"$f":"+Zał.1_WPF_bazowy!#REF!","v":{"$error":"#REF!"}},{"$f":"+Zał.1_WPF_bazowy!#REF!","v":{"$error":"#REF!"}},{"$f":"+Zał.1_WPF_bazowy!#REF!","v":{"$error":"#REF!"}},{"$f":"+Zał.1_WPF_bazowy!#REF!","v":{"$error":"#REF!"}},{"$f":"+Zał.1_WPF_bazowy!#REF!","v":{"$error":"#REF!"}},{"$f":"+Zał.1_WPF_bazowy!#REF!","v":{"$error":"#REF!"}}]
[null,"11.5",null,"Nowe wydatki inwestycyjne",{"$f":"Zał.1_WPF_bazowy!E74","v":2450536},{"$f":"Zał.1_WPF_bazowy!F74","v":1590835.04},{"$f":"Zał.1_WPF_bazowy!G74","v":1184859},{"$f":"Zał.1_WPF_bazowy!H74","v":1184859},{"$f":"+Zał.1_WPF_bazowy!I74","v":3910500},{"$f":"+Zał.1_WPF_bazowy!J74","v":900300},{"$f":"+Zał.1_WPF_bazowy!K74","v":2682000},{"$f":"+Zał.1_WPF_bazowy!L74","v":2570000},{"$f":"+Zał.1_WPF_bazowy!#REF!","v":{"$error":"#REF!"}},{"$f":"+Zał.1_WPF_bazowy!#REF!","v":{"$error":"#REF!"}},{"$f":"+Zał.1_WPF_bazowy!#REF!","v":{"$error":"#REF!"}},{"$f":"+Zał.1_WPF_bazowy!#REF!","v":{"$error":"#REF!"}},{"$f":"+Zał.1_WPF_bazowy!#REF!","v":{"$error":"#REF!"}},{"$f":"+Zał.1_WPF_bazowy!#REF!","v":{"$error":"#REF!"}},{"$f":"+Zał.1_WPF_bazowy!#REF!","v":{"$error":"#REF!"}},{"$f":"+Zał.1_WPF_bazowy!#REF!","v":{"$error":"#REF!"}},{"$f":"+Zał.1_WPF_bazowy!#REF!","v":{"$error":"#REF!"}},{"$f":"+Zał.1_WPF_bazowy!#REF!","v":{"$error":"#REF!"}},{"$f":"+Zał.1_WPF_bazowy!#REF!","v":{"$error":"#REF!"}},{"$f":"+Zał.1_WPF_bazowy!#REF!","v":{"$error":"#REF!"}},{"$f":"+Zał.1_WPF_bazowy!#REF!","v":{"$error":"#REF!"}},{"$f":"+Zał.1_WPF_bazowy!#REF!","v":{"$error":"#REF!"}},{"$f":"+Zał.1_WPF_bazowy!#REF!","v":{"$error":"#REF!"}},{"$f":"+Zał.1_WPF_bazowy!#REF!","v":{"$error":"#REF!"}},{"$f":"+Zał.1_WPF_bazowy!#REF!","v":{"$error":"#REF!"}},{"$f":"+Zał.1_WPF_bazowy!#REF!","v":{"$error":"#REF!"}},{"$f":"+Zał.1_WPF_bazowy!#REF!","v":{"$error":"#REF!"}},{"$f":"+Zał.1_WPF_bazowy!#REF!","v":{"$error":"#REF!"}},{"$f":"+Zał.1_WPF_bazowy!#REF!","v":{"$error":"#REF!"}},{"$f":"+Zał.1_WPF_bazowy!#REF!","v":{"$error":"#REF!"}},{"$f":"+Zał.1_WPF_bazowy!#REF!","v":{"$error":"#REF!"}},{"$f":"+Zał.1_WPF_bazowy!#REF!","v":{"$error":"#REF!"}},{"$f":"+Zał.1_WPF_bazowy!#REF!","v":{"$error":"#REF!"}},{"$f":"+Zał.1_WPF_bazowy!#REF!","v":{"$error":"#REF!"}}]
[null,"11.6",null,"Wydatki majątkowe w formie dotacji ",{"$f":"Zał.1_WPF_bazowy!E75","v":0},{"$f":"Zał.1_WPF_bazowy!F75","v":0},{"$f":"Zał.1_WPF_bazowy!G75","v":39000},{"$f":"Zał.1_WPF_bazowy!H75","v":39000},{"$f":"+Zał.1_WPF_bazowy!I75","v":0},{"$f":"+Zał.1_WPF_bazowy!J75","v":0},{"$f":"+Zał.1_WPF_bazowy!K75","v":0},{"$f":"+Zał.1_WPF_bazowy!L75","v":0},{"$f":"+Zał.1_WPF_bazowy!#REF!","v":{"$error":"#REF!"}},{"$f":"+Zał.1_WPF_bazowy!#REF!","v":{"$error":"#REF!"}},{"$f":"+Zał.1_WPF_bazowy!#REF!","v":{"$error":"#REF!"}},{"$f":"+Zał.1_WPF_bazowy!#REF!","v":{"$error":"#REF!"}},{"$f":"+Zał.1_WPF_bazowy!#REF!","v":{"$error":"#REF!"}},{"$f":"+Zał.1_WPF_bazowy!#REF!","v":{"$error":"#REF!"}},{"$f":"+Zał.1_WPF_bazowy!#REF!","v":{"$error":"#REF!"}},{"$f":"+Zał.1_WPF_bazowy!#REF!","v":{"$error":"#REF!"}},{"$f":"+Zał.1_WPF_bazowy!#REF!","v":{"$error":"#REF!"}},{"$f":"+Zał.1_WPF_bazowy!#REF!","v":{"$error":"#REF!"}},{"$f":"+Zał.1_WPF_bazowy!#REF!","v":{"$error":"#REF!"}},{"$f":"+Zał.1_WPF_bazowy!#REF!","v":{"$error":"#REF!"}},{"$f":"+Zał.1_WPF_bazowy!#REF!","v":{"$error":"#REF!"}},{"$f":"+Zał.1_WPF_bazowy!#REF!","v":{"$error":"#REF!"}},{"$f":"+Zał.1_WPF_bazowy!#REF!","v":{"$error":"#REF!"}},{"$f":"+Zał.1_WPF_bazowy!#REF!","v":{"$error":"#REF!"}},{"$f":"+Zał.1_WPF_bazowy!#REF!","v":{"$error":"#REF!"}},{"$f":"+Zał.1_WPF_bazowy!#REF!","v":{"$error":"#REF!"}},{"$f":"+Zał.1_WPF_bazowy!#REF!","v":{"$error":"#REF!"}},{"$f":"+Zał.1_WPF_bazowy!#REF!","v":{"$error":"#REF!"}},{"$f":"+Zał.1_WPF_bazowy!#REF!","v":{"$error":"#REF!"}},{"$f":"+Zał.1_WPF_bazowy!#REF!","v":{"$error":"#REF!"}},{"$f":"+Zał.1_WPF_bazowy!#REF!","v":{"$error":"#REF!"}},{"$f":"+Zał.1_WPF_bazowy!#REF!","v":{"$error":"#REF!"}},{"$f":"+Zał.1_WPF_bazowy!#REF!","v":{"$error":"#REF!"}},{"$f":"+Zał.1_WPF_bazowy!#REF!","v":{"$error":"#REF!"}}]
[null,12,null,"Finansowanie programów, projektów lub zadań realizowanych z udziałem środków, o których mowa w art. 5 ust. 1 pkt 2 i 3 ustawy","x","x","x","x","x","x","x","x","x","x","x","x","x","x","x","x","x","x","x","x","x","x","x","x","x","x","x","x","x","x","x","x","x","x"]
[null,"12.1",null,"Dochody bieżące na programy, projekty lub zadania finansowane z udziałem środków, o których mowa w art. 5 ust. 1 pkt 2 i 3 ustawy, w tym:",{"$f":"Zał.1_WPF_bazowy!E77","v":104205.75},{"$f":"Zał.1_WPF_bazowy!F77","v":179911.06},{"$f":"Zał.1_WPF_bazowy!G77","v":109888.97},{"$f":"Zał.1_WPF_bazowy!H77","v":109888.97},{"$f":"+Zał.1_WPF_bazowy!I77","v":0},{"$f":"+Zał.1_WPF_bazowy!J77","v":0},{"$f":"+Zał.1_WPF_bazowy!K77","v":0},{"$f":"+Zał.1_WPF_bazowy!L77","v":0},{"$f":"+Zał.1_WPF_bazowy!#REF!","v":{"$error":"#REF!"}},{"$f":"+Zał.1_WPF_bazowy!#REF!","v":{"$error":"#REF!"}},{"$f":"+Zał.1_WPF_bazowy!#REF!","v":{"$error":"#REF!"}},{"$f":"+Zał.1_WPF_bazowy!#REF!","v":{"$error":"#REF!"}},{"$f":"+Zał.1_WPF_bazowy!#REF!","v":{"$error":"#REF!"}},{"$f":"+Zał.1_WPF_bazowy!#REF!","v":{"$error":"#REF!"}},{"$f":"+Zał.1_WPF_bazowy!#REF!","v":{"$error":"#REF!"}},{"$f":"+Zał.1_WPF_bazowy!#REF!","v":{"$error":"#REF!"}},{"$f":"+Zał.1_WPF_bazowy!#REF!","v":{"$error":"#REF!"}},{"$f":"+Zał.1_WPF_bazowy!#REF!","v":{"$error":"#REF!"}},{"$f":"+Zał.1_WPF_bazowy!#REF!","v":{"$error":"#REF!"}},{"$f":"+Zał.1_WPF_bazowy!#REF!","v":{"$error":"#REF!"}},{"$f":"+Zał.1_WPF_bazowy!#REF!","v":{"$error":"#REF!"}},{"$f":"+Zał.1_WPF_bazowy!#REF!","v":{"$error":"#REF!"}},{"$f":"+Zał.1_WPF_bazowy!#REF!","v":{"$error":"#REF!"}},{"$f":"+Zał.1_WPF_bazowy!#REF!","v":{"$error":"#REF!"}},{"$f":"+Zał.1_WPF_bazowy!#REF!","v":{"$error":"#REF!"}},{"$f":"+Zał.1_WPF_bazowy!#REF!","v":{"$error":"#REF!"}},{"$f":"+Zał.1_WPF_bazowy!#REF!","v":{"$error":"#REF!"}},{"$f":"+Zał.1_WPF_bazowy!#REF!","v":{"$error":"#REF!"}},{"$f":"+Zał.1_WPF_bazowy!#REF!","v":{"$error":"#REF!"}},{"$f":"+Zał.1_WPF_bazowy!#REF!","v":{"$error":"#REF!"}},{"$f":"+Zał.1_WPF_bazowy!#REF!","v":{"$error":"#REF!"}},{"$f":"+Zał.1_WPF_bazowy!#REF!","v":{"$error":"#REF!"}},{"$f":"+Zał.1_WPF_bazowy!#REF!","v":{"$error":"#REF!"}},{"$f":"+Zał.1_WPF_bazowy!#REF!","v":{"$error":"#REF!"}}]
[null,"12.1.1",null,"środki określone w art. 5 ust. 1 pkt 2 ustawy, w tym:",{"$f":"Zał.1_WPF_bazowy!E78","v":104205.75},{"$f":"Zał.1_WPF_bazowy!F78","v":160689},{"$f":"Zał.1_WPF_bazowy!G78","v":96205.25},{"$f":"Zał.1_WPF_bazowy!H78","v":96205.25},{"$f":"+Zał.1_WPF_bazowy!I78","v":0},{"$f":"+Zał.1_WPF_bazowy!J78","v":0},{"$f":"+Zał.1_WPF_bazowy!K78","v":0},{"$f":"+Zał.1_WPF_bazowy!L78","v":0},{"$f":"+Zał.1_WPF_bazowy!#REF!","v":{"$error":"#REF!"}},{"$f":"+Zał.1_WPF_bazowy!#REF!","v":{"$error":"#REF!"}},{"$f":"+Zał.1_WPF_bazowy!#REF!","v":{"$error":"#REF!"}},{"$f":"+Zał.1_WPF_bazowy!#REF!","v":{"$error":"#REF!"}},{"$f":"+Zał.1_WPF_bazowy!#REF!","v":{"$error":"#REF!"}},{"$f":"+Zał.1_WPF_bazowy!#REF!","v":{"$error":"#REF!"}},{"$f":"+Zał.1_WPF_bazowy!#REF!","v":{"$error":"#REF!"}},{"$f":"+Zał.1_WPF_bazowy!#REF!","v":{"$error":"#REF!"}},{"$f":"+Zał.1_WPF_bazowy!#REF!","v":{"$error":"#REF!"}},{"$f":"+Zał.1_WPF_bazowy!#REF!","v":{"$error":"#REF!"}},{"$f":"+Zał.1_WPF_bazowy!#REF!","v":{"$error":"#REF!"}},{"$f":"+Zał.1_WPF_bazowy!#REF!","v":{"$error":"#REF!"}},{"$f":"+Zał.1_WPF_bazowy!#REF!","v":{"$error":"#REF!"}},{"$f":"+Zał.1_WPF_bazowy!#REF!","v":{"$error":"#REF!"}},{"$f":"+Zał.1_WPF_bazowy!#REF!","v":{"$error":"#REF!"}},{"$f":"+Zał.1_WPF_bazowy!#REF!","v":{"$error":"#REF!"}},{"$f":"+Zał.1_WPF_bazowy!#REF!","v":{"$error":"#REF!"}},{"$f":"+Zał.1_WPF_bazowy!#REF!","v":{"$error":"#REF!"}},{"$f":"+Zał.1_WPF_bazowy!#REF!","v":{"$error":"#REF!"}},{"$f":"+Zał.1_WPF_bazowy!#REF!","v":{"$error":"#REF!"}},{"$f":"+Zał.1_WPF_bazowy!#REF!","v":{"$error":"#REF!"}},{"$f":"+Zał.1_WPF_bazowy!#REF!","v":{"$error":"#REF!"}},{"$f":"+Zał.1_WPF_bazowy!#REF!","v":{"$error":"#REF!"}},{"$f":"+Zał.1_WPF_bazowy!#REF!","v":{"$error":"#REF!"}},{"$f":"+Zał.1_WPF_bazowy!#REF!","v":{"$error":"#REF!"}},{"$f":"+Zał.1_WPF_bazowy!#REF!","v":{"$error":"#REF!"}}]
[null,"12.1.1.1",null,"środki określone w art. 5 ust. 1 pkt 2 ustawy wynikające wyłącznie z zawartych umów na realizację programu, projektu lub zadania",{"$f":"Zał.1_WPF_bazowy!E79","v":0},{"$f":"Zał.1_WPF_bazowy!F79","v":0},{"$f":"Zał.1_WPF_bazowy!G79","v":96205.25},{"$f":"Zał.1_WPF_bazowy!H79","v":96205.25},{"$f":"+Zał.1_WPF_bazowy!I79","v":0},{"$f":"+Zał.1_WPF_bazowy!J79","v":0},{"$f":"+Zał.1_WPF_bazowy!K79","v":0},{"$f":"+Zał.1_WPF_bazowy!L79","v":0},{"$f":"+Zał.1_WPF_bazowy!#REF!","v":{"$error":"#REF!"}},{"$f":"+Zał.1_WPF_bazowy!#REF!","v":{"$error":"#REF!"}},{"$f":"+Zał.1_WPF_bazowy!#REF!","v":{"$error":"#REF!"}},{"$f":"+Zał.1_WPF_bazowy!#REF!","v":{"$error":"#REF!"}},{"$f":"+Zał.1_WPF_bazowy!#REF!","v":{"$error":"#REF!"}},{"$f":"+Zał.1_WPF_bazowy!#REF!","v":{"$error":"#REF!"}},{"$f":"+Zał.1_WPF_bazowy!#REF!","v":{"$error":"#REF!"}},{"$f":"+Zał.1_WPF_bazowy!#REF!","v":{"$error":"#REF!"}},{"$f":"+Zał.1_WPF_bazowy!#REF!","v":{"$error":"#REF!"}},{"$f":"+Zał.1_WPF_bazowy!#REF!","v":{"$error":"#REF!"}},{"$f":"+Zał.1_WPF_bazowy!#REF!","v":{"$error":"#REF!"}},{"$f":"+Zał.1_WPF_bazowy!#REF!","v":{"$error":"#REF!"}},{"$f":"+Zał.1_WPF_bazowy!#REF!","v":{"$error":"#REF!"}},{"$f":"+Zał.1_WPF_bazowy!#REF!","v":{"$error":"#REF!"}},{"$f":"+Zał.1_WPF_bazowy!#REF!","v":{"$error":"#REF!"}},{"$f":"+Zał.1_WPF_bazowy!#REF!","v":{"$error":"#REF!"}},{"$f":"+Zał.1_WPF_bazowy!#REF!","v":{"$error":"#REF!"}},{"$f":"+Zał.1_WPF_bazowy!#REF!","v":{"$error":"#REF!"}},{"$f":"+Zał.1_WPF_bazowy!#REF!","v":{"$error":"#REF!"}},{"$f":"+Zał.1_WPF_bazowy!#REF!","v":{"$error":"#REF!"}},{"$f":"+Zał.1_WPF_bazowy!#REF!","v":{"$error":"#REF!"}},{"$f":"+Zał.1_WPF_bazowy!#REF!","v":{"$error":"#REF!"}},{"$f":"+Zał.1_WPF_bazowy!#REF!","v":{"$error":"#REF!"}},{"$f":"+Zał.1_WPF_bazowy!#REF!","v":{"$error":"#REF!"}},{"$f":"+Zał.1_WPF_bazowy!#REF!","v":{"$error":"#REF!"}},{"$f":"+Zał.1_WPF_bazowy!#REF!","v":{"$error":"#REF!"}}]
[null,"12.2",null,"Dochody majątkowe na programy, projekty lub zadania finansowane z udziałem środków, o których mowa w art. 5 ust. 1 pkt 2 i 3 ustawy, w tym:",{"$f":"Zał.1_WPF_bazowy!E80","v":1041937.3},{"$f":"Zał.1_WPF_bazowy!F80","v":1013324.7},{"$f":"Zał.1_WPF_bazowy!G80","v":421154},{"$f":"Zał.1_WPF_bazowy!H80","v":421154},{"$f":"+Zał.1_WPF_bazowy!I80","v":2179404},{"$f":"+Zał.1_WPF_bazowy!J80","v":0},{"$f":"+Zał.1_WPF_bazowy!K80","v":0},{"$f":"+Zał.1_WPF_bazowy!L80","v":0},{"$f":"+Zał.1_WPF_bazowy!#REF!","v":{"$error":"#REF!"}},{"$f":"+Zał.1_WPF_bazowy!#REF!","v":{"$error":"#REF!"}},{"$f":"+Zał.1_WPF_bazowy!#REF!","v":{"$error":"#REF!"}},{"$f":"+Zał.1_WPF_bazowy!#REF!","v":{"$error":"#REF!"}},{"$f":"+Zał.1_WPF_bazowy!#REF!","v":{"$error":"#REF!"}},{"$f":"+Zał.1_WPF_bazowy!#REF!","v":{"$error":"#REF!"}},{"$f":"+Zał.1_WPF_bazowy!#REF!","v":{"$error":"#REF!"}},{"$f":"+Zał.1_WPF_bazowy!#REF!","v":{"$error":"#REF!"}},{"$f":"+Zał.1_WPF_bazowy!#REF!","v":{"$error":"#REF!"}},{"$f":"+Zał.1_WPF_bazowy!#REF!","v":{"$error":"#REF!"}},{"$f":"+Zał.1_WPF_bazowy!#REF!","v":{"$error":"#REF!"}},{"$f":"+Zał.1_WPF_bazowy!#REF!","v":{"$error":"#REF!"}},{"$f":"+Zał.1_WPF_bazowy!#REF!","v":{"$error":"#REF!"}},{"$f":"+Zał.1_WPF_bazowy!#REF!","v":{"$error":"#REF!"}},{"$f":"+Zał.1_WPF_bazowy!#REF!","v":{"$error":"#REF!"}},{"$f":"+Zał.1_WPF_bazowy!#REF!","v":{"$error":"#REF!"}},{"$f":"+Zał.1_WPF_bazowy!#REF!","v":{"$error":"#REF!"}},{"$f":"+Zał.1_WPF_bazowy!#REF!","v":{"$error":"#REF!"}},{"$f":"+Zał.1_WPF_bazowy!#REF!","v":{"$error":"#REF!"}},{"$f":"+Zał.1_WPF_bazowy!#REF!","v":{"$error":"#REF!"}},{"$f":"+Zał.1_WPF_bazowy!#REF!","v":{"$error":"#REF!"}},{"$f":"+Zał.1_WPF_bazowy!#REF!","v":{"$error":"#REF!"}},{"$f":"+Zał.1_WPF_bazowy!#REF!","v":{"$error":"#REF!"}},{"$f":"+Zał.1_WPF_bazowy!#REF!","v":{"$error":"#REF!"}},{"$f":"+Zał.1_WPF_bazowy!#REF!","v":{"$error":"#REF!"}},{"$f":"+Zał.1_WPF_bazowy!#REF!","v":{"$error":"#REF!"}}]
[null,"12.2.1",null,"środki określone w art. 5 ust. 1 pkt 2 ustawy, w tym:",{"$f":"Zał.1_WPF_bazowy!E81","v":1041937.3},{"$f":"Zał.1_WPF_bazowy!F81","v":826032},{"$f":"Zał.1_WPF_bazowy!G81","v":232602},{"$f":"Zał.1_WPF_bazowy!H81","v":232602},{"$f":"+Zał.1_WPF_bazowy!I81","v":2114404},{"$f":"+Zał.1_WPF_bazowy!J81","v":0},{"$f":"+Zał.1_WPF_bazowy!K81","v":0},{"$f":"+Zał.1_WPF_bazowy!L81","v":0},{"$f":"+Zał.1_WPF_bazowy!#REF!","v":{"$error":"#REF!"}},{"$f":"+Zał.1_WPF_bazowy!#REF!","v":{"$error":"#REF!"}},{"$f":"+Zał.1_WPF_bazowy!#REF!","v":{"$error":"#REF!"}},{"$f":"+Zał.1_WPF_bazowy!#REF!","v":{"$error":"#REF!"}},{"$f":"+Zał.1_WPF_bazowy!#REF!","v":{"$error":"#REF!"}},{"$f":"+Zał.1_WPF_bazowy!#REF!","v":{"$error":"#REF!"}},{"$f":"+Zał.1_WPF_bazowy!#REF!","v":{"$error":"#REF!"}},{"$f":"+Zał.1_WPF_bazowy!#REF!","v":{"$error":"#REF!"}},{"$f":"+Zał.1_WPF_bazowy!#REF!","v":{"$error":"#REF!"}},{"$f":"+Zał.1_WPF_bazowy!#REF!","v":{"$error":"#REF!"}},{"$f":"+Zał.1_WPF_bazowy!#REF!","v":{"$error":"#REF!"}},{"$f":"+Zał.1_WPF_bazowy!#REF!","v":{"$error":"#REF!"}},{"$f":"+Zał.1_WPF_bazowy!#REF!","v":{"$error":"#REF!"}},{"$f":"+Zał.1_WPF_bazowy!#REF!","v":{"$error":"#REF!"}},{"$f":"+Zał.1_WPF_bazowy!#REF!","v":{"$error":"#REF!"}},{"$f":"+Zał.1_WPF_bazowy!#REF!","v":{"$error":"#REF!"}},{"$f":"+Zał.1_WPF_bazowy!#REF!","v":{"$error":"#REF!"}},{"$f":"+Zał.1_WPF_bazowy!#REF!","v":{"$error":"#REF!"}},{"$f":"+Zał.1_WPF_bazowy!#REF!","v":{"$error":"#REF!"}},{"$f":"+Zał.1_WPF_bazowy!#REF!","v":{"$error":"#REF!"}},{"$f":"+Zał.1_WPF_bazowy!#REF!","v":{"$error":"#REF!"}},{"$f":"+Zał.1_WPF_bazowy!#REF!","v":{"$error":"#REF!"}},{"$f":"+Zał.1_WPF_bazowy!#REF!","v":{"$error":"#REF!"}},{"$f":"+Zał.1_WPF_bazowy!#REF!","v":{"$error":"#REF!"}},{"$f":"+Zał.1_WPF_bazowy!#REF!","v":{"$error":"#REF!"}},{"$f":"+Zał.1_WPF_bazowy!#REF!","v":{"$error":"#REF!"}}]
[null,"12.2.1.1",null,"środki określone w art. 5 ust. 1 pkt 2 ustawy wynikające wyłącznie z zawartych umów na realizację programu, projektu lub zadania",{"$f":"Zał.1_WPF_bazowy!E82","v":0},{"$f":"Zał.1_WPF_bazowy!F82","v":0},{"$f":"Zał.1_WPF_bazowy!G82","v":232602},{"$f":"Zał.1_WPF_bazowy!H82","v":232602},{"$f":"+Zał.1_WPF_bazowy!I82","v":0},{"$f":"+Zał.1_WPF_bazowy!J82","v":0},{"$f":"+Zał.1_WPF_bazowy!K82","v":0},{"$f":"+Zał.1_WPF_bazowy!L82","v":0},{"$f":"+Zał.1_WPF_bazowy!#REF!","v":{"$error":"#REF!"}},{"$f":"+Zał.1_WPF_bazowy!#REF!","v":{"$error":"#REF!"}},{"$f":"+Zał.1_WPF_bazowy!#REF!","v":{"$error":"#REF!"}},{"$f":"+Zał.1_WPF_bazowy!#REF!","v":{"$error":"#REF!"}},{"$f":"+Zał.1_WPF_bazowy!#REF!","v":{"$error":"#REF!"}},{"$f":"+Zał.1_WPF_bazowy!#REF!","v":{"$error":"#REF!"}},{"$f":"+Zał.1_WPF_bazowy!#REF!","v":{"$error":"#REF!"}},{"$f":"+Zał.1_WPF_bazowy!#REF!","v":{"$error":"#REF!"}},{"$f":"+Zał.1_WPF_bazowy!#REF!","v":{"$error":"#REF!"}},{"$f":"+Zał.1_WPF_bazowy!#REF!","v":{"$error":"#REF!"}},{"$f":"+Zał.1_WPF_bazowy!#REF!","v":{"$error":"#REF!"}},{"$f":"+Zał.1_WPF_bazowy!#REF!","v":{"$error":"#REF!"}},{"$f":"+Zał.1_WPF_bazowy!#REF!","v":{"$error":"#REF!"}},{"$f":"+Zał.1_WPF_bazowy!#REF!","v":{"$error":"#REF!"}},{"$f":"+Zał.1_WPF_bazowy!#REF!","v":{"$error":"#REF!"}},{"$f":"+Zał.1_WPF_bazowy!#REF!","v":{"$error":"#REF!"}},{"$f":"+Zał.1_WPF_bazowy!#REF!","v":{"$error":"#REF!"}},{"$f":"+Zał.1_WPF_bazowy!#REF!","v":{"$error":"#REF!"}},{"$f":"+Zał.1_WPF_bazowy!#REF!","v":{"$error":"#REF!"}},{"$f":"+Zał.1_WPF_bazowy!#REF!","v":{"$error":"#REF!"}},{"$f":"+Zał.1_WPF_bazowy!#REF!","v":{"$error":"#REF!"}},{"$f":"+Zał.1_WPF_bazowy!#REF!","v":{"$error":"#REF!"}},{"$f":"+Zał.1_WPF_bazowy!#REF!","v":{"$error":"#REF!"}},{"$f":"+Zał.1_WPF_bazowy!#REF!","v":{"$error":"#REF!"}},{"$f":"+Zał.1_WPF_bazowy!#REF!","v":{"$error":"#REF!"}},{"$f":"+Zał.1_WPF_bazowy!#REF!","v":{"$error":"#REF!"}}]
[null,"12.3",null,"Wydatki bieżące na programy, projekty lub zadania finansowane z udziałem środków, o których mowa w art. 5 ust. 1 pkt 2 i 3 ustawy",{"$f":"Zał.1_WPF_bazowy!E83","v":123162.52},{"$f":"Zał.1_WPF_bazowy!F83","v":156869.10999999999},{"$f":"Zał.1_WPF_bazowy!G83","v":145119.65},{"$f":"Zał.1_WPF_bazowy!H83","v":145119.65},{"$f":"+Zał.1_WPF_bazowy!I83","v":0},{"$f":"+Zał.1_WPF_bazowy!J83","v":0},{"$f":"+Zał.1_WPF_bazowy!K83","v":0},{"$f":"+Zał.1_WPF_bazowy!L83","v":0},{"$f":"+Zał.1_WPF_bazowy!#REF!","v":{"$error":"#REF!"}},{"$f":"+Zał.1_WPF_bazowy!#REF!","v":{"$error":"#REF!"}},{"$f":"+Zał.1_WPF_bazowy!#REF!","v":{"$error":"#REF!"}},{"$f":"+Zał.1_WPF_bazowy!#REF!","v":{"$error":"#REF!"}},{"$f":"+Zał.1_WPF_bazowy!#REF!","v":{"$error":"#REF!"}},{"$f":"+Zał.1_WPF_bazowy!#REF!","v":{"$error":"#REF!"}},{"$f":"+Zał.1_WPF_bazowy!#REF!","v":{"$error":"#REF!"}},{"$f":"+Zał.1_WPF_bazowy!#REF!","v":{"$error":"#REF!"}},{"$f":"+Zał.1_WPF_bazowy!#REF!","v":{"$error":"#REF!"}},{"$f":"+Zał.1_WPF_bazowy!#REF!","v":{"$error":"#REF!"}},{"$f":"+Zał.1_WPF_bazowy!#REF!","v":{"$error":"#REF!"}},{"$f":"+Zał.1_WPF_bazowy!#REF!","v":{"$error":"#REF!"}},{"$f":"+Zał.1_WPF_bazowy!#REF!","v":{"$error":"#REF!"}},{"$f":"+Zał.1_WPF_bazowy!#REF!","v":{"$error":"#REF!"}},{"$f":"+Zał.1_WPF_bazowy!#REF!","v":{"$error":"#REF!"}},{"$f":"+Zał.1_WPF_bazowy!#REF!","v":{"$error":"#REF!"}},{"$f":"+Zał.1_WPF_bazowy!#REF!","v":{"$error":"#REF!"}},{"$f":"+Zał.1_WPF_bazowy!#REF!","v":{"$error":"#REF!"}},{"$f":"+Zał.1_WPF_bazowy!#REF!","v":{"$error":"#REF!"}},{"$f":"+Zał.1_WPF_bazowy!#REF!","v":{"$error":"#REF!"}},{"$f":"+Zał.1_WPF_bazowy!#REF!","v":{"$error":"#REF!"}},{"$f":"+Zał.1_WPF_bazowy!#REF!","v":{"$error":"#REF!"}},{"$f":"+Zał.1_WPF_bazowy!#REF!","v":{"$error":"#REF!"}},{"$f":"+Zał.1_WPF_bazowy!#REF!","v":{"$error":"#REF!"}},{"$f":"+Zał.1_WPF_bazowy!#REF!","v":{"$error":"#REF!"}},{"$f":"+Zał.1_WPF_bazowy!#REF!","v":{"$error":"#REF!"}}]
[null,"12.3.1",null,"w tym finansowane środkami określonymi w art. 5 ust. 1 pkt 2 ustawy ",{"$f":"Zał.1_WPF_bazowy!E84","v":104205.63},{"$f":"Zał.1_WPF_bazowy!F84","v":133542.57999999999},{"$f":"Zał.1_WPF_bazowy!G84","v":123351.7},{"$f":"Zał.1_WPF_bazowy!H84","v":123351.7},{"$f":"+Zał.1_WPF_bazowy!I84","v":0},{"$f":"+Zał.1_WPF_bazowy!J84","v":0},{"$f":"+Zał.1_WPF_bazowy!K84","v":0},{"$f":"+Zał.1_WPF_bazowy!L84","v":0},{"$f":"+Zał.1_WPF_bazowy!#REF!","v":{"$error":"#REF!"}},{"$f":"+Zał.1_WPF_bazowy!#REF!","v":{"$error":"#REF!"}},{"$f":"+Zał.1_WPF_bazowy!#REF!","v":{"$error":"#REF!"}},{"$f":"+Zał.1_WPF_bazowy!#REF!","v":{"$error":"#REF!"}},{"$f":"+Zał.1_WPF_bazowy!#REF!","v":{"$error":"#REF!"}},{"$f":"+Zał.1_WPF_bazowy!#REF!","v":{"$error":"#REF!"}},{"$f":"+Zał.1_WPF_bazowy!#REF!","v":{"$error":"#REF!"}},{"$f":"+Zał.1_WPF_bazowy!#REF!","v":{"$error":"#REF!"}},{"$f":"+Zał.1_WPF_bazowy!#REF!","v":{"$error":"#REF!"}},{"$f":"+Zał.1_WPF_bazowy!#REF!","v":{"$error":"#REF!"}},{"$f":"+Zał.1_WPF_bazowy!#REF!","v":{"$error":"#REF!"}},{"$f":"+Zał.1_WPF_bazowy!#REF!","v":{"$error":"#REF!"}},{"$f":"+Zał.1_WPF_bazowy!#REF!","v":{"$error":"#REF!"}},{"$f":"+Zał.1_WPF_bazowy!#REF!","v":{"$error":"#REF!"}},{"$f":"+Zał.1_WPF_bazowy!#REF!","v":{"$error":"#REF!"}},{"$f":"+Zał.1_WPF_bazowy!#REF!","v":{"$error":"#REF!"}},{"$f":"+Zał.1_WPF_bazowy!#REF!","v":{"$error":"#REF!"}},{"$f":"+Zał.1_WPF_bazowy!#REF!","v":{"$error":"#REF!"}},{"$f":"+Zał.1_WPF_bazowy!#REF!","v":{"$error":"#REF!"}},{"$f":"+Zał.1_WPF_bazowy!#REF!","v":{"$error":"#REF!"}},{"$f":"+Zał.1_WPF_bazowy!#REF!","v":{"$error":"#REF!"}},{"$f":"+Zał.1_WPF_bazowy!#REF!","v":{"$error":"#REF!"}},{"$f":"+Zał.1_WPF_bazowy!#REF!","v":{"$error":"#REF!"}},{"$f":"+Zał.1_WPF_bazowy!#REF!","v":{"$error":"#REF!"}},{"$f":"+Zał.1_WPF_bazowy!#REF!","v":{"$error":"#REF!"}},{"$f":"+Zał.1_WPF_bazowy!#REF!","v":{"$error":"#REF!"}}]
[null,"12.3.2",null,"Wydatki bieżące na realizację programu, projektu lub zadania wynikające wyłącznie z zawartych umów z podmiotem dysponującym środkami, o których mowa w art. 5 ust. 1 pkt 2 ustawy ",{"$f":"Zał.1_WPF_bazowy!E85","v":0},{"$f":"Zał.1_WPF_bazowy!F85","v":0},{"$f":"Zał.1_WPF_bazowy!G85","v":145119.65},{"$f":"Zał.1_WPF_bazowy!H85","v":145119.65},{"$f":"+Zał.1_WPF_bazowy!I85","v":0},{"$f":"+Zał.1_WPF_bazowy!J85","v":0},{"$f":"+Zał.1_WPF_bazowy!K85","v":0},{"$f":"+Zał.1_WPF_bazowy!L85","v":0},{"$f":"+Zał.1_WPF_bazowy!#REF!","v":{"$error":"#REF!"}},{"$f":"+Zał.1_WPF_bazowy!#REF!","v":{"$error":"#REF!"}},{"$f":"+Zał.1_WPF_bazowy!#REF!","v":{"$error":"#REF!"}},{"$f":"+Zał.1_WPF_bazowy!#REF!","v":{"$error":"#REF!"}},{"$f":"+Zał.1_WPF_bazowy!#REF!","v":{"$error":"#REF!"}},{"$f":"+Zał.1_WPF_bazowy!#REF!","v":{"$error":"#REF!"}},{"$f":"+Zał.1_WPF_bazowy!#REF!","v":{"$error":"#REF!"}},{"$f":"+Zał.1_WPF_bazowy!#REF!","v":{"$error":"#REF!"}},{"$f":"+Zał.1_WPF_bazowy!#REF!","v":{"$error":"#REF!"}},{"$f":"+Zał.1_WPF_bazowy!#REF!","v":{"$error":"#REF!"}},{"$f":"+Zał.1_WPF_bazowy!#REF!","v":{"$error":"#REF!"}},{"$f":"+Zał.1_WPF_bazowy!#REF!","v":{"$error":"#REF!"}},{"$f":"+Zał.1_WPF_bazowy!#REF!","v":{"$error":"#REF!"}},{"$f":"+Zał.1_WPF_bazowy!#REF!","v":{"$error":"#REF!"}},{"$f":"+Zał.1_WPF_bazowy!#REF!","v":{"$error":"#REF!"}},{"$f":"+Zał.1_WPF_bazowy!#REF!","v":{"$error":"#REF!"}},{"$f":"+Zał.1_WPF_bazowy!#REF!","v":{"$error":"#REF!"}},{"$f":"+Zał.1_WPF_bazowy!#REF!","v":{"$error":"#REF!"}},{"$f":"+Zał.1_WPF_bazowy!#REF!","v":{"$error":"#REF!"}},{"$f":"+Zał.1_WPF_bazowy!#REF!","v":{"$error":"#REF!"}},{"$f":"+Zał.1_WPF_bazowy!#REF!","v":{"$error":"#REF!"}},{"$f":"+Zał.1_WPF_bazowy!#REF!","v":{"$error":"#REF!"}},{"$f":"+Zał.1_WPF_bazowy!#REF!","v":{"$error":"#REF!"}},{"$f":"+Zał.1_WPF_bazowy!#REF!","v":{"$error":"#REF!"}},{"$f":"+Zał.1_WPF_bazowy!#REF!","v":{"$error":"#REF!"}},{"$f":"+Zał.1_WPF_bazowy!#REF!","v":{"$error":"#REF!"}}]
[null,"12.4",null,"Wydatki majątkowe na programy, projekty lub zadania finansowane z udziałem środków, o których mowa w art. 5 ust. 1 pkt 2 i 3 ustawy",{"$f":"Zał.1_WPF_bazowy!E86","v":650923.96},{"$f":"Zał.1_WPF_bazowy!F86","v":562105.4},{"$f":"Zał.1_WPF_bazowy!G86","v":3401517},{"$f":"Zał.1_WPF_bazowy!H86","v":3401517},{"$f":"+Zał.1_WPF_bazowy!I86","v":0},{"$f":"+Zał.1_WPF_bazowy!J86","v":0},{"$f":"+Zał.1_WPF_bazowy!K86","v":0},{"$f":"+Zał.1_WPF_bazowy!L86","v":0},{"$f":"+Zał.1_WPF_bazowy!#REF!","v":{"$error":"#REF!"}},{"$f":"+Zał.1_WPF_bazowy!#REF!","v":{"$error":"#REF!"}},{"$f":"+Zał.1_WPF_bazowy!#REF!","v":{"$error":"#REF!"}},{"$f":"+Zał.1_WPF_bazowy!#REF!","v":{"$error":"#REF!"}},{"$f":"+Zał.1_WPF_bazowy!#REF!","v":{"$error":"#REF!"}},{"$f":"+Zał.1_WPF_bazowy!#REF!","v":{"$error":"#REF!"}},{"$f":"+Zał.1_WPF_bazowy!#REF!","v":{"$error":"#REF!"}},{"$f":"+Zał.1_WPF_bazowy!#REF!","v":{"$error":"#REF!"}},{"$f":"+Zał.1_WPF_bazowy!#REF!","v":{"$error":"#REF!"}},{"$f":"+Zał.1_WPF_bazowy!#REF!","v":{"$error":"#REF!"}},{"$f":"+Zał.1_WPF_bazowy!#REF!","v":{"$error":"#REF!"}},{"$f":"+Zał.1_WPF_bazowy!#REF!","v":{"$error":"#REF!"}},{"$f":"+Zał.1_WPF_bazowy!#REF!","v":{"$error":"#REF!"}},{"$f":"+Zał.1_WPF_bazowy!#REF!","v":{"$error":"#REF!"}},{"$f":"+Zał.1_WPF_bazowy!#REF!","v":{"$error":"#REF!"}},{"$f":"+Zał.1_WPF_bazowy!#REF!","v":{"$error":"#REF!"}},{"$f":"+Zał.1_WPF_bazowy!#REF!","v":{"$error":"#REF!"}},{"$f":"+Zał.1_WPF_bazowy!#REF!","v":{"$error":"#REF!"}},{"$f":"+Zał.1_WPF_bazowy!#REF!","v":{"$error":"#REF!"}},{"$f":"+Zał.1_WPF_bazowy!#REF!","v":{"$error":"#REF!"}},{"$f":"+Zał.1_WPF_bazowy!#REF!","v":{"$error":"#REF!"}},{"$f":"+Zał.1_WPF_bazowy!#REF!","v":{"$error":"#REF!"}},{"$f":"+Zał.1_WPF_bazowy!#REF!","v":{"$error":"#REF!"}},{"$f":"+Zał.1_WPF_bazowy!#REF!","v":{"$error":"#REF!"}},{"$f":"+Zał.1_WPF_bazowy!#REF!","v":{"$error":"#REF!"}},{"$f":"+Zał.1_WPF_bazowy!#REF!","v":{"$error":"#REF!"}}]
[null,"12.4.1",null,"w tym finansowane środkami określonymi w art. 5 ust. 1 pkt 2 ustawy",{"$f":"Zał.1_WPF_bazowy!E87","v":650923.96},{"$f":"Zał.1_WPF_bazowy!F87","v":220814.52},{"$f":"Zał.1_WPF_bazowy!G87","v":3401517},{"$f":"Zał.1_WPF_bazowy!H87","v":3401517},{"$f":"+Zał.1_WPF_bazowy!I87","v":0},{"$f":"+Zał.1_WPF_bazowy!J87","v":0},{"$f":"+Zał.1_WPF_bazowy!K87","v":0},{"$f":"+Zał.1_WPF_bazowy!L87","v":0},{"$f":"+Zał.1_WPF_bazowy!#REF!","v":{"$error":"#REF!"}},{"$f":"+Zał.1_WPF_bazowy!#REF!","v":{"$error":"#REF!"}},{"$f":"+Zał.1_WPF_bazowy!#REF!","v":{"$error":"#REF!"}},{"$f":"+Zał.1_WPF_bazowy!#REF!","v":{"$error":"#REF!"}},{"$f":"+Zał.1_WPF_bazowy!#REF!","v":{"$error":"#REF!"}},{"$f":"+Zał.1_WPF_bazowy!#REF!","v":{"$error":"#REF!"}},{"$f":"+Zał.1_WPF_bazowy!#REF!","v":{"$error":"#REF!"}},{"$f":"+Zał.1_WPF_bazowy!#REF!","v":{"$error":"#REF!"}},{"$f":"+Zał.1_WPF_bazowy!#REF!","v":{"$error":"#REF!"}},{"$f":"+Zał.1_WPF_bazowy!#REF!","v":{"$error":"#REF!"}},{"$f":"+Zał.1_WPF_bazowy!#REF!","v":{"$error":"#REF!"}},{"$f":"+Zał.1_WPF_bazowy!#REF!","v":{"$error":"#REF!"}},{"$f":"+Zał.1_WPF_bazowy!#REF!","v":{"$error":"#REF!"}},{"$f":"+Zał.1_WPF_bazowy!#REF!","v":{"$error":"#REF!"}},{"$f":"+Zał.1_WPF_bazowy!#REF!","v":{"$error":"#REF!"}},{"$f":"+Zał.1_WPF_bazowy!#REF!","v":{"$error":"#REF!"}},{"$f":"+Zał.1_WPF_bazowy!#REF!","v":{"$error":"#REF!"}},{"$f":"+Zał.1_WPF_bazowy!#REF!","v":{"$error":"#REF!"}},{"$f":"+Zał.1_WPF_bazowy!#REF!","v":{"$error":"#REF!"}},{"$f":"+Zał.1_WPF_bazowy!#REF!","v":{"$error":"#REF!"}},{"$f":"+Zał.1_WPF_bazowy!#REF!","v":{"$error":"#REF!"}},{"$f":"+Zał.1_WPF_bazowy!#REF!","v":{"$error":"#REF!"}},{"$f":"+Zał.1_WPF_bazowy!#REF!","v":{"$error":"#REF!"}},{"$f":"+Zał.1_WPF_bazowy!#REF!","v":{"$error":"#REF!"}},{"$f":"+Zał.1_WPF_bazowy!#REF!","v":{"$error":"#REF!"}},{"$f":"+Zał.1_WPF_bazowy!#REF!","v":{"$error":"#REF!"}}]
[null,"12.4.2",null,"Wydatki majątkowe na realizację programu, projektu lub zadania wynikające wyłącznie z zawartych umów z podmiotem dysponującym środkami, o których mowa w art. 5 ust. 1 pkt 2 ustawy ",{"$f":"Zał.1_WPF_bazowy!E88","v":0},{"$f":"Zał.1_WPF_bazowy!F88","v":0},{"$f":"Zał.1_WPF_bazowy!G88","v":1590835.04},{"$f":"Zał.1_WPF_bazowy!H88","v":1590835.04},{"$f":"+Zał.1_WPF_bazowy!I88","v":0},{"$f":"+Zał.1_WPF_bazowy!J88","v":0},{"$f":"+Zał.1_WPF_bazowy!K88","v":0},{"$f":"+Zał.1_WPF_bazowy!L88","v":0},{"$f":"+Zał.1_WPF_bazowy!#REF!","v":{"$error":"#REF!"}},{"$f":"+Zał.1_WPF_bazowy!#REF!","v":{"$error":"#REF!"}},{"$f":"+Zał.1_WPF_bazowy!#REF!","v":{"$error":"#REF!"}},{"$f":"+Zał.1_WPF_bazowy!#REF!","v":{"$error":"#REF!"}},{"$f":"+Zał.1_WPF_bazowy!#REF!","v":{"$error":"#REF!"}},{"$f":"+Zał.1_WPF_bazowy!#REF!","v":{"$error":"#REF!"}},{"$f":"+Zał.1_WPF_bazowy!#REF!","v":{"$error":"#REF!"}},{"$f":"+Zał.1_WPF_bazowy!#REF!","v":{"$error":"#REF!"}},{"$f":"+Zał.1_WPF_bazowy!#REF!","v":{"$error":"#REF!"}},{"$f":"+Zał.1_WPF_bazowy!#REF!","v":{"$error":"#REF!"}},{"$f":"+Zał.1_WPF_bazowy!#REF!","v":{"$error":"#REF!"}},{"$f":"+Zał.1_WPF_bazowy!#REF!","v":{"$error":"#REF!"}},{"$f":"+Zał.1_WPF_bazowy!#REF!","v":{"$error":"#REF!"}},{"$f":"+Zał.1_WPF_bazowy!#REF!","v":{"$error":"#REF!"}},{"$f":"+Zał.1_WPF_bazowy!#REF!","v":{"$error":"#REF!"}},{"$f":"+Zał.1_WPF_bazowy!#REF!","v":{"$error":"#REF!"}},{"$f":"+Zał.1_WPF_bazowy!#REF!","v":{"$error":"#REF!"}},{"$f":"+Zał.1_WPF_bazowy!#REF!","v":{"$error":"#REF!"}},{"$f":"+Zał.1_WPF_bazowy!#REF!","v":{"$error":"#REF!"}},{"$f":"+Zał.1_WPF_bazowy!#REF!","v":{"$error":"#REF!"}},{"$f":"+Zał.1_WPF_bazowy!#REF!","v":{"$error":"#REF!"}},{"$f":"+Zał.1_WPF_bazowy!#REF!","v":{"$error":"#REF!"}},{"$f":"+Zał.1_WPF_bazowy!#REF!","v":{"$error":"#REF!"}},{"$f":"+Zał.1_WPF_bazowy!#REF!","v":{"$error":"#REF!"}},{"$f":"+Zał.1_WPF_bazowy!#REF!","v":{"$error":"#REF!"}},{"$f":"+Zał.1_WPF_bazowy!#REF!","v":{"$error":"#REF!"}}]
[null,13,null,"Kwoty dotyczące przejęcia i spłaty zobowiązań po samodzielnych publicznych zakładach opieki zdrowotnej oraz pokrycia ujemnego wyniku ","x","x","x","x","x","x","x","x","x","x","x","x","x","x","x","x","x","x","x","x","x","x","x","x","x","x","x","x","x","x","x","x","x","x"]
[null,"13.1",null,"Kwota zobowiązań wynikających z przejęcia przez jednostkę samorządu terytorialnego zobowiązań po likwidowanych i przekształcanych samodzielnych zakładach opieki zdrowotnej",{"$f":"Zał.1_WPF_bazowy!E90","v":0},{"$f":"Zał.1_WPF_bazowy!F90","v":0},{"$f":"Zał.1_WPF_bazowy!G90","v":0},{"$f":"Zał.1_WPF_bazowy!H90","v":0},{"$f":"+IF(I10<>0,H90-(I92+I93+I94+I95),0)","v":0},{"$f":"+IF(J10<>0,I90-(J92+J93+J94+J95),0)","v":0},0,0,{"$error":"#REF!"},{"$error":"#REF!"},{"$error":"#REF!"},{"$error":"#REF!"},{"$error":"#REF!"},{"$error":"#REF!"},{"$error":"#REF!"},{"$error":"#REF!"},{"$error":"#REF!"},{"$error":"#REF!"},{"$error":"#REF!"},{"$error":"#REF!"},{"$error":"#REF!"},{"$error":"#REF!"},{"$error":"#REF!"},{"$error":"#REF!"},{"$error":"#REF!"},{"$error":"#REF!"},{"$error":"#REF!"},{"$error":"#REF!"},{"$error":"#REF!"},{"$error":"#REF!"},{"$error":"#REF!"},{"$error":"#REF!"},{"$error":"#REF!"},{"$error":"#REF!"}]
[null,"13.2",null,"Dochody budżetowe z tytułu dotacji celowej z budżetu państwa, o której mowa w art. 196 ustawy z dnia 15 kwietnia 2011 r. o działalności leczniczej (Dz.U. Nr 112, poz. 654, z późn. zm.)",{"$f":"Zał.1_WPF_bazowy!E91","v":0},{"$f":"Zał.1_WPF_bazowy!F91","v":0},{"$f":"Zał.1_WPF_bazowy!G91","v":0},{"$f":"Zał.1_WPF_bazowy!H91","v":0},{"$f":"+Zał.1_WPF_bazowy!I91","v":0},{"$f":"+Zał.1_WPF_bazowy!J91","v":0},{"$f":"+Zał.1_WPF_bazowy!K91","v":0},{"$f":"+Zał.1_WPF_bazowy!L91","v":0},{"$f":"+Zał.1_WPF_bazowy!#REF!","v":{"$error":"#REF!"}},{"$f":"+Zał.1_WPF_bazowy!#REF!","v":{"$error":"#REF!"}},{"$f":"+Zał.1_WPF_bazowy!#REF!","v":{"$error":"#REF!"}},{"$f":"+Zał.1_WPF_bazowy!#REF!","v":{"$error":"#REF!"}},{"$f":"+Zał.1_WPF_bazowy!#REF!","v":{"$error":"#REF!"}},{"$f":"+Zał.1_WPF_bazowy!#REF!","v":{"$error":"#REF!"}},{"$f":"+Zał.1_WPF_bazowy!#REF!","v":{"$error":"#REF!"}},{"$f":"+Zał.1_WPF_bazowy!#REF!","v":{"$error":"#REF!"}},{"$f":"+Zał.1_WPF_bazowy!#REF!","v":{"$error":"#REF!"}},{"$f":"+Zał.1_WPF_bazowy!#REF!","v":{"$error":"#REF!"}},{"$f":"+Zał.1_WPF_bazowy!#REF!","v":{"$error":"#REF!"}},{"$f":"+Zał.1_WPF_bazowy!#REF!","v":{"$error":"#REF!"}},{"$f":"+Zał.1_WPF_bazowy!#REF!","v":{"$error":"#REF!"}},{"$f":"+Zał.1_WPF_bazowy!#REF!","v":{"$error":"#REF!"}},{"$f":"+Zał.1_WPF_bazowy!#REF!","v":{"$error":"#REF!"}},{"$f":"+Zał.1_WPF_bazowy!#REF!","v":{"$error":"#REF!"}},{"$f":"+Zał.1_WPF_bazowy!#REF!","v":{"$error":"#REF!"}},{"$f":"+Zał.1_WPF_bazowy!#REF!","v":{"$error":"#REF!"}},{"$f":"+Zał.1_WPF_bazowy!#REF!","v":{"$error":"#REF!"}},{"$f":"+Zał.1_WPF_bazowy!#REF!","v":{"$error":"#REF!"}},{"$f":"+Zał.1_WPF_bazowy!#REF!","v":{"$error":"#REF!"}},{"$f":"+Zał.1_WPF_bazowy!#REF!","v":{"$error":"#REF!"}},{"$f":"+Zał.1_WPF_bazowy!#REF!","v":{"$error":"#REF!"}},{"$f":"+Zał.1_WPF_bazowy!#REF!","v":{"$error":"#REF!"}},{"$f":"+Zał.1_WPF_bazowy!#REF!","v":{"$error":"#REF!"}},{"$f":"+Zał.1_WPF_bazowy!#REF!","v":{"$error":"#REF!"}}]
[null,"13.3",null,"Wysokość zobowiązań podlegających umorzeniu, o którym mowa w art. 190 ustawy o działalności leczniczej",{"$f":"Zał.1_WPF_bazowy!E92","v":0},{"$f":"Zał.1_WPF_bazowy!F92","v":0},{"$f":"Zał.1_WPF_bazowy!G92","v":0},{"$f":"Zał.1_WPF_bazowy!H92","v":0},{"$f":"+Zał.1_WPF_bazowy!I92","v":0},{"$f":"+Zał.1_WPF_bazowy!J92","v":0},{"$f":"+Zał.1_WPF_bazowy!K92","v":0},{"$f":"+Zał.1_WPF_bazowy!L92","v":0},{"$f":"+Zał.1_WPF_bazowy!#REF!","v":{"$error":"#REF!"}},{"$f":"+Zał.1_WPF_bazowy!#REF!","v":{"$error":"#REF!"}},{"$f":"+Zał.1_WPF_bazowy!#REF!","v":{"$error":"#REF!"}},{"$f":"+Zał.1_WPF_bazowy!#REF!","v":{"$error":"#REF!"}},{"$f":"+Zał.1_WPF_bazowy!#REF!","v":{"$error":"#REF!"}},{"$f":"+Zał.1_WPF_bazowy!#REF!","v":{"$error":"#REF!"}},{"$f":"+Zał.1_WPF_bazowy!#REF!","v":{"$error":"#REF!"}},{"$f":"+Zał.1_WPF_bazowy!#REF!","v":{"$error":"#REF!"}},{"$f":"+Zał.1_WPF_bazowy!#REF!","v":{"$error":"#REF!"}},{"$f":"+Zał.1_WPF_bazowy!#REF!","v":{"$error":"#REF!"}},{"$f":"+Zał.1_WPF_bazowy!#REF!","v":{"$error":"#REF!"}},{"$f":"+Zał.1_WPF_bazowy!#REF!","v":{"$error":"#REF!"}},{"$f":"+Zał.1_WPF_bazowy!#REF!","v":{"$error":"#REF!"}},{"$f":"+Zał.1_WPF_bazowy!#REF!","v":{"$error":"#REF!"}},{"$f":"+Zał.1_WPF_bazowy!#REF!","v":{"$error":"#REF!"}},{"$f":"+Zał.1_WPF_bazowy!#REF!","v":{"$error":"#REF!"}},{"$f":"+Zał.1_WPF_bazowy!#REF!","v":{"$error":"#REF!"}},{"$f":"+Zał.1_WPF_bazowy!#REF!","v":{"$error":"#REF!"}},{"$f":"+Zał.1_WPF_bazowy!#REF!","v":{"$error":"#REF!"}},{"$f":"+Zał.1_WPF_bazowy!#REF!","v":{"$error":"#REF!"}},{"$f":"+Zał.1_WPF_bazowy!#REF!","v":{"$error":"#REF!"}},{"$f":"+Zał.1_WPF_bazowy!#REF!","v":{"$error":"#REF!"}},{"$f":"+Zał.1_WPF_bazowy!#REF!","v":{"$error":"#REF!"}},{"$f":"+Zał.1_WPF_bazowy!#REF!","v":{"$error":"#REF!"}},{"$f":"+Zał.1_WPF_bazowy!#REF!","v":{"$error":"#REF!"}},{"$f":"+Zał.1_WPF_bazowy!#REF!","v":{"$error":"#REF!"}}]
[null,"13.4",null,"Wydatki na spłatę przejętych zobowiązań samodzielnego publicznego zakładu opieki zdrowotnej przekształconego na zasadach określonych w przepisach o działalności leczniczej",{"$f":"Zał.1_WPF_bazowy!E93","v":0},{"$f":"Zał.1_WPF_bazowy!F93","v":0},{"$f":"Zał.1_WPF_bazowy!G93","v":0},{"$f":"Zał.1_WPF_bazowy!H93","v":0},{"$f":"+Zał.1_WPF_bazowy!I93","v":0},{"$f":"+Zał.1_WPF_bazowy!J93","v":0},{"$f":"+Zał.1_WPF_bazowy!K93","v":0},{"$f":"+Zał.1_WPF_bazowy!L93","v":0},{"$f":"+Zał.1_WPF_bazowy!#REF!","v":{"$error":"#REF!"}},{"$f":"+Zał.1_WPF_bazowy!#REF!","v":{"$error":"#REF!"}},{"$f":"+Zał.1_WPF_bazowy!#REF!","v":{"$error":"#REF!"}},{"$f":"+Zał.1_WPF_bazowy!#REF!","v":{"$error":"#REF!"}},{"$f":"+Zał.1_WPF_bazowy!#REF!","v":{"$error":"#REF!"}},{"$f":"+Zał.1_WPF_bazowy!#REF!","v":{"$error":"#REF!"}},{"$f":"+Zał.1_WPF_bazowy!#REF!","v":{"$error":"#REF!"}},{"$f":"+Zał.1_WPF_bazowy!#REF!","v":{"$error":"#REF!"}},{"$f":"+Zał.1_WPF_bazowy!#REF!","v":{"$error":"#REF!"}},{"$f":"+Zał.1_WPF_bazowy!#REF!","v":{"$error":"#REF!"}},{"$f":"+Zał.1_WPF_bazowy!#REF!","v":{"$error":"#REF!"}},{"$f":"+Zał.1_WPF_bazowy!#REF!","v":{"$error":"#REF!"}},{"$f":"+Zał.1_WPF_bazowy!#REF!","v":{"$error":"#REF!"}},{"$f":"+Zał.1_WPF_bazowy!#REF!","v":{"$error":"#REF!"}},{"$f":"+Zał.1_WPF_bazowy!#REF!","v":{"$error":"#REF!"}},{"$f":"+Zał.1_WPF_bazowy!#REF!","v":{"$error":"#REF!"}},{"$f":"+Zał.1_WPF_bazowy!#REF!","v":{"$error":"#REF!"}},{"$f":"+Zał.1_WPF_bazowy!#REF!","v":{"$error":"#REF!"}},{"$f":"+Zał.1_WPF_bazowy!#REF!","v":{"$error":"#REF!"}},{"$f":"+Zał.1_WPF_bazowy!#REF!","v":{"$error":"#REF!"}},{"$f":"+Zał.1_WPF_bazowy!#REF!","v":{"$error":"#REF!"}},{"$f":"+Zał.1_WPF_bazowy!#REF!","v":{"$error":"#REF!"}},{"$f":"+Zał.1_WPF_bazowy!#REF!","v":{"$error":"#REF!"}},{"$f":"+Zał.1_WPF_bazowy!#REF!","v":{"$error":"#REF!"}},{"$f":"+Zał.1_WPF_bazowy!#REF!","v":{"$error":"#REF!"}},{"$f":"+Zał.1_WPF_bazowy!#REF!","v":{"$error":"#REF!"}}]
[null,"13.5",null,"Wydatki na spłatę przejętych zobowiązań samodzielnego publicznego zakładu opieki zdrowotnej likwidowanego na zasadach określonych w przepisach o działalności leczniczej",{"$f":"Zał.1_WPF_bazowy!E94","v":0},{"$f":"Zał.1_WPF_bazowy!F94","v":0},{"$f":"Zał.1_WPF_bazowy!G94","v":0},{"$f":"Zał.1_WPF_bazowy!H94","v":0},{"$f":"+Zał.1_WPF_bazowy!I94","v":0},{"$f":"+Zał.1_WPF_bazowy!J94","v":0},{"$f":"+Zał.1_WPF_bazowy!K94","v":0},{"$f":"+Zał.1_WPF_bazowy!L94","v":0},{"$f":"+Zał.1_WPF_bazowy!#REF!","v":{"$error":"#REF!"}},{"$f":"+Zał.1_WPF_bazowy!#REF!","v":{"$error":"#REF!"}},{"$f":"+Zał.1_WPF_bazowy!#REF!","v":{"$error":"#REF!"}},{"$f":"+Zał.1_WPF_bazowy!#REF!","v":{"$error":"#REF!"}},{"$f":"+Zał.1_WPF_bazowy!#REF!","v":{"$error":"#REF!"}},{"$f":"+Zał.1_WPF_bazowy!#REF!","v":{"$error":"#REF!"}},{"$f":"+Zał.1_WPF_bazowy!#REF!","v":{"$error":"#REF!"}},{"$f":"+Zał.1_WPF_bazowy!#REF!","v":{"$error":"#REF!"}},{"$f":"+Zał.1_WPF_bazowy!#REF!","v":{"$error":"#REF!"}},{"$f":"+Zał.1_WPF_bazowy!#REF!","v":{"$error":"#REF!"}},{"$f":"+Zał.1_WPF_bazowy!#REF!","v":{"$error":"#REF!"}},{"$f":"+Zał.1_WPF_bazowy!#REF!","v":{"$error":"#REF!"}},{"$f":"+Zał.1_WPF_bazowy!#REF!","v":{"$error":"#REF!"}},{"$f":"+Zał.1_WPF_bazowy!#REF!","v":{"$error":"#REF!"}},{"$f":"+Zał.1_WPF_bazowy!#REF!","v":{"$error":"#REF!"}},{"$f":"+Zał.1_WPF_bazowy!#REF!","v":{"$error":"#REF!"}},{"$f":"+Zał.1_WPF_bazowy!#REF!","v":{"$error":"#REF!"}},{"$f":"+Zał.1_WPF_bazowy!#REF!","v":{"$error":"#REF!"}},{"$f":"+Zał.1_WPF_bazowy!#REF!","v":{"$error":"#REF!"}},{"$f":"+Zał.1_WPF_bazowy!#REF!","v":{"$error":"#REF!"}},{"$f":"+Zał.1_WPF_bazowy!#REF!","v":{"$error":"#REF!"}},{"$f":"+Zał.1_WPF_bazowy!#REF!","v":{"$error":"#REF!"}},{"$f":"+Zał.1_WPF_bazowy!#REF!","v":{"$error":"#REF!"}},{"$f":"+Zał.1_WPF_bazowy!#REF!","v":{"$error":"#REF!"}},{"$f":"+Zał.1_WPF_bazowy!#REF!","v":{"$error":"#REF!"}},{"$f":"+Zał.1_WPF_bazowy!#REF!","v":{"$error":"#REF!"}}]
[null,"13.6",null,"Wydatki na spłatę zobowiązań samodzielnego publicznego zakładu opieki zdrowotnej przejętych do końca 2011 r. na podstawie przepisów o zakładach opieki zdrowotnej",{"$f":"Zał.1_WPF_bazowy!E95","v":0},{"$f":"Zał.1_WPF_bazowy!F95","v":0},{"$f":"Zał.1_WPF_bazowy!G95","v":0},{"$f":"Zał.1_WPF_bazowy!H95","v":0},{"$f":"+Zał.1_WPF_bazowy!I95","v":0},{"$f":"+Zał.1_WPF_bazowy!J95","v":0},{"$f":"+Zał.1_WPF_bazowy!K95","v":0},{"$f":"+Zał.1_WPF_bazowy!L95","v":0},{"$f":"+Zał.1_WPF_bazowy!#REF!","v":{"$error":"#REF!"}},{"$f":"+Zał.1_WPF_bazowy!#REF!","v":{"$error":"#REF!"}},{"$f":"+Zał.1_WPF_bazowy!#REF!","v":{"$error":"#REF!"}},{"$f":"+Zał.1_WPF_bazowy!#REF!","v":{"$error":"#REF!"}},{"$f":"+Zał.1_WPF_bazowy!#REF!","v":{"$error":"#REF!"}},{"$f":"+Zał.1_WPF_bazowy!#REF!","v":{"$error":"#REF!"}},{"$f":"+Zał.1_WPF_bazowy!#REF!","v":{"$error":"#REF!"}},{"$f":"+Zał.1_WPF_bazowy!#REF!","v":{"$error":"#REF!"}},{"$f":"+Zał.1_WPF_bazowy!#REF!","v":{"$error":"#REF!"}},{"$f":"+Zał.1_WPF_bazowy!#REF!","v":{"$error":"#REF!"}},{"$f":"+Zał.1_WPF_bazowy!#REF!","v":{"$error":"#REF!"}},{"$f":"+Zał.1_WPF_bazowy!#REF!","v":{"$error":"#REF!"}},{"$f":"+Zał.1_WPF_bazowy!#REF!","v":{"$error":"#REF!"}},{"$f":"+Zał.1_WPF_bazowy!#REF!","v":{"$error":"#REF!"}},{"$f":"+Zał.1_WPF_bazowy!#REF!","v":{"$error":"#REF!"}},{"$f":"+Zał.1_WPF_bazowy!#REF!","v":{"$error":"#REF!"}},{"$f":"+Zał.1_WPF_bazowy!#REF!","v":{"$error":"#REF!"}},{"$f":"+Zał.1_WPF_bazowy!#REF!","v":{"$error":"#REF!"}},{"$f":"+Zał.1_WPF_bazowy!#REF!","v":{"$error":"#REF!"}},{"$f":"+Zał.1_WPF_bazowy!#REF!","v":{"$error":"#REF!"}},{"$f":"+Zał.1_WPF_bazowy!#REF!","v":{"$error":"#REF!"}},{"$f":"+Zał.1_WPF_bazowy!#REF!","v":{"$error":"#REF!"}},{"$f":"+Zał.1_WPF_bazowy!#REF!","v":{"$error":"#REF!"}},{"$f":"+Zał.1_WPF_bazowy!#REF!","v":{"$error":"#REF!"}},{"$f":"+Zał.1_WPF_bazowy!#REF!","v":{"$error":"#REF!"}},{"$f":"+Zał.1_WPF_bazowy!#REF!","v":{"$error":"#REF!"}}]
[null,"13.7",null,"Wydatki bieżące na pokrycie ujemnego wyniku finansowego samodzielnego publicznego zakładu opieki zdrowotnej",{"$f":"Zał.1_WPF_bazowy!E96","v":0},{"$f":"Zał.1_WPF_bazowy!F96","v":0},{"$f":"Zał.1_WPF_bazowy!G96","v":0},{"$f":"Zał.1_WPF_bazowy!H96","v":0},{"$f":"+Zał.1_WPF_bazowy!I96","v":0},{"$f":"+Zał.1_WPF_bazowy!J96","v":0},{"$f":"+Zał.1_WPF_bazowy!K96","v":0},{"$f":"+Zał.1_WPF_bazowy!L96","v":0},{"$f":"+Zał.1_WPF_bazowy!#REF!","v":{"$error":"#REF!"}},{"$f":"+Zał.1_WPF_bazowy!#REF!","v":{"$error":"#REF!"}},{"$f":"+Zał.1_WPF_bazowy!#REF!","v":{"$error":"#REF!"}},{"$f":"+Zał.1_WPF_bazowy!#REF!","v":{"$error":"#REF!"}},{"$f":"+Zał.1_WPF_bazowy!#REF!","v":{"$error":"#REF!"}},{"$f":"+Zał.1_WPF_bazowy!#REF!","v":{"$error":"#REF!"}},{"$f":"+Zał.1_WPF_bazowy!#REF!","v":{"$error":"#REF!"}},{"$f":"+Zał.1_WPF_bazowy!#REF!","v":{"$error":"#REF!"}},{"$f":"+Zał.1_WPF_bazowy!#REF!","v":{"$error":"#REF!"}},{"$f":"+Zał.1_WPF_bazowy!#REF!","v":{"$error":"#REF!"}},{"$f":"+Zał.1_WPF_bazowy!#REF!","v":{"$error":"#REF!"}},{"$f":"+Zał.1_WPF_bazowy!#REF!","v":{"$error":"#REF!"}},{"$f":"+Zał.1_WPF_bazowy!#REF!","v":{"$error":"#REF!"}},{"$f":"+Zał.1_WPF_bazowy!#REF!","v":{"$error":"#REF!"}},{"$f":"+Zał.1_WPF_bazowy!#REF!","v":{"$error":"#REF!"}},{"$f":"+Zał.1_WPF_bazowy!#REF!","v":{"$error":"#REF!"}},{"$f":"+Zał.1_WPF_bazowy!#REF!","v":{"$error":"#REF!"}},{"$f":"+Zał.1_WPF_bazowy!#REF!","v":{"$error":"#REF!"}},{"$f":"+Zał.1_WPF_bazowy!#REF!","v":{"$error":"#REF!"}},{"$f":"+Zał.1_WPF_bazowy!#REF!","v":{"$error":"#REF!"}},{"$f":"+Zał.1_WPF_bazowy!#REF!","v":{"$error":"#REF!"}},{"$f":"+Zał.1_WPF_bazowy!#REF!","v":{"$error":"#REF!"}},{"$f":"+Zał.1_WPF_bazowy!#REF!","v":{"$error":"#REF!"}},{"$f":"+Zał.1_WPF_bazowy!#REF!","v":{"$error":"#REF!"}},{"$f":"+Zał.1_WPF_bazowy!#REF!","v":{"$error":"#REF!"}},{"$f":"+Zał.1_WPF_bazowy!#REF!","v":{"$error":"#REF!"}}]
["x",14,null,"Dane uzupełniające o długu i jego spłacie","x","x","x","x","x","x","x","x","x","x","x","x","x","x","x","x","x","x","x","x","x","x","x","x","x","x","x","x","x","x","x","x","x","x"]
["x","14.1",null,"Spłaty rat kapitałowych oraz wykup papierów wartościowych, o których mowa w pkt. 5.1., wynikające wyłącznie z tytułu zobowiązań już zaciągniętych",{"$f":"Zał.1_WPF_bazowy!E98","v":601088.34},{"$f":"Zał.1_WPF_bazowy!F98","v":1278520.75},{"$f":"Zał.1_WPF_bazowy!G98","v":737521.46},{"$f":"Zał.1_WPF_bazowy!H98","v":737521.46},{"$f":"+Zał.1_WPF_bazowy!I98","v":773956.19},{"$f":"+Zał.1_WPF_bazowy!J98","v":0},{"$f":"+Zał.1_WPF_bazowy!K98","v":0},{"$f":"+Zał.1_WPF_bazowy!L98","v":0},{"$f":"+Zał.1_WPF_bazowy!#REF!","v":{"$error":"#REF!"}},{"$f":"+Zał.1_WPF_bazowy!#REF!","v":{"$error":"#REF!"}},{"$f":"+Zał.1_WPF_bazowy!#REF!","v":{"$error":"#REF!"}},{"$f":"+Zał.1_WPF_bazowy!#REF!","v":{"$error":"#REF!"}},{"$f":"+Zał.1_WPF_bazowy!#REF!","v":{"$error":"#REF!"}},{"$f":"+Zał.1_WPF_bazowy!#REF!","v":{"$error":"#REF!"}},{"$f":"+Zał.1_WPF_bazowy!#REF!","v":{"$error":"#REF!"}},{"$f":"+Zał.1_WPF_bazowy!#REF!","v":{"$error":"#REF!"}},{"$f":"+Zał.1_WPF_bazowy!#REF!","v":{"$error":"#REF!"}},{"$f":"+Zał.1_WPF_bazowy!#REF!","v":{"$error":"#REF!"}},{"$f":"+Zał.1_WPF_bazowy!#REF!","v":{"$error":"#REF!"}},{"$f":"+Zał.1_WPF_bazowy!#REF!","v":{"$error":"#REF!"}},{"$f":"+Zał.1_WPF_bazowy!#REF!","v":{"$error":"#REF!"}},{"$f":"+Zał.1_WPF_bazowy!#REF!","v":{"$error":"#REF!"}},{"$f":"+Zał.1_WPF_bazowy!#REF!","v":{"$error":"#REF!"}},{"$f":"+Zał.1_WPF_bazowy!#REF!","v":{"$error":"#REF!"}},{"$f":"+Zał.1_WPF_bazowy!#REF!","v":{"$error":"#REF!"}},{"$f":"+Zał.1_WPF_bazowy!#REF!","v":{"$error":"#REF!"}},{"$f":"+Zał.1_WPF_bazowy!#REF!","v":{"$error":"#REF!"}},{"$f":"+Zał.1_WPF_bazowy!#REF!","v":{"$error":"#REF!"}},{"$f":"+Zał.1_WPF_bazowy!#REF!","v":{"$error":"#REF!"}},{"$f":"+Zał.1_WPF_bazowy!#REF!","v":{"$error":"#REF!"}},{"$f":"+Zał.1_WPF_bazowy!#REF!","v":{"$error":"#REF!"}},{"$f":"+Zał.1_WPF_bazowy!#REF!","v":{"$error":"#REF!"}},{"$f":"+Zał.1_WPF_bazowy!#REF!","v":{"$error":"#REF!"}},{"$f":"+Zał.1_WPF_bazowy!#REF!","v":{"$error":"#REF!"}}]
["x","14.2",null,"Kwota długu, którego planowana spłata dokona się z wydatków budżetu",{"$f":"Zał.1_WPF_bazowy!E99","v":0},{"$f":"Zał.1_WPF_bazowy!F99","v":0},{"$f":"Zał.1_WPF_bazowy!G99","v":0},{"$f":"Zał.1_WPF_bazowy!H99","v":0},{"$f":"+Zał.1_WPF_bazowy!I99","v":0},{"$f":"+Zał.1_WPF_bazowy!J99","v":0},{"$f":"+Zał.1_WPF_bazowy!K99","v":0},{"$f":"+Zał.1_WPF_bazowy!L99","v":0},{"$f":"+Zał.1_WPF_bazowy!#REF!","v":{"$error":"#REF!"}},{"$f":"+Zał.1_WPF_bazowy!#REF!","v":{"$error":"#REF!"}},{"$f":"+Zał.1_WPF_bazowy!#REF!","v":{"$error":"#REF!"}},{"$f":"+Zał.1_WPF_bazowy!#REF!","v":{"$error":"#REF!"}},{"$f":"+Zał.1_WPF_bazowy!#REF!","v":{"$error":"#REF!"}},{"$f":"+Zał.1_WPF_bazowy!#REF!","v":{"$error":"#REF!"}},{"$f":"+Zał.1_WPF_bazowy!#REF!","v":{"$error":"#REF!"}},{"$f":"+Zał.1_WPF_bazowy!#REF!","v":{"$error":"#REF!"}},{"$f":"+Zał.1_WPF_bazowy!#REF!","v":{"$error":"#REF!"}},{"$f":"+Zał.1_WPF_bazowy!#REF!","v":{"$error":"#REF!"}},{"$f":"+Zał.1_WPF_bazowy!#REF!","v":{"$error":"#REF!"}},{"$f":"+Zał.1_WPF_bazowy!#REF!","v":{"$error":"#REF!"}},{"$f":"+Zał.1_WPF_bazowy!#REF!","v":{"$error":"#REF!"}},{"$f":"+Zał.1_WPF_bazowy!#REF!","v":{"$error":"#REF!"}},{"$f":"+Zał.1_WPF_bazowy!#REF!","v":{"$error":"#REF!"}},{"$f":"+Zał.1_WPF_bazowy!#REF!","v":{"$error":"#REF!"}},{"$f":"+Zał.1_WPF_bazowy!#REF!","v":{"$error":"#REF!"}},{"$f":"+Zał.1_WPF_bazowy!#REF!","v":{"$error":"#REF!"}},{"$f":"+Zał.1_WPF_bazowy!#REF!","v":{"$error":"#REF!"}},{"$f":"+Zał.1_WPF_bazowy!#REF!","v":{"$error":"#REF!"}},{"$f":"+Zał.1_WPF_bazowy!#REF!","v":{"$error":"#REF!"}},{"$f":"+Zał.1_WPF_bazowy!#REF!","v":{"$error":"#REF!"}},{"$f":"+Zał.1_WPF_bazowy!#REF!","v":{"$error":"#REF!"}},{"$f":"+Zał.1_WPF_bazowy!#REF!","v":{"$error":"#REF!"}},{"$f":"+Zał.1_WPF_bazowy!#REF!","v":{"$error":"#REF!"}},{"$f":"+Zał.1_WPF_bazowy!#REF!","v":{"$error":"#REF!"}}]
["x","14.3",null,"Wydatki zmniejszające dług, w tym:",{"$f":"Zał.1_WPF_bazowy!E100","v":0},{"$f":"Zał.1_WPF_bazowy!F100","v":0},{"$f":"Zał.1_WPF_bazowy!G100","v":0},{"$f":"Zał.1_WPF_bazowy!H100","v":0},{"$f":"+Zał.1_WPF_bazowy!I100","v":0},{"$f":"+Zał.1_WPF_bazowy!J100","v":0},{"$f":"+Zał.1_WPF_bazowy!K100","v":0},{"$f":"+Zał.1_WPF_bazowy!L100","v":0},{"$f":"+Zał.1_WPF_bazowy!#REF!","v":{"$error":"#REF!"}},{"$f":"+Zał.1_WPF_bazowy!#REF!","v":{"$error":"#REF!"}},{"$f":"+Zał.1_WPF_bazowy!#REF!","v":{"$error":"#REF!"}},{"$f":"+Zał.1_WPF_bazowy!#REF!","v":{"$error":"#REF!"}},{"$f":"+Zał.1_WPF_bazowy!#REF!","v":{"$error":"#REF!"}},{"$f":"+Zał.1_WPF_bazowy!#REF!","v":{"$error":"#REF!"}},{"$f":"+Zał.1_WPF_bazowy!#REF!","v":{"$error":"#REF!"}},{"$f":"+Zał.1_WPF_bazowy!#REF!","v":{"$error":"#REF!"}},{"$f":"+Zał.1_WPF_bazowy!#REF!","v":{"$error":"#REF!"}},{"$f":"+Zał.1_WPF_bazowy!#REF!","v":{"$error":"#REF!"}},{"$f":"+Zał.1_WPF_bazowy!#REF!","v":{"$error":"#REF!"}},{"$f":"+Zał.1_WPF_bazowy!#REF!","v":{"$error":"#REF!"}},{"$f":"+Zał.1_WPF_bazowy!#REF!","v":{"$error":"#REF!"}},{"$f":"+Zał.1_WPF_bazowy!#REF!","v":{"$error":"#REF!"}},{"$f":"+Zał.1_WPF_bazowy!#REF!","v":{"$error":"#REF!"}},{"$f":"+Zał.1_WPF_bazowy!#REF!","v":{"$error":"#REF!"}},{"$f":"+Zał.1_WPF_bazowy!#REF!","v":{"$error":"#REF!"}},{"$f":"+Zał.1_WPF_bazowy!#REF!","v":{"$error":"#REF!"}},{"$f":"+Zał.1_WPF_bazowy!#REF!","v":{"$error":"#REF!"}},{"$f":"+Zał.1_WPF_bazowy!#REF!","v":{"$error":"#REF!"}},{"$f":"+Zał.1_WPF_bazowy!#REF!","v":{"$error":"#REF!"}},{"$f":"+Zał.1_WPF_bazowy!#REF!","v":{"$error":"#REF!"}},{"$f":"+Zał.1_WPF_bazowy!#REF!","v":{"$error":"#REF!"}},{"$f":"+Zał.1_WPF_bazowy!#REF!","v":{"$error":"#REF!"}},{"$f":"+Zał.1_WPF_bazowy!#REF!","v":{"$error":"#REF!"}},{"$f":"+Zał.1_WPF_bazowy!#REF!","v":{"$error":"#REF!"}}]
["x","14.3.1",null,"spłata zobowiązań wymagalnych z lat poprzednich, innych niż w pkt 14.3.3",{"$f":"Zał.1_WPF_bazowy!E101","v":0},{"$f":"Zał.1_WPF_bazowy!F101","v":0},{"$f":"Zał.1_WPF_bazowy!G101","v":0},{"$f":"Zał.1_WPF_bazowy!H101","v":0},{"$f":"+Zał.1_WPF_bazowy!I101","v":0},{"$f":"+Zał.1_WPF_bazowy!J101","v":0},{"$f":"+Zał.1_WPF_bazowy!K101","v":0},{"$f":"+Zał.1_WPF_bazowy!L101","v":0},{"$f":"+Zał.1_WPF_bazowy!#REF!","v":{"$error":"#REF!"}},{"$f":"+Zał.1_WPF_bazowy!#REF!","v":{"$error":"#REF!"}},{"$f":"+Zał.1_WPF_bazowy!#REF!","v":{"$error":"#REF!"}},{"$f":"+Zał.1_WPF_bazowy!#REF!","v":{"$error":"#REF!"}},{"$f":"+Zał.1_WPF_bazowy!#REF!","v":{"$error":"#REF!"}},{"$f":"+Zał.1_WPF_bazowy!#REF!","v":{"$error":"#REF!"}},{"$f":"+Zał.1_WPF_bazowy!#REF!","v":{"$error":"#REF!"}},{"$f":"+Zał.1_WPF_bazowy!#REF!","v":{"$error":"#REF!"}},{"$f":"+Zał.1_WPF_bazowy!#REF!","v":{"$error":"#REF!"}},{"$f":"+Zał.1_WPF_bazowy!#REF!","v":{"$error":"#REF!"}},{"$f":"+Zał.1_WPF_bazowy!#REF!","v":{"$error":"#REF!"}},{"$f":"+Zał.1_WPF_bazowy!#REF!","v":{"$error":"#REF!"}},{"$f":"+Zał.1_WPF_bazowy!#REF!","v":{"$error":"#REF!"}},{"$f":"+Zał.1_WPF_bazowy!#REF!","v":{"$error":"#REF!"}},{"$f":"+Zał.1_WPF_bazowy!#REF!","v":{"$error":"#REF!"}},{"$f":"+Zał.1_WPF_bazowy!#REF!","v":{"$error":"#REF!"}},{"$f":"+Zał.1_WPF_bazowy!#REF!","v":{"$error":"#REF!"}},{"$f":"+Zał.1_WPF_bazowy!#REF!","v":{"$error":"#REF!"}},{"$f":"+Zał.1_WPF_bazowy!#REF!","v":{"$error":"#REF!"}},{"$f":"+Zał.1_WPF_bazowy!#REF!","v":{"$error":"#REF!"}},{"$f":"+Zał.1_WPF_bazowy!#REF!","v":{"$error":"#REF!"}},{"$f":"+Zał.1_WPF_bazowy!#REF!","v":{"$error":"#REF!"}},{"$f":"+Zał.1_WPF_bazowy!#REF!","v":{"$error":"#REF!"}},{"$f":"+Zał.1_WPF_bazowy!#REF!","v":{"$error":"#REF!"}},{"$f":"+Zał.1_WPF_bazowy!#REF!","v":{"$error":"#REF!"}},{"$f":"+Zał.1_WPF_bazowy!#REF!","v":{"$error":"#REF!"}}]
["x","14.3.2",null,"związane z umowami zaliczanymi do tytułów dłużnych wliczanych w państwowy dług publiczny",{"$f":"Zał.1_WPF_bazowy!E102","v":0},{"$f":"Zał.1_WPF_bazowy!F102","v":0},{"$f":"Zał.1_WPF_bazowy!G102","v":0},{"$f":"Zał.1_WPF_bazowy!H102","v":0},{"$f":"+Zał.1_WPF_bazowy!I102","v":0},{"$f":"+Zał.1_WPF_bazowy!J102","v":0},{"$f":"+Zał.1_WPF_bazowy!K102","v":0},{"$f":"+Zał.1_WPF_bazowy!L102","v":0},{"$f":"+Zał.1_WPF_bazowy!#REF!","v":{"$error":"#REF!"}},{"$f":"+Zał.1_WPF_bazowy!#REF!","v":{"$error":"#REF!"}},{"$f":"+Zał.1_WPF_bazowy!#REF!","v":{"$error":"#REF!"}},{"$f":"+Zał.1_WPF_bazowy!#REF!","v":{"$error":"#REF!"}},{"$f":"+Zał.1_WPF_bazowy!#REF!","v":{"$error":"#REF!"}},{"$f":"+Zał.1_WPF_bazowy!#REF!","v":{"$error":"#REF!"}},{"$f":"+Zał.1_WPF_bazowy!#REF!","v":{"$error":"#REF!"}},{"$f":"+Zał.1_WPF_bazowy!#REF!","v":{"$error":"#REF!"}},{"$f":"+Zał.1_WPF_bazowy!#REF!","v":{"$error":"#REF!"}},{"$f":"+Zał.1_WPF_bazowy!#REF!","v":{"$error":"#REF!"}},{"$f":"+Zał.1_WPF_bazowy!#REF!","v":{"$error":"#REF!"}},{"$f":"+Zał.1_WPF_bazowy!#REF!","v":{"$error":"#REF!"}},{"$f":"+Zał.1_WPF_bazowy!#REF!","v":{"$error":"#REF!"}},{"$f":"+Zał.1_WPF_bazowy!#REF!","v":{"$error":"#REF!"}},{"$f":"+Zał.1_WPF_bazowy!#REF!","v":{"$error":"#REF!"}},{"$f":"+Zał.1_WPF_bazowy!#REF!","v":{"$error":"#REF!"}},{"$f":"+Zał.1_WPF_bazowy!#REF!","v":{"$error":"#REF!"}},{"$f":"+Zał.1_WPF_bazowy!#REF!","v":{"$error":"#REF!"}},{"$f":"+Zał.1_WPF_bazowy!#REF!","v":{"$error":"#REF!"}},{"$f":"+Zał.1_WPF_bazowy!#REF!","v":{"$error":"#REF!"}},{"$f":"+Zał.1_WPF_bazowy!#REF!","v":{"$error":"#REF!"}},{"$f":"+Zał.1_WPF_bazowy!#REF!","v":{"$error":"#REF!"}},{"$f":"+Zał.1_WPF_bazowy!#REF!","v":{"$error":"#REF!"}},{"$f":"+Zał.1_WPF_bazowy!#REF!","v":{"$error":"#REF!"}},{"$f":"+Zał.1_WPF_bazowy!#REF!","v":{"$error":"#REF!"}},{"$f":"+Zał.1_WPF_bazowy!#REF!","v":{"$error":"#REF!"}}]
["x","14.3.3",null,"wypłaty z tytułu wymagalnych poręczeń i gwarancji",{"$f":"Zał.1_WPF_bazowy!E103","v":0},{"$f":"Zał.1_WPF_bazowy!F103","v":0},{"$f":"Zał.1_WPF_bazowy!G103","v":0},{"$f":"Zał.1_WPF_bazowy!H103","v":0},{"$f":"+Zał.1_WPF_bazowy!I103","v":0},{"$f":"+Zał.1_WPF_bazowy!J103","v":0},{"$f":"+Zał.1_WPF_bazowy!K103","v":0},{"$f":"+Zał.1_WPF_bazowy!L103","v":0},{"$f":"+Zał.1_WPF_bazowy!#REF!","v":{"$error":"#REF!"}},{"$f":"+Zał.1_WPF_bazowy!#REF!","v":{"$error":"#REF!"}},{"$f":"+Zał.1_WPF_bazowy!#REF!","v":{"$error":"#REF!"}},{"$f":"+Zał.1_WPF_bazowy!#REF!","v":{"$error":"#REF!"}},{"$f":"+Zał.1_WPF_bazowy!#REF!","v":{"$error":"#REF!"}},{"$f":"+Zał.1_WPF_bazowy!#REF!","v":{"$error":"#REF!"}},{"$f":"+Zał.1_WPF_bazowy!#REF!","v":{"$error":"#REF!"}},{"$f":"+Zał.1_WPF_bazowy!#REF!","v":{"$error":"#REF!"}},{"$f":"+Zał.1_WPF_bazowy!#REF!","v":{"$error":"#REF!"}},{"$f":"+Zał.1_WPF_bazowy!#REF!","v":{"$error":"#REF!"}},{"$f":"+Zał.1_WPF_bazowy!#REF!","v":{"$error":"#REF!"}},{"$f":"+Zał.1_WPF_bazowy!#REF!","v":{"$error":"#REF!"}},{"$f":"+Zał.1_WPF_bazowy!#REF!","v":{"$error":"#REF!"}},{"$f":"+Zał.1_WPF_bazowy!#REF!","v":{"$error":"#REF!"}},{"$f":"+Zał.1_WPF_bazowy!#REF!","v":{"$error":"#REF!"}},{"$f":"+Zał.1_WPF_bazowy!#REF!","v":{"$error":"#REF!"}},{"$f":"+Zał.1_WPF_bazowy!#REF!","v":{"$error":"#REF!"}},{"$f":"+Zał.1_WPF_bazowy!#REF!","v":{"$error":"#REF!"}},{"$f":"+Zał.1_WPF_bazowy!#REF!","v":{"$error":"#REF!"}},{"$f":"+Zał.1_WPF_bazowy!#REF!","v":{"$error":"#REF!"}},{"$f":"+Zał.1_WPF_bazowy!#REF!","v":{"$error":"#REF!"}},{"$f":"+Zał.1_WPF_bazowy!#REF!","v":{"$error":"#REF!"}},{"$f":"+Zał.1_WPF_bazowy!#REF!","v":{"$error":"#REF!"}},{"$f":"+Zał.1_WPF_bazowy!#REF!","v":{"$error":"#REF!"}},{"$f":"+Zał.1_WPF_bazowy!#REF!","v":{"$error":"#REF!"}},{"$f":"+Zał.1_WPF_bazowy!#REF!","v":{"$error":"#REF!"}}]
["x","14.4",null,"Wynik operacji niekasowych wpływających na kwotę długu (m.in. umorzenia, różnice kursowe)",{"$f":"Zał.1_WPF_bazowy!E104","v":0},{"$f":"Zał.1_WPF_bazowy!F104","v":0},{"$f":"Zał.1_WPF_bazowy!G104","v":0},{"$f":"Zał.1_WPF_bazowy!H104","v":0},{"$f":"+Zał.1_WPF_bazowy!I104","v":0},{"$f":"+Zał.1_WPF_bazowy!J104","v":0},{"$f":"+Zał.1_WPF_bazowy!K104","v":0},{"$f":"+Zał.1_WPF_bazowy!L104","v":0},{"$f":"+Zał.1_WPF_bazowy!#REF!","v":{"$error":"#REF!"}},{"$f":"+Zał.1_WPF_bazowy!#REF!","v":{"$error":"#REF!"}},{"$f":"+Zał.1_WPF_bazowy!#REF!","v":{"$error":"#REF!"}},{"$f":"+Zał.1_WPF_bazowy!#REF!","v":{"$error":"#REF!"}},{"$f":"+Zał.1_WPF_bazowy!#REF!","v":{"$error":"#REF!"}},{"$f":"+Zał.1_WPF_bazowy!#REF!","v":{"$error":"#REF!"}},{"$f":"+Zał.1_WPF_bazowy!#REF!","v":{"$error":"#REF!"}},{"$f":"+Zał.1_WPF_bazowy!#REF!","v":{"$error":"#REF!"}},{"$f":"+Zał.1_WPF_bazowy!#REF!","v":{"$error":"#REF!"}},{"$f":"+Zał.1_WPF_bazowy!#REF!","v":{"$error":"#REF!"}},{"$f":"+Zał.1_WPF_bazowy!#REF!","v":{"$error":"#REF!"}},{"$f":"+Zał.1_WPF_bazowy!#REF!","v":{"$error":"#REF!"}},{"$f":"+Zał.1_WPF_bazowy!#REF!","v":{"$error":"#REF!"}},{"$f":"+Zał.1_WPF_bazowy!#REF!","v":{"$error":"#REF!"}},{"$f":"+Zał.1_WPF_bazowy!#REF!","v":{"$error":"#REF!"}},{"$f":"+Zał.1_WPF_bazowy!#REF!","v":{"$error":"#REF!"}},{"$f":"+Zał.1_WPF_bazowy!#REF!","v":{"$error":"#REF!"}},{"$f":"+Zał.1_WPF_bazowy!#REF!","v":{"$error":"#REF!"}},{"$f":"+Zał.1_WPF_bazowy!#REF!","v":{"$error":"#REF!"}},{"$f":"+Zał.1_WPF_bazowy!#REF!","v":{"$error":"#REF!"}},{"$f":"+Zał.1_WPF_bazowy!#REF!","v":{"$error":"#REF!"}},{"$f":"+Zał.1_WPF_bazowy!#REF!","v":{"$error":"#REF!"}},{"$f":"+Zał.1_WPF_bazowy!#REF!","v":{"$error":"#REF!"}},{"$f":"+Zał.1_WPF_bazowy!#REF!","v":{"$error":"#REF!"}},{"$f":"+Zał.1_WPF_bazowy!#REF!","v":{"$error":"#REF!"}},{"$f":"+Zał.1_WPF_bazowy!#REF!","v":{"$error":"#REF!"}}]
[]
[]
[]
[]
[]
[null,"Weryfikacja danych wykazanych w tabeli Wieloletnia Prognoza Finansowa"]
[null,null,null,"Reguła formalna"]
[null,null,null,"Reguła rachunkowa"]
[null,null,null,"Reguła logiczna"]
[null,null,null,"Reguły kontrolne"]
[null,null,"[1.1] + [4.1] + [4.2] >= ([2.1] - [2.1.2])","Spełnienie wskaźnika z art. 242","x","x","x","x",{"$f":"IF(ROUND(I11+I31+I33,2)>=ROUND(I22-I25,2),\"TAK\",\"NIE\")","v":"TAK"},{"$f":"IF(ROUND(J11+J31+J33,2)>=ROUND(J22-J25,2),\"TAK\",\"NIE\")","v":"TAK"},"TAK","TAK",{"$error":"#REF!"},{"$error":"#REF!"},{"$error":"#REF!"},{"$error":"#REF!"},{"$error":"#REF!"},{"$error":"#REF!"},{"$error":"#REF!"},{"$error":"#REF!"},{"$error":"#REF!"},{"$error":"#REF!"},{"$error":"#REF!"},{"$error":"#REF!"},{"$error":"#REF!"},{"$error":"#REF!"},{"$error":"#REF!"},{"$error":"#REF!"},{"$error":"#REF!"},{"$error":"#REF!"},{"$error":"#REF!"},{"$error":"#REF!"},{"$error":"#REF!"},{"$error":"#REF!"},{"$error":"#REF!"},{"$error":"#REF!"},{"$error":"#REF!"},{"$error":"#REF!"}]
[null,null,null,"Spełnienie wskaźnika z art. 169 suofp (bez wyłączeń)","x","x","x","x",{"$f":"IF(I54<=15%,\"TAK\",\"NIE\")","v":"TAK"},"x","x","x","x","x","x","x","x","x","x","x","x","x","x","x","x","x","x","x","x","x","x","x","x","x","x","x","x","x"]
[null,null,null,"Spełnienie wskaźnika z art. 169 suofp (z wyłączeniami)","x","x","x","x",{"$f":"IF(I55<=15%,\"TAK\",\"NIE\")","v":"TAK"},"x","x","x","x","x","x","x","x","x","x","x","x","x","x","x","x","x","x","x","x","x","x","x","x","x","x","x","x","x"]
[null,null,null,"Spełnienie wskaźnika z art. 170 suofp (bez wyłączeń)","x","x","x","x",{"$f":"IF(I47<=60%,\"TAK\",\"NIE\")","v":"TAK"},"x","x","x","x","x","x","x","x","x","x","x","x","x","x","x","x","x","x","x","x","x","x","x","x","x","x","x","x","x"]
[null,null,null,"Spełnienie wskaźnika z art. 170 suofp (z wyłączeniami)","x","x","x","x",{"$f":"IF(I48<=60%,\"TAK\",\"NIE\")","v":"TAK"},"x","x","x","x","x","x","x","x","x","x","x","x","x","x","x","x","x","x","x","x","x","x","x","x","x","x","x","x","x"]
[null,null,"[13.3] = 0 (dla lat 2014 i wyższych)","Umorzenie zobowiązań, o którym mowa w art. 190 ustawy o działalności leczniczej nie wykracza poza ustawowy okres","x","x","x","x","x","x",{"$f":"IF(K92=0,\"TAK\",\"BŁĄD\")","v":"TAK"},"TAK",{"$error":"#REF!"},{"$error":"#REF!"},{"$error":"#REF!"},{"$error":"#REF!"},{"$error":"#REF!"},{"$error":"#REF!"},{"$error":"#REF!"},{"$error":"#REF!"},{"$error":"#REF!"},{"$error":"#REF!"},{"$error":"#REF!"},{"$error":"#REF!"},{"$error":"#REF!"},{"$error":"#REF!"},{"$error":"#REF!"},{"$error":"#REF!"},{"$error":"#REF!"},{"$error":"#REF!"},{"$error":"#REF!"},{"$error":"#REF!"},{"$error":"#REF!"},{"$error":"#REF!"},{"$error":"#REF!"},{"$error":"#REF!"},{"$error":"#REF!"},{"$error":"#REF!"}]
[null,null,"[1] + [4] - [2] - [5] = 0","Kontrola poprawności zbilansowania budżetu","x","x","x","x",{"$f":"IF(ROUND(I10+I30-I21-I39,2)=0,\"OK\",ROUND(I10+I30-I21-I39,2))","v":"OK"},{"$f":"IF(ROUND(J10+J30-J21-J39,2)=0,\"OK\",ROUND(J10+J30-J21-J39,2))","v":"OK"},"OK","OK",{"$error":"#REF!"},{"$error":"#REF!"},{"$error":"#REF!"},{"$error":"#REF!"},{"$error":"#REF!"},{"$error":"#REF!"},{"$error":"#REF!"},{"$error":"#REF!"},{"$error":"#REF!"},{"$error":"#REF!"},{"$error":"#REF!"},{"$error":"#REF!"},{"$error":"#REF!"},{"$error":"#REF!"},{"$error":"#REF!"},{"$error":"#REF!"},{"$error":"#REF!"},{"$error":"#REF!"},{"$error":"#REF!"},{"$error":"#REF!"},{"$error":"#REF!"},{"$error":"#REF!"},{"$error":"#REF!"},{"$error":"#REF!"},{"$error":"#REF!"},{"$error":"#REF!"}]
[null,null,"[6]\"n\" = [6]\"n-1\" + [4.3]\"n\" - [5.1]\"n\" +  ([14.2]\"n\"-[14.2]\"n-1\") + [14.4]","Kontrola poprawności wyliczenia kwoty długu","x","x","x","x",{"$f":"+IF(ROUND(H44+I35-I40+(I99-H99)+I104-I44,2)=0,\"OK\",ROUND(H44+I35-I40+(I99-H99)+I104-I44,2))","v":"OK"},{"$f":"+IF(ROUND(I44+J35-J40+(J99-I99)+J104-J44,2)=0,\"OK\",ROUND(I44+J35-J40+(J99-I99)+J104-J44,2))","v":"OK"},"OK","OK",{"$error":"#REF!"},{"$error":"#REF!"},{"$error":"#REF!"},{"$error":"#REF!"},{"$error":"#REF!"},{"$error":"#REF!"},{"$error":"#REF!"},{"$error":"#REF!"},{"$error":"#REF!"},{"$error":"#REF!"},{"$error":"#REF!"},{"$error":"#REF!"},{"$error":"#REF!"},{"$error":"#REF!"},{"$error":"#REF!"},{"$error":"#REF!"},{"$error":"#REF!"},{"$error":"#REF!"},{"$error":"#REF!"},{"$error":"#REF!"},{"$error":"#REF!"},{"$error":"#REF!"},{"$error":"#REF!"},{"$error":"#REF!"},{"$error":"#REF!"},{"$error":"#REF!"}]
[null,null,"[14.2] \"n\" =  ( [14.2]  \"n-1\" -  [14.3] \"n\" ) ","Analiza zmiany kwoty długu spłacanego wydatkami budżetu \n- wartości różne od zera wymagają objaśnienia \n   - wartości większe od zera wskazują na powstanie w roku prognozy nowego długu tego typu\n   - wartości mniejsze od zera co do zasady nie powinny wystąpić","x","x","x","x",{"$f":"+IF(H99=0,\"N/D\",IF(ROUND(I99+I100-H99,2)=0,\"OK\",ROUND(I99+I100-H99,2)))","v":"N/D"},{"$f":"+IF(I99=0,\"N/D\",IF(ROUND(J99+J100-I99,2)=0,\"OK\",ROUND(J99+J100-I99,2)))","v":"N/D"},"N/D","N/D","N/D",{"$error":"#REF!"},{"$error":"#REF!"},{"$error":"#REF!"},{"$error":"#REF!"},{"$error":"#REF!"},{"$error":"#REF!"},{"$error":"#REF!"},{"$error":"#REF!"},{"$error":"#REF!"},{"$error":"#REF!"},{"$error":"#REF!"},{"$error":"#REF!"},{"$error":"#REF!"},{"$error":"#REF!"},{"$error":"#REF!"},{"$error":"#REF!"},{"$error":"#REF!"},{"$error":"#REF!"},{"$error":"#REF!"},{"$error":"#REF!"},{"$error":"#REF!"},{"$error":"#REF!"},{"$error":"#REF!"},{"$error":"#REF!"},{"$error":"#REF!"}]
[null,null,"[13.1] \"n\"  -  ( [13.3] + [13.4] + [13.5] + [13.6] ) \"n\"  =  [13.1] \"n-1\"","Porównanie na koniec roku prognozy stanu zobowiązań przejętych przez jst po likwidowanych i przekształcanych SP ZOZ z wydatkami i umorzeniami poniesionymi na ten cel ze stanem zobowiązań z okresu N-1","x","x","x","x",{"$f":"+IF(H90=0,\"N/D\",IF(ROUND(I90+(I92+I93+I94+I95)-H90,2)=0,\"OK\",ROUND(I90+(I92+I93+I94+I95)-H90,2)))","v":"N/D"},{"$f":"+IF(I90=0,\"N/D\",IF(ROUND(J90+(J92+J93+J94+J95)-I90,2)=0,\"OK\",ROUND(J90+(J92+J93+J94+J95)-I90,2)))","v":"N/D"},"N/D","N/D","N/D",{"$error":"#REF!"},{"$error":"#REF!"},{"$error":"#REF!"},{"$error":"#REF!"},{"$error":"#REF!"},{"$error":"#REF!"},{"$error":"#REF!"},{"$error":"#REF!"},{"$error":"#REF!"},{"$error":"#REF!"},{"$error":"#REF!"},{"$error":"#REF!"},{"$error":"#REF!"},{"$error":"#REF!"},{"$error":"#REF!"},{"$error":"#REF!"},{"$error":"#REF!"},{"$error":"#REF!"},{"$error":"#REF!"},{"$error":"#REF!"},{"$error":"#REF!"},{"$error":"#REF!"},{"$error":"#REF!"},{"$error":"#REF!"},{"$error":"#REF!"}]
[null,null,"jeśli [3] < 0 to sprawdź czy [4.1.1] + [4.2.1] + [4.3.1] + [4.4.1] + [3] = 0","Kontrola poprawności wykazania źródeł pokrycia deficytu","x","x","x","x",{"$f":"IF(I29<0,IF(ROUND(I32+I34+I36+I38+I29,2)=0,\"OK\",ROUND(I32+I34+I36+I38+I29,2)),\"N/D\")","v":"N/D"},{"$f":"IF(J29<0,IF(ROUND(J32+J34+J36+J38+J29,2)=0,\"OK\",ROUND(J32+J34+J36+J38+J29,2)),\"N/D\")","v":"N/D"},"N/D","N/D",{"$error":"#REF!"},{"$error":"#REF!"},{"$error":"#REF!"},{"$error":"#REF!"},{"$error":"#REF!"},{"$error":"#REF!"},{"$error":"#REF!"},{"$error":"#REF!"},{"$error":"#REF!"},{"$error":"#REF!"},{"$error":"#REF!"},{"$error":"#REF!"},{"$error":"#REF!"},{"$error":"#REF!"},{"$error":"#REF!"},{"$error":"#REF!"},{"$error":"#REF!"},{"$error":"#REF!"},{"$error":"#REF!"},{"$error":"#REF!"},{"$error":"#REF!"},{"$error":"#REF!"},{"$error":"#REF!"},{"$error":"#REF!"},{"$error":"#REF!"},{"$error":"#REF!"}]
[null,null,"jeśli [3] >= 0 to sprawdź czy [4.1.1]=0 i [4.2.1]=0 i [4.3.1]=0 i  [4.4.1] = 0","Kontrola poprawności niewykazania źródeł pokrycia deficytu przy nadwyżce budżetu","x","x","x","x",{"$f":"IF(I29>=0,IF(ROUND(I32+I34+I36+I38,2)=0,\"OK\",ROUND(I32+I34+I36+I38,2)),\"N/D\")","v":"OK"},{"$f":"IF(J29>=0,IF(ROUND(J32+J34+J36+J38,2)=0,\"OK\",ROUND(J32+J34+J36+J38,2)),\"N/D\")","v":"OK"},"OK","OK",{"$error":"#REF!"},{"$error":"#REF!"},{"$error":"#REF!"},{"$error":"#REF!"},{"$error":"#REF!"},{"$error":"#REF!"},{"$error":"#REF!"},{"$error":"#REF!"},{"$error":"#REF!"},{"$error":"#REF!"},{"$error":"#REF!"},{"$error":"#REF!"},{"$error":"#REF!"},{"$error":"#REF!"},{"$error":"#REF!"},{"$error":"#REF!"},{"$error":"#REF!"},{"$error":"#REF!"},{"$error":"#REF!"},{"$error":"#REF!"},{"$error":"#REF!"},{"$error":"#REF!"},{"$error":"#REF!"},{"$error":"#REF!"},{"$error":"#REF!"},{"$error":"#REF!"}]
[null,null,"[1.1.3] >=  [1.1.3.1]","Reguła logiczna:  [1.1.3] >=  [1.1.3.1]","x","x","x","x",{"$f":"IF(I14>=I15,\"OK\",\"BŁĄD\")","v":"OK"},"OK","OK","OK",{"$error":"#REF!"},{"$error":"#REF!"},{"$error":"#REF!"},{"$error":"#REF!"},{"$error":"#REF!"},{"$error":"#REF!"},{"$error":"#REF!"},{"$error":"#REF!"},{"$error":"#REF!"},{"$error":"#REF!"},{"$error":"#REF!"},{"$error":"#REF!"},{"$error":"#REF!"},{"$error":"#REF!"},{"$error":"#REF!"},{"$error":"#REF!"},{"$error":"#REF!"},{"$error":"#REF!"},{"$error":"#REF!"},{"$error":"#REF!"},{"$error":"#REF!"},{"$error":"#REF!"},{"$error":"#REF!"},{"$error":"#REF!"},{"$error":"#REF!"},{"$error":"#REF!"}]
[null,null,"[1.1.5] >= [13.2]","Reguła logiczna:  [1.1.5] >= [13.2]","x","x","x","x",{"$f":"IF(I17>=I91,\"OK\",\"BŁĄD\")","v":"OK"},"OK","OK","OK",{"$error":"#REF!"},{"$error":"#REF!"},{"$error":"#REF!"},{"$error":"#REF!"},{"$error":"#REF!"},{"$error":"#REF!"},{"$error":"#REF!"},{"$error":"#REF!"},{"$error":"#REF!"},{"$error":"#REF!"},{"$error":"#REF!"},{"$error":"#REF!"},{"$error":"#REF!"},{"$error":"#REF!"},{"$error":"#REF!"},{"$error":"#REF!"},{"$error":"#REF!"},{"$error":"#REF!"},{"$error":"#REF!"},{"$error":"#REF!"},{"$error":"#REF!"},{"$error":"#REF!"},{"$error":"#REF!"},{"$error":"#REF!"},{"$error":"#REF!"},{"$error":"#REF!"}]
[null,null,"[1.1] >=  ([1.1.1] + [1.1.2] + [1.1.3] + [1.1.4] + [1.1.5])","Reguła logiczna:  [1.1] >=  ([1.1.1] + [1.1.2] + [1.1.3] + [1.1.4] + [1.1.5])","x","x","x","x",{"$f":"IF(I11>=I12+I13+I14+I16+I17,\"OK\",\"BŁĄD\")","v":"OK"},"OK","OK","OK",{"$error":"#REF!"},{"$error":"#REF!"},{"$error":"#REF!"},{"$error":"#REF!"},{"$error":"#REF!"},{"$error":"#REF!"},{"$error":"#REF!"},{"$error":"#REF!"},{"$error":"#REF!"},{"$error":"#REF!"},{"$error":"#REF!"},{"$error":"#REF!"},{"$error":"#REF!"},{"$error":"#REF!"},{"$error":"#REF!"},{"$error":"#REF!"},{"$error":"#REF!"},{"$error":"#REF!"},{"$error":"#REF!"},{"$error":"#REF!"},{"$error":"#REF!"},{"$error":"#REF!"},{"$error":"#REF!"},{"$error":"#REF!"},{"$error":"#REF!"},{"$error":"#REF!"}]
[null,null,"[1.1] >= [12.1]","Reguła logiczna:  [1.1] >= [12.1]","x","x","x","x",{"$f":"IF(I11>=I77,\"OK\",\"BŁĄD\")","v":"OK"},"OK","OK","OK",{"$error":"#REF!"},{"$error":"#REF!"},{"$error":"#REF!"},{"$error":"#REF!"},{"$error":"#REF!"},{"$error":"#REF!"},{"$error":"#REF!"},{"$error":"#REF!"},{"$error":"#REF!"},{"$error":"#REF!"},{"$error":"#REF!"},{"$error":"#REF!"},{"$error":"#REF!"},{"$error":"#REF!"},{"$error":"#REF!"},{"$error":"#REF!"},{"$error":"#REF!"},{"$error":"#REF!"},{"$error":"#REF!"},{"$error":"#REF!"},{"$error":"#REF!"},{"$error":"#REF!"},{"$error":"#REF!"},{"$error":"#REF!"},{"$error":"#REF!"},{"$error":"#REF!"}]
[null,null,"[1.2] >= [1.2.1]","Reguła logiczna:  [1.2] >= [1.2.1]","x","x","x","x",{"$f":"IF(I18>=I19,\"OK\",\"BŁĄD\")","v":"OK"},"OK","OK","OK",{"$error":"#REF!"},{"$error":"#REF!"},{"$error":"#REF!"},{"$error":"#REF!"},{"$error":"#REF!"},{"$error":"#REF!"},{"$error":"#REF!"},{"$error":"#REF!"},{"$error":"#REF!"},{"$error":"#REF!"},{"$error":"#REF!"},{"$error":"#REF!"},{"$error":"#REF!"},{"$error":"#REF!"},{"$error":"#REF!"},{"$error":"#REF!"},{"$error":"#REF!"},{"$error":"#REF!"},{"$error":"#REF!"},{"$error":"#REF!"},{"$error":"#REF!"},{"$error":"#REF!"},{"$error":"#REF!"},{"$error":"#REF!"},{"$error":"#REF!"},{"$error":"#REF!"}]
[null,null,"[1.2] >= [1.2.2]","Reguła logiczna:  [1.2] >= [1.2.2]","x","x","x","x",{"$f":"IF(I18>=I20,\"OK\",\"BŁĄD\")","v":"OK"},"OK","OK","OK",{"$error":"#REF!"},{"$error":"#REF!"},{"$error":"#REF!"},{"$error":"#REF!"},{"$error":"#REF!"},{"$error":"#REF!"},{"$error":"#REF!"},{"$error":"#REF!"},{"$error":"#REF!"},{"$error":"#REF!"},{"$error":"#REF!"},{"$error":"#REF!"},{"$error":"#REF!"},{"$error":"#REF!"},{"$error":"#REF!"},{"$error":"#REF!"},{"$error":"#REF!"},{"$error":"#REF!"},{"$error":"#REF!"},{"$error":"#REF!"},{"$error":"#REF!"},{"$error":"#REF!"},{"$error":"#REF!"},{"$error":"#REF!"},{"$error":"#REF!"},{"$error":"#REF!"}]
[null,null,"[1.2] >= [12.2]","Reguła logiczna:  [1.2] >= [12.2]","x","x","x","x",{"$f":"IF(I18>=I80,\"OK\",\"BŁĄD\")","v":"OK"},"OK","OK","OK",{"$error":"#REF!"},{"$error":"#REF!"},{"$error":"#REF!"},{"$error":"#REF!"},{"$error":"#REF!"},{"$error":"#REF!"},{"$error":"#REF!"},{"$error":"#REF!"},{"$error":"#REF!"},{"$error":"#REF!"},{"$error":"#REF!"},{"$error":"#REF!"},{"$error":"#REF!"},{"$error":"#REF!"},{"$error":"#REF!"},{"$error":"#REF!"},{"$error":"#REF!"},{"$error":"#REF!"},{"$error":"#REF!"},{"$error":"#REF!"},{"$error":"#REF!"},{"$error":"#REF!"},{"$error":"#REF!"},{"$error":"#REF!"},{"$error":"#REF!"},{"$error":"#REF!"}]
[null,null,null,"Reguła logiczna: jeżeli [3] >0 to [10] = [3]","x","x","x","x",{"$f":"+IF(I29>0,IF(I29=I65,\"OK\",\"Błąd\"),\"N/D\")","v":"Błąd"},{"$f":"+IF(J29>0,IF(J29=J65,\"OK\",\"Błąd\"),\"N/D\")","v":"N/D"},"N/D","N/D",{"$error":"#REF!"},{"$error":"#REF!"},{"$error":"#REF!"},{"$error":"#REF!"},{"$error":"#REF!"},{"$error":"#REF!"},{"$error":"#REF!"},{"$error":"#REF!"},{"$error":"#REF!"},{"$error":"#REF!"},{"$error":"#REF!"},{"$error":"#REF!"},{"$error":"#REF!"},{"$error":"#REF!"},{"$error":"#REF!"},{"$error":"#REF!"},{"$error":"#REF!"},{"$error":"#REF!"},{"$error":"#REF!"},{"$error":"#REF!"},{"$error":"#REF!"},{"$error":"#REF!"},{"$error":"#REF!"},{"$error":"#REF!"},{"$error":"#REF!"},{"$error":"#REF!"}]
[null,null,"[10] >= [10.1]","Reguła logiczna:  [10] >= [10.1]","x","x","x","x",{"$f":"IF(I65>=I66,\"OK\",\"BŁĄD\")","v":"OK"},"OK","OK","OK",{"$error":"#REF!"},{"$error":"#REF!"},{"$error":"#REF!"},{"$error":"#REF!"},{"$error":"#REF!"},{"$error":"#REF!"},{"$error":"#REF!"},{"$error":"#REF!"},{"$error":"#REF!"},{"$error":"#REF!"},{"$error":"#REF!"},{"$error":"#REF!"},{"$error":"#REF!"},{"$error":"#REF!"},{"$error":"#REF!"},{"$error":"#REF!"},{"$error":"#REF!"},{"$error":"#REF!"},{"$error":"#REF!"},{"$error":"#REF!"},{"$error":"#REF!"},{"$error":"#REF!"},{"$error":"#REF!"},{"$error":"#REF!"},{"$error":"#REF!"},{"$error":"#REF!"}]
[null,null,"jeśli [10] > 0 to powinno być [10.1] > 0","Reguła logiczna:  jeżeli [10] > 0 to [10.1] >0","x","x","x","x",{"$f":"IF(I65>0,IF(I66>0,\"OK\",\"BŁĄD\"),\"N/D\")","v":"OK"},{"$f":"IF(J65>0,IF(J66>0,\"OK\",\"BŁĄD\"),\"N/D\")","v":"N/D"},"N/D","N/D",{"$error":"#REF!"},{"$error":"#REF!"},{"$error":"#REF!"},{"$error":"#REF!"},{"$error":"#REF!"},{"$error":"#REF!"},{"$error":"#REF!"},{"$error":"#REF!"},{"$error":"#REF!"},{"$error":"#REF!"},{"$error":"#REF!"},{"$error":"#REF!"},{"$error":"#REF!"},{"$error":"#REF!"},{"$error":"#REF!"},{"$error":"#REF!"},{"$error":"#REF!"},{"$error":"#REF!"},{"$error":"#REF!"},{"$error":"#REF!"},{"$error":"#REF!"},{"$error":"#REF!"},{"$error":"#REF!"},{"$error":"#REF!"},{"$error":"#REF!"},{"$error":"#REF!"}]
[null,null,"[12.1] >= [12.1.1]","Reguła logiczna:  [12.1] >= [12.1.1]","x","x","x","x",{"$f":"IF(I77>=I78,\"OK\",\"BŁĄD\")","v":"OK"},"OK","OK","OK",{"$error":"#REF!"},{"$error":"#REF!"},{"$error":"#REF!"},{"$error":"#REF!"},{"$error":"#REF!"},{"$error":"#REF!"},{"$error":"#REF!"},{"$error":"#REF!"},{"$error":"#REF!"},{"$error":"#REF!"},{"$error":"#REF!"},{"$error":"#REF!"},{"$error":"#REF!"},{"$error":"#REF!"},{"$error":"#REF!"},{"$error":"#REF!"},{"$error":"#REF!"},{"$error":"#REF!"},{"$error":"#REF!"},{"$error":"#REF!"},{"$error":"#REF!"},{"$error":"#REF!"},{"$error":"#REF!"},{"$error":"#REF!"},{"$error":"#REF!"},{"$error":"#REF!"}]
[null,null,"[12.1.1] >= [12.1.1.1]","Reguła logiczna:  [12.1.1] >= [12.1.1.1]","x","x","x","x",{"$f":"IF(I78>=I79,\"OK\",\"BŁĄD\")","v":"OK"},"OK","OK","OK",{"$error":"#REF!"},{"$error":"#REF!"},{"$error":"#REF!"},{"$error":"#REF!"},{"$error":"#REF!"},{"$error":"#REF!"},{"$error":"#REF!"},{"$error":"#REF!"},{"$error":"#REF!"},{"$error":"#REF!"},{"$error":"#REF!"},{"$error":"#REF!"},{"$error":"#REF!"},{"$error":"#REF!"},{"$error":"#REF!"},{"$error":"#REF!"},{"$error":"#REF!"},{"$error":"#REF!"},{"$error":"#REF!"},{"$error":"#REF!"},{"$error":"#REF!"},{"$error":"#REF!"},{"$error":"#REF!"},{"$error":"#REF!"},{"$error":"#REF!"},{"$error":"#REF!"}]
[null,null,"[12.2] >= [12.2.1]","Reguła logiczna:  [12.2] >= [12.2.1]","x","x","x","x",{"$f":"IF(I80>=I81,\"OK\",\"BŁĄD\")","v":"OK"},"OK","OK","OK",{"$error":"#REF!"},{"$error":"#REF!"},{"$error":"#REF!"},{"$error":"#REF!"},{"$error":"#REF!"},{"$error":"#REF!"},{"$error":"#REF!"},{"$error":"#REF!"},{"$error":"#REF!"},{"$error":"#REF!"},{"$error":"#REF!"},{"$error":"#REF!"},{"$error":"#REF!"},{"$error":"#REF!"},{"$error":"#REF!"},{"$error":"#REF!"},{"$error":"#REF!"},{"$error":"#REF!"},{"$error":"#REF!"},{"$error":"#REF!"},{"$error":"#REF!"},{"$error":"#REF!"},{"$error":"#REF!"},{"$error":"#REF!"},{"$error":"#REF!"},{"$error":"#REF!"}]
[null,null,"[12.2.1] >= [12.2.1.1]","Reguła logiczna:  [12.2.1] >= [12.2.1.1]","x","x","x","x",{"$f":"IF(I81>=I82,\"OK\",\"BŁĄD\")","v":"OK"},"OK","OK","OK",{"$error":"#REF!"},{"$error":"#REF!"},{"$error":"#REF!"},{"$error":"#REF!"},{"$error":"#REF!"},{"$error":"#REF!"},{"$error":"#REF!"},{"$error":"#REF!"},{"$error":"#REF!"},{"$error":"#REF!"},{"$error":"#REF!"},{"$error":"#REF!"},{"$error":"#REF!"},{"$error":"#REF!"},{"$error":"#REF!"},{"$error":"#REF!"},{"$error":"#REF!"},{"$error":"#REF!"},{"$error":"#REF!"},{"$error":"#REF!"},{"$error":"#REF!"},{"$error":"#REF!"},{"$error":"#REF!"},{"$error":"#REF!"},{"$error":"#REF!"},{"$error":"#REF!"}]
[null,null,"[12.3] >= [12.3.1]","Reguła logiczna:  [12.3] >= [12.3.1]","x","x","x","x",{"$f":"IF(I83>=I84,\"OK\",\"BŁĄD\")","v":"OK"},"OK","OK","OK",{"$error":"#REF!"},{"$error":"#REF!"},{"$error":"#REF!"},{"$error":"#REF!"},{"$error":"#REF!"},{"$error":"#REF!"},{"$error":"#REF!"},{"$error":"#REF!"},{"$error":"#REF!"},{"$error":"#REF!"},{"$error":"#REF!"},{"$error":"#REF!"},{"$error":"#REF!"},{"$error":"#REF!"},{"$error":"#REF!"},{"$error":"#REF!"},{"$error":"#REF!"},{"$error":"#REF!"},{"$error":"#REF!"},{"$error":"#REF!"},{"$error":"#REF!"},{"$error":"#REF!"},{"$error":"#REF!"},{"$error":"#REF!"},{"$error":"#REF!"},{"$error":"#REF!"}]
[null,null,"[12.3] >= [12.3.2]","Reguła logiczna:  [12.3] >= [12.3.2]","x","x","x","x",{"$f":"IF(I83>=I85,\"OK\",\"BŁĄD\")","v":"OK"},"OK","OK","OK",{"$error":"#REF!"},{"$error":"#REF!"},{"$error":"#REF!"},{"$error":"#REF!"},{"$error":"#REF!"},{"$error":"#REF!"},{"$error":"#REF!"},{"$error":"#REF!"},{"$error":"#REF!"},{"$error":"#REF!"},{"$error":"#REF!"},{"$error":"#REF!"},{"$error":"#REF!"},{"$error":"#REF!"},{"$error":"#REF!"},{"$error":"#REF!"},{"$error":"#REF!"},{"$error":"#REF!"},{"$error":"#REF!"},{"$error":"#REF!"},{"$error":"#REF!"},{"$error":"#REF!"},{"$error":"#REF!"},{"$error":"#REF!"},{"$error":"#REF!"},{"$error":"#REF!"}]
[null,null,"[12.4] >= [12.4.1]","Reguła logiczna:  [12.4] >= [12.4.1]","x","x","x","x",{"$f":"IF(I86>=I87,\"OK\",\"BŁĄD\")","v":"OK"},"OK","OK","OK",{"$error":"#REF!"},{"$error":"#REF!"},{"$error":"#REF!"},{"$error":"#REF!"},{"$error":"#REF!"},{"$error":"#REF!"},{"$error":"#REF!"},{"$error":"#REF!"},{"$error":"#REF!"},{"$error":"#REF!"},{"$error":"#REF!"},{"$error":"#REF!"},{"$error":"#REF!"},{"$error":"#REF!"},{"$error":"#REF!"},{"$error":"#REF!"},{"$error":"#REF!"},{"$error":"#REF!"},{"$error":"#REF!"},{"$error":"#REF!"},{"$error":"#REF!"},{"$error":"#REF!"},{"$error":"#REF!"},{"$error":"#REF!"},{"$error":"#REF!"},{"$error":"#REF!"}]
[null,null,"[12.4] >= [12.4.2]","Reguła logiczna:  [12.4] >= [12.4.2]","x","x","x","x",{"$f":"IF(I86>=I88,\"OK\",\"BŁĄD\")","v":"OK"},"OK","OK","OK",{"$error":"#REF!"},{"$error":"#REF!"},{"$error":"#REF!"},{"$error":"#REF!"},{"$error":"#REF!"},{"$error":"#REF!"},{"$error":"#REF!"},{"$error":"#REF!"},{"$error":"#REF!"},{"$error":"#REF!"},{"$error":"#REF!"},{"$error":"#REF!"},{"$error":"#REF!"},{"$error":"#REF!"},{"$error":"#REF!"},{"$error":"#REF!"},{"$error":"#REF!"},{"$error":"#REF!"},{"$error":"#REF!"},{"$error":"#REF!"},{"$error":"#REF!"},{"$error":"#REF!"},{"$error":"#REF!"},{"$error":"#REF!"},{"$error":"#REF!"},{"$error":"#REF!"}]
[null,null,"[13.1] >= [13.3]","Reguła logiczna:  [13.1] >= [13.3]","x","x","x","x",{"$f":"IF(I90>=I92,\"OK\",\"BŁĄD\")","v":"OK"},"OK","OK","OK",{"$error":"#REF!"},{"$error":"#REF!"},{"$error":"#REF!"},{"$error":"#REF!"},{"$error":"#REF!"},{"$error":"#REF!"},{"$error":"#REF!"},{"$error":"#REF!"},{"$error":"#REF!"},{"$error":"#REF!"},{"$error":"#REF!"},{"$error":"#REF!"},{"$error":"#REF!"},{"$error":"#REF!"},{"$error":"#REF!"},{"$error":"#REF!"},{"$error":"#REF!"},{"$error":"#REF!"},{"$error":"#REF!"},{"$error":"#REF!"},{"$error":"#REF!"},{"$error":"#REF!"},{"$error":"#REF!"},{"$error":"#REF!"},{"$error":"#REF!"},{"$error":"#REF!"}]
[null,null,"[13.4] >= [2.1.2]","Reguła logiczna:  [13.4] >= [2.1.2]","x","x","x","x",{"$f":"IF(I93>=I25,\"OK\",\"BŁĄD\")","v":"OK"},"OK","OK","OK",{"$error":"#REF!"},{"$error":"#REF!"},{"$error":"#REF!"},{"$error":"#REF!"},{"$error":"#REF!"},{"$error":"#REF!"},{"$error":"#REF!"},{"$error":"#REF!"},{"$error":"#REF!"},{"$error":"#REF!"},{"$error":"#REF!"},{"$error":"#REF!"},{"$error":"#REF!"},{"$error":"#REF!"},{"$error":"#REF!"},{"$error":"#REF!"},{"$error":"#REF!"},{"$error":"#REF!"},{"$error":"#REF!"},{"$error":"#REF!"},{"$error":"#REF!"},{"$error":"#REF!"},{"$error":"#REF!"},{"$error":"#REF!"},{"$error":"#REF!"},{"$error":"#REF!"}]
[null,null,"[14.3] >= [14.3.1] + [14.3.2] + [14.3.3]","Reguła logiczna:  [14.3] >= [14.3.1] + [14.3.2] + [14.3.3]","x","x","x","x",{"$f":"IF(I100>=(I101+I102+I103),\"OK\",\"BŁĄD\")","v":"OK"},"OK","OK","OK",{"$error":"#REF!"},{"$error":"#REF!"},{"$error":"#REF!"},{"$error":"#REF!"},{"$error":"#REF!"},{"$error":"#REF!"},{"$error":"#REF!"},{"$error":"#REF!"},{"$error":"#REF!"},{"$error":"#REF!"},{"$error":"#REF!"},{"$error":"#REF!"},{"$error":"#REF!"},{"$error":"#REF!"},{"$error":"#REF!"},{"$error":"#REF!"},{"$error":"#REF!"},{"$error":"#REF!"},{"$error":"#REF!"},{"$error":"#REF!"},{"$error":"#REF!"},{"$error":"#REF!"},{"$error":"#REF!"},{"$error":"#REF!"},{"$error":"#REF!"},{"$error":"#REF!"}]
[null,null,"[2.1.1] >= [2.1.1.1]","Reguła logiczna:  [2.1.1] >= [2.1.1.1]","x","x","x","x",{"$f":"IF(I23>=I24,\"OK\",\"BŁĄD\")","v":"OK"},"OK","OK","OK",{"$error":"#REF!"},{"$error":"#REF!"},{"$error":"#REF!"},{"$error":"#REF!"},{"$error":"#REF!"},{"$error":"#REF!"},{"$error":"#REF!"},{"$error":"#REF!"},{"$error":"#REF!"},{"$error":"#REF!"},{"$error":"#REF!"},{"$error":"#REF!"},{"$error":"#REF!"},{"$error":"#REF!"},{"$error":"#REF!"},{"$error":"#REF!"},{"$error":"#REF!"},{"$error":"#REF!"},{"$error":"#REF!"},{"$error":"#REF!"},{"$error":"#REF!"},{"$error":"#REF!"},{"$error":"#REF!"},{"$error":"#REF!"},{"$error":"#REF!"},{"$error":"#REF!"}]
[null,null,"[2.1.1] >= [14.3.3]","Reguła logiczna:  [2.1.1] >= [14.3.3]","x","x","x","x",{"$f":"IF(I23>=I103,\"OK\",\"BŁĄD\")","v":"OK"},"OK","OK","OK",{"$error":"#REF!"},{"$error":"#REF!"},{"$error":"#REF!"},{"$error":"#REF!"},{"$error":"#REF!"},{"$error":"#REF!"},{"$error":"#REF!"},{"$error":"#REF!"},{"$error":"#REF!"},{"$error":"#REF!"},{"$error":"#REF!"},{"$error":"#REF!"},{"$error":"#REF!"},{"$error":"#REF!"},{"$error":"#REF!"},{"$error":"#REF!"},{"$error":"#REF!"},{"$error":"#REF!"},{"$error":"#REF!"},{"$error":"#REF!"},{"$error":"#REF!"},{"$error":"#REF!"},{"$error":"#REF!"},{"$error":"#REF!"},{"$error":"#REF!"},{"$error":"#REF!"}]
[null,null,"[2.1.3] >= [2.1.3.1] ","Reguła logiczna:  [2.1.3] >= [2.1.3.1] ","x","x","x","x",{"$f":"IF(I26>=I27,\"OK\",\"BŁĄD\")","v":"OK"},"OK","OK","OK",{"$error":"#REF!"},{"$error":"#REF!"},{"$error":"#REF!"},{"$error":"#REF!"},{"$error":"#REF!"},{"$error":"#REF!"},{"$error":"#REF!"},{"$error":"#REF!"},{"$error":"#REF!"},{"$error":"#REF!"},{"$error":"#REF!"},{"$error":"#REF!"},{"$error":"#REF!"},{"$error":"#REF!"},{"$error":"#REF!"},{"$error":"#REF!"},{"$error":"#REF!"},{"$error":"#REF!"},{"$error":"#REF!"},{"$error":"#REF!"},{"$error":"#REF!"},{"$error":"#REF!"},{"$error":"#REF!"},{"$error":"#REF!"},{"$error":"#REF!"},{"$error":"#REF!"}]
[null,null,"[2.1] >= ([2.1.1] + [2.1.2] + [2.1.3])","Reguła logiczna:  [2.1] >= ([2.1.1] + [2.1.2] + [2.1.3])","x","x","x","x",{"$f":"IF(I22>=(I23+I25+I26),\"OK\",\"BŁĄD\")","v":"OK"},"OK","OK","OK",{"$error":"#REF!"},{"$error":"#REF!"},{"$error":"#REF!"},{"$error":"#REF!"},{"$error":"#REF!"},{"$error":"#REF!"},{"$error":"#REF!"},{"$error":"#REF!"},{"$error":"#REF!"},{"$error":"#REF!"},{"$error":"#REF!"},{"$error":"#REF!"},{"$error":"#REF!"},{"$error":"#REF!"},{"$error":"#REF!"},{"$error":"#REF!"},{"$error":"#REF!"},{"$error":"#REF!"},{"$error":"#REF!"},{"$error":"#REF!"},{"$error":"#REF!"},{"$error":"#REF!"},{"$error":"#REF!"},{"$error":"#REF!"},{"$error":"#REF!"},{"$error":"#REF!"}]
[null,null,"[2.1] >= [11.1]","Reguła logiczna:  [2.1] >= [11.1]","x","x","x","x",{"$f":"IF(I22>=I68,\"OK\",\"BŁĄD\")","v":"OK"},"OK","OK","OK",{"$error":"#REF!"},{"$error":"#REF!"},{"$error":"#REF!"},{"$error":"#REF!"},{"$error":"#REF!"},{"$error":"#REF!"},{"$error":"#REF!"},{"$error":"#REF!"},{"$error":"#REF!"},{"$error":"#REF!"},{"$error":"#REF!"},{"$error":"#REF!"},{"$error":"#REF!"},{"$error":"#REF!"},{"$error":"#REF!"},{"$error":"#REF!"},{"$error":"#REF!"},{"$error":"#REF!"},{"$error":"#REF!"},{"$error":"#REF!"},{"$error":"#REF!"},{"$error":"#REF!"},{"$error":"#REF!"},{"$error":"#REF!"},{"$error":"#REF!"},{"$error":"#REF!"}]
[null,null,"[2.1] >= [11.3.1]","Reguła logiczna:  [2.1] >= [11.3.1]","x","x","x","x",{"$f":"IF(I22>=I71,\"OK\",\"BŁĄD\")","v":"OK"},"OK","OK","OK",{"$error":"#REF!"},{"$error":"#REF!"},{"$error":"#REF!"},{"$error":"#REF!"},{"$error":"#REF!"},{"$error":"#REF!"},{"$error":"#REF!"},{"$error":"#REF!"},{"$error":"#REF!"},{"$error":"#REF!"},{"$error":"#REF!"},{"$error":"#REF!"},{"$error":"#REF!"},{"$error":"#REF!"},{"$error":"#REF!"},{"$error":"#REF!"},{"$error":"#REF!"},{"$error":"#REF!"},{"$error":"#REF!"},{"$error":"#REF!"},{"$error":"#REF!"},{"$error":"#REF!"},{"$error":"#REF!"},{"$error":"#REF!"},{"$error":"#REF!"},{"$error":"#REF!"}]
[null,null,"[2.1] >= [12.3]","Reguła logiczna:  [2.1] >= [12.3]","x","x","x","x",{"$f":"IF(I22>=I83,\"OK\",\"BŁĄD\")","v":"OK"},"OK","OK","OK",{"$error":"#REF!"},{"$error":"#REF!"},{"$error":"#REF!"},{"$error":"#REF!"},{"$error":"#REF!"},{"$error":"#REF!"},{"$error":"#REF!"},{"$error":"#REF!"},{"$error":"#REF!"},{"$error":"#REF!"},{"$error":"#REF!"},{"$error":"#REF!"},{"$error":"#REF!"},{"$error":"#REF!"},{"$error":"#REF!"},{"$error":"#REF!"},{"$error":"#REF!"},{"$error":"#REF!"},{"$error":"#REF!"},{"$error":"#REF!"},{"$error":"#REF!"},{"$error":"#REF!"},{"$error":"#REF!"},{"$error":"#REF!"},{"$error":"#REF!"},{"$error":"#REF!"}]
[null,null,"[2.1] >= [13.7]","Reguła logiczna:  [2.1] >= [13.7]","x","x","x","x",{"$f":"IF(I22>=I96,\"OK\",\"BŁĄD\")","v":"OK"},"OK","OK","OK",{"$error":"#REF!"},{"$error":"#REF!"},{"$error":"#REF!"},{"$error":"#REF!"},{"$error":"#REF!"},{"$error":"#REF!"},{"$error":"#REF!"},{"$error":"#REF!"},{"$error":"#REF!"},{"$error":"#REF!"},{"$error":"#REF!"},{"$error":"#REF!"},{"$error":"#REF!"},{"$error":"#REF!"},{"$error":"#REF!"},{"$error":"#REF!"},{"$error":"#REF!"},{"$error":"#REF!"},{"$error":"#REF!"},{"$error":"#REF!"},{"$error":"#REF!"},{"$error":"#REF!"},{"$error":"#REF!"},{"$error":"#REF!"},{"$error":"#REF!"},{"$error":"#REF!"}]
[null,null,"[2.2] >= [11.3.2]","Reguła logiczna:  [2.2] >= [11.3.2]","x","x","x","x",{"$f":"IF(I28>=I72,\"OK\",\"BŁĄD\")","v":"OK"},"OK","OK","OK",{"$error":"#REF!"},{"$error":"#REF!"},{"$error":"#REF!"},{"$error":"#REF!"},{"$error":"#REF!"},{"$error":"#REF!"},{"$error":"#REF!"},{"$error":"#REF!"},{"$error":"#REF!"},{"$error":"#REF!"},{"$error":"#REF!"},{"$error":"#REF!"},{"$error":"#REF!"},{"$error":"#REF!"},{"$error":"#REF!"},{"$error":"#REF!"},{"$error":"#REF!"},{"$error":"#REF!"},{"$error":"#REF!"},{"$error":"#REF!"},{"$error":"#REF!"},{"$error":"#REF!"},{"$error":"#REF!"},{"$error":"#REF!"},{"$error":"#REF!"},{"$error":"#REF!"}]
[null,null,"[2.2] >= [11.4] + [11.5]","Reguła logiczna:  [2.2] >= [11.4] + [11.5]","x","x","x","x",{"$f":"IF(I28>=I73+I74,\"OK\",\"BŁĄD\")","v":"OK"},"OK","OK","OK",{"$error":"#REF!"},{"$error":"#REF!"},{"$error":"#REF!"},{"$error":"#REF!"},{"$error":"#REF!"},{"$error":"#REF!"},{"$error":"#REF!"},{"$error":"#REF!"},{"$error":"#REF!"},{"$error":"#REF!"},{"$error":"#REF!"},{"$error":"#REF!"},{"$error":"#REF!"},{"$error":"#REF!"},{"$error":"#REF!"},{"$error":"#REF!"},{"$error":"#REF!"},{"$error":"#REF!"},{"$error":"#REF!"},{"$error":"#REF!"},{"$error":"#REF!"},{"$error":"#REF!"},{"$error":"#REF!"},{"$error":"#REF!"},{"$error":"#REF!"},{"$error":"#REF!"}]
[null,null,"[2.2] >= [11.6]","Reguła logiczna:  [2.2] >= [11.6]","x","x","x","x",{"$f":"IF(I28>=I75,\"OK\",\"BŁĄD\")","v":"OK"},"OK","OK","OK",{"$error":"#REF!"},{"$error":"#REF!"},{"$error":"#REF!"},{"$error":"#REF!"},{"$error":"#REF!"},{"$error":"#REF!"},{"$error":"#REF!"},{"$error":"#REF!"},{"$error":"#REF!"},{"$error":"#REF!"},{"$error":"#REF!"},{"$error":"#REF!"},{"$error":"#REF!"},{"$error":"#REF!"},{"$error":"#REF!"},{"$error":"#REF!"},{"$error":"#REF!"},{"$error":"#REF!"},{"$error":"#REF!"},{"$error":"#REF!"},{"$error":"#REF!"},{"$error":"#REF!"},{"$error":"#REF!"},{"$error":"#REF!"},{"$error":"#REF!"},{"$error":"#REF!"}]
[null,null,"[2.2] >= [12.4]","Reguła logiczna:  [2.2] >= [12.4]","x","x","x","x",{"$f":"IF(I28>=I86,\"OK\",\"BŁĄD\")","v":"OK"},"OK","OK","OK",{"$error":"#REF!"},{"$error":"#REF!"},{"$error":"#REF!"},{"$error":"#REF!"},{"$error":"#REF!"},{"$error":"#REF!"},{"$error":"#REF!"},{"$error":"#REF!"},{"$error":"#REF!"},{"$error":"#REF!"},{"$error":"#REF!"},{"$error":"#REF!"},{"$error":"#REF!"},{"$error":"#REF!"},{"$error":"#REF!"},{"$error":"#REF!"},{"$error":"#REF!"},{"$error":"#REF!"},{"$error":"#REF!"},{"$error":"#REF!"},{"$error":"#REF!"},{"$error":"#REF!"},{"$error":"#REF!"},{"$error":"#REF!"},{"$error":"#REF!"},{"$error":"#REF!"}]
[null,null,"[4.1] >= [4.1.1]","Reguła logiczna:  [4.1] >= [4.1.1]","x","x","x","x",{"$f":"IF(I31>=I32,\"OK\",\"BŁĄD\")","v":"OK"},"OK","OK","OK",{"$error":"#REF!"},{"$error":"#REF!"},{"$error":"#REF!"},{"$error":"#REF!"},{"$error":"#REF!"},{"$error":"#REF!"},{"$error":"#REF!"},{"$error":"#REF!"},{"$error":"#REF!"},{"$error":"#REF!"},{"$error":"#REF!"},{"$error":"#REF!"},{"$error":"#REF!"},{"$error":"#REF!"},{"$error":"#REF!"},{"$error":"#REF!"},{"$error":"#REF!"},{"$error":"#REF!"},{"$error":"#REF!"},{"$error":"#REF!"},{"$error":"#REF!"},{"$error":"#REF!"},{"$error":"#REF!"},{"$error":"#REF!"},{"$error":"#REF!"},{"$error":"#REF!"}]
[null,null,"[4.2] >= [4.2.1]","Reguła logiczna:  [4.2] >= [4.2.1]","x","x","x","x",{"$f":"IF(I33>=I34,\"OK\",\"BŁĄD\")","v":"OK"},"OK","OK","OK",{"$error":"#REF!"},{"$error":"#REF!"},{"$error":"#REF!"},{"$error":"#REF!"},{"$error":"#REF!"},{"$error":"#REF!"},{"$error":"#REF!"},{"$error":"#REF!"},{"$error":"#REF!"},{"$error":"#REF!"},{"$error":"#REF!"},{"$error":"#REF!"},{"$error":"#REF!"},{"$error":"#REF!"},{"$error":"#REF!"},{"$error":"#REF!"},{"$error":"#REF!"},{"$error":"#REF!"},{"$error":"#REF!"},{"$error":"#REF!"},{"$error":"#REF!"},{"$error":"#REF!"},{"$error":"#REF!"},{"$error":"#REF!"},{"$error":"#REF!"},{"$error":"#REF!"}]
[null,null,"[4.3] >= [4.3.1]","Reguła logiczna:  [4.3] >= [4.3.1]","x","x","x","x",{"$f":"IF(I35>=I36,\"OK\",\"BŁĄD\")","v":"OK"},"OK","OK","OK",{"$error":"#REF!"},{"$error":"#REF!"},{"$error":"#REF!"},{"$error":"#REF!"},{"$error":"#REF!"},{"$error":"#REF!"},{"$error":"#REF!"},{"$error":"#REF!"},{"$error":"#REF!"},{"$error":"#REF!"},{"$error":"#REF!"},{"$error":"#REF!"},{"$error":"#REF!"},{"$error":"#REF!"},{"$error":"#REF!"},{"$error":"#REF!"},{"$error":"#REF!"},{"$error":"#REF!"},{"$error":"#REF!"},{"$error":"#REF!"},{"$error":"#REF!"},{"$error":"#REF!"},{"$error":"#REF!"},{"$error":"#REF!"},{"$error":"#REF!"},{"$error":"#REF!"}]
[null,null,"[4.4] >= [4.4.1]","Reguła logiczna:  [4.4] >= [4.4.1]","x","x","x","x",{"$f":"IF(I37>=I38,\"OK\",\"BŁĄD\")","v":"OK"},"OK","OK","OK",{"$error":"#REF!"},{"$error":"#REF!"},{"$error":"#REF!"},{"$error":"#REF!"},{"$error":"#REF!"},{"$error":"#REF!"},{"$error":"#REF!"},{"$error":"#REF!"},{"$error":"#REF!"},{"$error":"#REF!"},{"$error":"#REF!"},{"$error":"#REF!"},{"$error":"#REF!"},{"$error":"#REF!"},{"$error":"#REF!"},{"$error":"#REF!"},{"$error":"#REF!"},{"$error":"#REF!"},{"$error":"#REF!"},{"$error":"#REF!"},{"$error":"#REF!"},{"$error":"#REF!"},{"$error":"#REF!"},{"$error":"#REF!"},{"$error":"#REF!"},{"$error":"#REF!"}]
[null,null,"[5.1] >= [5.1.1]","Reguła logiczna:  [5.1] >= [5.1.1]","x","x","x","x",{"$f":"IF(I40>=I41,\"OK\",\"BŁĄD\")","v":"OK"},"OK","OK","OK",{"$error":"#REF!"},{"$error":"#REF!"},{"$error":"#REF!"},{"$error":"#REF!"},{"$error":"#REF!"},{"$error":"#REF!"},{"$error":"#REF!"},{"$error":"#REF!"},{"$error":"#REF!"},{"$error":"#REF!"},{"$error":"#REF!"},{"$error":"#REF!"},{"$error":"#REF!"},{"$error":"#REF!"},{"$error":"#REF!"},{"$error":"#REF!"},{"$error":"#REF!"},{"$error":"#REF!"},{"$error":"#REF!"},{"$error":"#REF!"},{"$error":"#REF!"},{"$error":"#REF!"},{"$error":"#REF!"},{"$error":"#REF!"},{"$error":"#REF!"},{"$error":"#REF!"}]
[null,null,"[5.1.1] >= [5.1.1.1]","Reguła logiczna:  [5.1.1] >= [5.1.1.1]","x","x","x","x",{"$f":"IF(I41>=I42,\"OK\",\"BŁĄD\")","v":"OK"},"OK","OK","OK",{"$error":"#REF!"},{"$error":"#REF!"},{"$error":"#REF!"},{"$error":"#REF!"},{"$error":"#REF!"},{"$error":"#REF!"},{"$error":"#REF!"},{"$error":"#REF!"},{"$error":"#REF!"},{"$error":"#REF!"},{"$error":"#REF!"},{"$error":"#REF!"},{"$error":"#REF!"},{"$error":"#REF!"},{"$error":"#REF!"},{"$error":"#REF!"},{"$error":"#REF!"},{"$error":"#REF!"},{"$error":"#REF!"},{"$error":"#REF!"},{"$error":"#REF!"},{"$error":"#REF!"},{"$error":"#REF!"},{"$error":"#REF!"},{"$error":"#REF!"},{"$error":"#REF!"}]
[null,null,"[5.1] >= [10.1]","Reguła logiczna:  [5.1] >= [10.1]","x","x","x","x",{"$f":"IF(I40>=I66,\"OK\",\"BŁĄD\")","v":"OK"},"OK","OK","OK",{"$error":"#REF!"},{"$error":"#REF!"},{"$error":"#REF!"},{"$error":"#REF!"},{"$error":"#REF!"},{"$error":"#REF!"},{"$error":"#REF!"},{"$error":"#REF!"},{"$error":"#REF!"},{"$error":"#REF!"},{"$error":"#REF!"},{"$error":"#REF!"},{"$error":"#REF!"},{"$error":"#REF!"},{"$error":"#REF!"},{"$error":"#REF!"},{"$error":"#REF!"},{"$error":"#REF!"},{"$error":"#REF!"},{"$error":"#REF!"},{"$error":"#REF!"},{"$error":"#REF!"},{"$error":"#REF!"},{"$error":"#REF!"},{"$error":"#REF!"},{"$error":"#REF!"}]
[null,null,"[5.1] >= [14.1]","Reguła logiczna:  [5.1] >= [14.1]","x","x","x","x",{"$f":"IF(I40>=I98,\"OK\",\"BŁĄD\")","v":"OK"},"OK","OK","OK",{"$error":"#REF!"},{"$error":"#REF!"},{"$error":"#REF!"},{"$error":"#REF!"},{"$error":"#REF!"},{"$error":"#REF!"},{"$error":"#REF!"},{"$error":"#REF!"},{"$error":"#REF!"},{"$error":"#REF!"},{"$error":"#REF!"},{"$error":"#REF!"},{"$error":"#REF!"},{"$error":"#REF!"},{"$error":"#REF!"},{"$error":"#REF!"},{"$error":"#REF!"},{"$error":"#REF!"},{"$error":"#REF!"},{"$error":"#REF!"},{"$error":"#REF!"},{"$error":"#REF!"},{"$error":"#REF!"},{"$error":"#REF!"},{"$error":"#REF!"},{"$error":"#REF!"}]
[null,null,"[6] >= [6.1]","Reguła logiczna:  [6] >= [6.1]","x","x","x","x",{"$f":"IF(I44>=I45,\"OK\",\"BŁĄD\")","v":"OK"},"OK","OK","OK",{"$error":"#REF!"},{"$error":"#REF!"},{"$error":"#REF!"},{"$error":"#REF!"},{"$error":"#REF!"},{"$error":"#REF!"},{"$error":"#REF!"},{"$error":"#REF!"},{"$error":"#REF!"},{"$error":"#REF!"},{"$error":"#REF!"},{"$error":"#REF!"},{"$error":"#REF!"},{"$error":"#REF!"},{"$error":"#REF!"},{"$error":"#REF!"},{"$error":"#REF!"},{"$error":"#REF!"},{"$error":"#REF!"},{"$error":"#REF!"},{"$error":"#REF!"},{"$error":"#REF!"},{"$error":"#REF!"},{"$error":"#REF!"},{"$error":"#REF!"},{"$error":"#REF!"}]
[null,null,"[6] >=[7]","Reguła logiczna:  [6] >=[7]","x","x","x","x",{"$f":"IF(I44>=I49,\"OK\",\"BŁĄD\")","v":"OK"},"OK","OK","OK",{"$error":"#REF!"},{"$error":"#REF!"},{"$error":"#REF!"},{"$error":"#REF!"},{"$error":"#REF!"},{"$error":"#REF!"},{"$error":"#REF!"},{"$error":"#REF!"},{"$error":"#REF!"},{"$error":"#REF!"},{"$error":"#REF!"},{"$error":"#REF!"},{"$error":"#REF!"},{"$error":"#REF!"},{"$error":"#REF!"},{"$error":"#REF!"},{"$error":"#REF!"},{"$error":"#REF!"},{"$error":"#REF!"},{"$error":"#REF!"},{"$error":"#REF!"},{"$error":"#REF!"},{"$error":"#REF!"},{"$error":"#REF!"},{"$error":"#REF!"},{"$error":"#REF!"}]
[null,null,"[6] >= [14.2]","Reguła logiczna:  [6] >= [14.2]","x","x","x","x",{"$f":"IF(I44>=I99,\"OK\",\"BŁĄD\")","v":"OK"},"OK","OK","OK",{"$error":"#REF!"},{"$error":"#REF!"},{"$error":"#REF!"},{"$error":"#REF!"},{"$error":"#REF!"},{"$error":"#REF!"},{"$error":"#REF!"},{"$error":"#REF!"},{"$error":"#REF!"},{"$error":"#REF!"},{"$error":"#REF!"},{"$error":"#REF!"},{"$error":"#REF!"},{"$error":"#REF!"},{"$error":"#REF!"},{"$error":"#REF!"},{"$error":"#REF!"},{"$error":"#REF!"},{"$error":"#REF!"},{"$error":"#REF!"},{"$error":"#REF!"},{"$error":"#REF!"},{"$error":"#REF!"},{"$error":"#REF!"},{"$error":"#REF!"},{"$error":"#REF!"}]
[null,null,"[6.1] >= [6.1.1]","Reguła logiczna:  [6.1] >= [6.1.1]","x","x","x","x",{"$f":"+IF(I45>=I46,\"OK\",\"BŁĄD\")","v":"OK"},"OK","OK","OK",{"$error":"#REF!"},{"$error":"#REF!"},{"$error":"#REF!"},{"$error":"#REF!"},{"$error":"#REF!"},{"$error":"#REF!"},{"$error":"#REF!"},{"$error":"#REF!"},{"$error":"#REF!"},{"$error":"#REF!"},{"$error":"#REF!"},{"$error":"#REF!"},{"$error":"#REF!"},{"$error":"#REF!"},{"$error":"#REF!"},{"$error":"#REF!"},{"$error":"#REF!"},{"$error":"#REF!"},{"$error":"#REF!"},{"$error":"#REF!"},{"$error":"#REF!"},{"$error":"#REF!"},{"$error":"#REF!"},{"$error":"#REF!"},{"$error":"#REF!"},{"$error":"#REF!"}]
[null,null,"7>=13.1","Reguła logiczna:  7>=13.1","x","x","x","x",{"$f":"IF(I49>=I90,\"OK\",\"BŁĄD\")","v":"OK"},"OK","OK","OK",{"$error":"#REF!"},{"$error":"#REF!"},{"$error":"#REF!"},{"$error":"#REF!"},{"$error":"#REF!"},{"$error":"#REF!"},{"$error":"#REF!"},{"$error":"#REF!"},{"$error":"#REF!"},{"$error":"#REF!"},{"$error":"#REF!"},{"$error":"#REF!"},{"$error":"#REF!"},{"$error":"#REF!"},{"$error":"#REF!"},{"$error":"#REF!"},{"$error":"#REF!"},{"$error":"#REF!"},{"$error":"#REF!"},{"$error":"#REF!"},{"$error":"#REF!"},{"$error":"#REF!"},{"$error":"#REF!"},{"$error":"#REF!"},{"$error":"#REF!"},{"$error":"#REF!"}]
[null,null,"jeżeli [2.1.3] <> 0 to  [2.1.3.1] <> 0 ","Reguła logiczna:  jeżeli [2.1.3] <> 0 to  [2.1.3.1] <> 0 ","x","x","x","x",{"$f":"IF(I26<>0,IF(I27<>0,\"OK\",\"BŁĄD\"),\"N/D\")","v":"OK"},"N/D","N/D","N/D",{"$error":"#REF!"},{"$error":"#REF!"},{"$error":"#REF!"},{"$error":"#REF!"},{"$error":"#REF!"},{"$error":"#REF!"},{"$error":"#REF!"},{"$error":"#REF!"},{"$error":"#REF!"},{"$error":"#REF!"},{"$error":"#REF!"},{"$error":"#REF!"},{"$error":"#REF!"},{"$error":"#REF!"},{"$error":"#REF!"},{"$error":"#REF!"},{"$error":"#REF!"},{"$error":"#REF!"},{"$error":"#REF!"},{"$error":"#REF!"},{"$error":"#REF!"},{"$error":"#REF!"},{"$error":"#REF!"},{"$error":"#REF!"},{"$error":"#REF!"},{"$error":"#REF!"}]
[]
[null,null,null,"Kontrola poprawności podstawowych kwot"]
[null,null,null,"Dochody ogółem = bieżące + majątkowe",{"$f":"E11+E18","v":11735693.559999999},14062028.149999999,13471394.42,12678694,13601645,10825000,12050000,12170000,{"$error":"#REF!"},{"$error":"#REF!"},{"$error":"#REF!"},{"$error":"#REF!"},{"$error":"#REF!"},{"$error":"#REF!"},{"$error":"#REF!"},{"$error":"#REF!"},{"$error":"#REF!"},{"$error":"#REF!"},{"$error":"#REF!"},{"$error":"#REF!"},{"$error":"#REF!"},{"$error":"#REF!"},{"$error":"#REF!"},{"$error":"#REF!"},{"$error":"#REF!"},{"$error":"#REF!"},{"$error":"#REF!"},{"$error":"#REF!"},{"$error":"#REF!"},{"$error":"#REF!"},{"$error":"#REF!"},{"$error":"#REF!"},{"$error":"#REF!"},{"$error":"#REF!"}]
[null,null,null,"Wydatki ogółem = bieżące + majątkowe",{"$f":"E22+E28","v":12835915.98},11481546.43,14584700.699999999,14401220,12827688.810000001,10825000,12050000,12170000,{"$error":"#REF!"},{"$error":"#REF!"},{"$error":"#REF!"},{"$error":"#REF!"},{"$error":"#REF!"},{"$error":"#REF!"},{"$error":"#REF!"},{"$error":"#REF!"},{"$error":"#REF!"},{"$error":"#REF!"},{"$error":"#REF!"},{"$error":"#REF!"},{"$error":"#REF!"},{"$error":"#REF!"},{"$error":"#REF!"},{"$error":"#REF!"},{"$error":"#REF!"},{"$error":"#REF!"},{"$error":"#REF!"},{"$error":"#REF!"},{"$error":"#REF!"},{"$error":"#REF!"},{"$error":"#REF!"},{"$error":"#REF!"},{"$error":"#REF!"},{"$error":"#REF!"}]
[null,null,null,"Wynik budżetu = dochody ogółem - wydatki ogółem",{"$f":"E10-E21","v":-1100222.42},2580481.7200000007,-1113306.2799999993,-1722526,773956.18999999948,0,0,0,{"$error":"#REF!"},{"$error":"#REF!"},{"$error":"#REF!"},{"$error":"#REF!"},{"$error":"#REF!"},{"$error":"#REF!"},{"$error":"#REF!"},{"$error":"#REF!"},{"$error":"#REF!"},{"$error":"#REF!"},{"$error":"#REF!"},{"$error":"#REF!"},{"$error":"#REF!"},{"$error":"#REF!"},{"$error":"#REF!"},{"$error":"#REF!"},{"$error":"#REF!"},{"$error":"#REF!"},{"$error":"#REF!"},{"$error":"#REF!"},{"$error":"#REF!"},{"$error":"#REF!"},{"$error":"#REF!"},{"$error":"#REF!"},{"$error":"#REF!"},{"$error":"#REF!"}]
[null,null,null,"Kwota wyłączeń innych niż art. 243 ust. 3 (wyłączenia z art. 36 ustawy \"okołobudżetowej\" i art. 121a  \n([poz.  5.1.1] - [poz. 5.1.1.1.]))",{"$f":"+E41-E42","v":0},{"$f":"+F41-F42","v":0},0,{"$f":"+H41-H42","v":0},0,0,0,0,{"$error":"#REF!"},{"$error":"#REF!"},{"$error":"#REF!"},{"$error":"#REF!"},{"$error":"#REF!"},{"$error":"#REF!"},{"$error":"#REF!"},{"$error":"#REF!"},{"$error":"#REF!"},{"$error":"#REF!"},{"$error":"#REF!"},{"$error":"#REF!"},{"$error":"#REF!"},{"$error":"#REF!"},{"$error":"#REF!"},{"$error":"#REF!"},{"$error":"#REF!"},{"$error":"#REF!"},{"$error":"#REF!"},{"$error":"#REF!"},{"$error":"#REF!"},{"$error":"#REF!"},{"$error":"#REF!"},{"$error":"#REF!"},{"$error":"#REF!"},{"$error":"#REF!"}]
[null,null,null,"Wyliczenie kwoty długu","x",{"$f":"E44+F35-F40+(F99-E99)+F104","v":1422477.65},"x",{"$f":"F44+H35-H40+(H99-F99)+H104","v":773956.19},{"$f":"H44+I35-I40+(I99-H99)+I104","v":0},0,0,0,{"$error":"#REF!"},{"$error":"#REF!"},{"$error":"#REF!"},{"$error":"#REF!"},{"$error":"#REF!"},{"$error":"#REF!"},{"$error":"#REF!"},{"$error":"#REF!"},{"$error":"#REF!"},{"$error":"#REF!"},{"$error":"#REF!"},{"$error":"#REF!"},{"$error":"#REF!"},{"$error":"#REF!"},{"$error":"#REF!"},{"$error":"#REF!"},{"$error":"#REF!"},{"$error":"#REF!"},{"$error":"#REF!"},{"$error":"#REF!"},{"$error":"#REF!"},{"$error":"#REF!"},{"$error":"#REF!"},{"$error":"#REF!"},{"$error":"#REF!"},{"$error":"#REF!"}]
[null,null,null,"Wyliczenie zobowiązań wynikających z przejęcia przez jst zobowiązań po likwidowanych i przekształcanych SZOZ","x",{"$f":"E90-(F92+F93+F94+F95)","v":0},"x",{"$f":"F90-(H92+H93+H94+H95)","v":0},{"$f":"H90-(I92+I93+I94+I95)","v":0},{"$f":"I90-(J92+J93+J94+J95)","v":0},0,0,{"$error":"#REF!"},{"$error":"#REF!"},{"$error":"#REF!"},{"$error":"#REF!"},{"$error":"#REF!"},{"$error":"#REF!"},{"$error":"#REF!"},{"$error":"#REF!"},{"$error":"#REF!"},{"$error":"#REF!"},{"$error":"#REF!"},{"$error":"#REF!"},{"$error":"#REF!"},{"$error":"#REF!"},{"$error":"#REF!"},{"$error":"#REF!"},{"$error":"#REF!"},{"$error":"#REF!"},{"$error":"#REF!"},{"$error":"#REF!"},{"$error":"#REF!"},{"$error":"#REF!"},{"$error":"#REF!"},{"$error":"#REF!"},{"$error":"#REF!"},{"$error":"#REF!"}]
[]
[null,null,null,"Analiza ryzyka niespełnienia wskaźnika z art. 243"]
[null,null,null,"Analiza składowych wzoru wskaźnika z art. 243"]
[null,null,null,0,{"$f":"+\"różnica mniejsza od \"&TEXT(D185*100,\"0,0\")&\"%\"","v":"różnica mniejsza od 0,0%"}]
[null,null,null,5.0000000000000001E-3,{"$f":"+\"różnica mniejsza od \"&TEXT(D186*100,\"0,0\")&\"%\"","v":"różnica mniejsza od 0,5%"}]
[null,null,null,0.01,{"$f":"+\"różnica mniejsza od \"&TEXT(D187*100,\"0,0\")&\"%\"","v":"różnica mniejsza od 1,0%"}]
[null,null,null,"max. limit spłat (planistyczny) - (R+O)/D (bez wyłączeń)","x","x","x","x",{"$f":"+IF(I10=0,\"\",I61-I56)","v":0.13054635121282399},0.21860485984299771,0.18340692505796086,0.18745559655244839,{"$error":"#REF!"},{"$error":"#REF!"},{"$error":"#REF!"},{"$error":"#REF!"},{"$error":"#REF!"},{"$error":"#REF!"},{"$error":"#REF!"},{"$error":"#REF!"},{"$error":"#REF!"},{"$error":"#REF!"},{"$error":"#REF!"},{"$error":"#REF!"},{"$error":"#REF!"},{"$error":"#REF!"},{"$error":"#REF!"},{"$error":"#REF!"},{"$error":"#REF!"},{"$error":"#REF!"},{"$error":"#REF!"},{"$error":"#REF!"},{"$error":"#REF!"},{"$error":"#REF!"},{"$error":"#REF!"},{"$error":"#REF!"},{"$error":"#REF!"},{"$error":"#REF!"}]
[null,null,null,"max. limit spłat (planistyczny) - (R+O)/D (z wyłączeniami)","x","x","x","x",{"$f":"+IF(I10=0,\"\",I61-I57)","v":0.13054635121282399},0.21860485984299771,0.18340692505796086,0.18745559655244839,{"$error":"#REF!"},{"$error":"#REF!"},{"$error":"#REF!"},{"$error":"#REF!"},{"$error":"#REF!"},{"$error":"#REF!"},{"$error":"#REF!"},{"$error":"#REF!"},{"$error":"#REF!"},{"$error":"#REF!"},{"$error":"#REF!"},{"$error":"#REF!"},{"$error":"#REF!"},{"$error":"#REF!"},{"$error":"#REF!"},{"$error":"#REF!"},{"$error":"#REF!"},{"$error":"#REF!"},{"$error":"#REF!"},{"$error":"#REF!"},{"$error":"#REF!"},{"$error":"#REF!"},{"$error":"#REF!"},{"$error":"#REF!"},{"$error":"#REF!"},{"$error":"#REF!"}]
[null,null,null,"max. limit spłat (wg wykonania) - (R+O)/D (bez wyłączeń)","x","x","x","x",{"$f":"+IF(I10=0,\"\",I62-I56)","v":0.11891490962274248},0.20697341825291624,0.17177548346787938,0.18745559655244839,{"$error":"#REF!"},{"$error":"#REF!"},{"$error":"#REF!"},{"$error":"#REF!"},{"$error":"#REF!"},{"$error":"#REF!"},{"$error":"#REF!"},{"$error":"#REF!"},{"$error":"#REF!"},{"$error":"#REF!"},{"$error":"#REF!"},{"$error":"#REF!"},{"$error":"#REF!"},{"$error":"#REF!"},{"$error":"#REF!"},{"$error":"#REF!"},{"$error":"#REF!"},{"$error":"#REF!"},{"$error":"#REF!"},{"$error":"#REF!"},{"$error":"#REF!"},{"$error":"#REF!"},{"$error":"#REF!"},{"$error":"#REF!"},{"$error":"#REF!"},{"$error":"#REF!"}]
[null,null,null,"max. limit spłat (wg wykonania) - (R+O)/D (z wyłączeniami)","x","x","x","x",{"$f":"+IF(I10=0,\"\",I62-I57)","v":0.11891490962274248},0.20697341825291624,0.17177548346787938,0.18745559655244839,{"$error":"#REF!"},{"$error":"#REF!"},{"$error":"#REF!"},{"$error":"#REF!"},{"$error":"#REF!"},{"$error":"#REF!"},{"$error":"#REF!"},{"$error":"#REF!"},{"$error":"#REF!"},{"$error":"#REF!"},{"$error":"#REF!"},{"$error":"#REF!"},{"$error":"#REF!"},{"$error":"#REF!"},{"$error":"#REF!"},{"$error":"#REF!"},{"$error":"#REF!"},{"$error":"#REF!"},{"$error":"#REF!"},{"$error":"#REF!"},{"$error":"#REF!"},{"$error":"#REF!"},{"$error":"#REF!"},{"$error":"#REF!"},{"$error":"#REF!"},{"$error":"#REF!"}]
[null,null,null,"DYNAMIKA podstawowych wielkości z prognozy"]
[null,null,null,0.05,{"$f":"+\"zmiana większa niż +/- \"&TEXT(D193*100,\"0,0\")&\"%\"","v":"zmiana większa niż +/- 5,0%"}]
[null,null,null,0.1,{"$f":"+\"zmiana większa niż +/- \"&TEXT(D194*100,\"0,0\")&\"%\"","v":"zmiana większa niż +/- 10,0%"}]
[null,null,null,0.2,{"$f":"+\"zmiana większa niż +/- \"&TEXT(D195*100,\"0,0\")&\"%\"","v":"zmiana większa niż +/- 20,0%"},null,"[N-1]pl3kw / [N-2]","[N-1]wyk \n/ [N-1]pl3kw"]
[null,null,null,"Dochody ogółem","x",{"$f":"+IF(F10=0,0,IF(E222<>0,F222/E222-1,0))","v":0.19822727801355433},-4.2002030126785161E-2,-5.8843234433336389E-2,7.2795431453744452E-2,-0.20414038154943759,0.1131639722863742,9.9585062240663547E-3,{"$error":"#REF!"},{"$error":"#REF!"},{"$error":"#REF!"},{"$error":"#REF!"},{"$error":"#REF!"},{"$error":"#REF!"},{"$error":"#REF!"},{"$error":"#REF!"},{"$error":"#REF!"},{"$error":"#REF!"},{"$error":"#REF!"},{"$error":"#REF!"},{"$error":"#REF!"},{"$error":"#REF!"},{"$error":"#REF!"},{"$error":"#REF!"},{"$error":"#REF!"},{"$error":"#REF!"},{"$error":"#REF!"},{"$error":"#REF!"},{"$error":"#REF!"},{"$error":"#REF!"},{"$error":"#REF!"},{"$error":"#REF!"},{"$error":"#REF!"},{"$error":"#REF!"}]
[null,null,null,"dochody ogółem bez środków UE (fin. i współfin.)","x",{"$f":"+IF(F10=0,0,IF(E223<>0,F223/E223-1,0))","v":0.21523499773174048},5.5606662871960921E-3,-6.1258028660419406E-2,-5.9716074178334355E-2,-5.2287550227665514E-2,0.1131639722863742,9.9585062240663547E-3,{"$error":"#REF!"},{"$error":"#REF!"},{"$error":"#REF!"},{"$error":"#REF!"},{"$error":"#REF!"},{"$error":"#REF!"},{"$error":"#REF!"},{"$error":"#REF!"},{"$error":"#REF!"},{"$error":"#REF!"},{"$error":"#REF!"},{"$error":"#REF!"},{"$error":"#REF!"},{"$error":"#REF!"},{"$error":"#REF!"},{"$error":"#REF!"},{"$error":"#REF!"},{"$error":"#REF!"},{"$error":"#REF!"},{"$error":"#REF!"},{"$error":"#REF!"},{"$error":"#REF!"},{"$error":"#REF!"},{"$error":"#REF!"},{"$error":"#REF!"},{"$error":"#REF!"}]
[null,null,null,"dochody bieżące bez środków UE (fin. i współfin.)","x",{"$f":"+IF(F10=0,0,IF(E224<>0,F224/E224-1,0))","v":0.23777705650792025},-1.0118064235595359E-2,-3.7954813083053596E-2,-5.582824363131289E-2,-3.5354674466288261E-2,0.1131639722863742,9.9585062240663547E-3,{"$error":"#REF!"},{"$error":"#REF!"},{"$error":"#REF!"},{"$error":"#REF!"},{"$error":"#REF!"},{"$error":"#REF!"},{"$error":"#REF!"},{"$error":"#REF!"},{"$error":"#REF!"},{"$error":"#REF!"},{"$error":"#REF!"},{"$error":"#REF!"},{"$error":"#REF!"},{"$error":"#REF!"},{"$error":"#REF!"},{"$error":"#REF!"},{"$error":"#REF!"},{"$error":"#REF!"},{"$error":"#REF!"},{"$error":"#REF!"},{"$error":"#REF!"},{"$error":"#REF!"},{"$error":"#REF!"},{"$error":"#REF!"},{"$error":"#REF!"},{"$error":"#REF!"}]
[null,null,null,"dochody majątkowe bez środków UE (fin. i współfin.)","x",{"$f":"+IF(F10=0,0,IF(E225<>0,F225/E225-1,0))","v":-0.23343015464939587},0.50944441802136131,-0.55239382028605744,-0.23582949660029884,-1,0,0,{"$error":"#REF!"},{"$error":"#REF!"},{"$error":"#REF!"},{"$error":"#REF!"},{"$error":"#REF!"},{"$error":"#REF!"},{"$error":"#REF!"},{"$error":"#REF!"},{"$error":"#REF!"},{"$error":"#REF!"},{"$error":"#REF!"},{"$error":"#REF!"},{"$error":"#REF!"},{"$error":"#REF!"},{"$error":"#REF!"},{"$error":"#REF!"},{"$error":"#REF!"},{"$error":"#REF!"},{"$error":"#REF!"},{"$error":"#REF!"},{"$error":"#REF!"},{"$error":"#REF!"},{"$error":"#REF!"},{"$error":"#REF!"},{"$error":"#REF!"},{"$error":"#REF!"}]
[null,null,null,"dochody majątkowe bez środków UE (fin. i współfin.) \ni bez sprzedaży majątku","x",{"$f":"+IF(F10=0,0,IF(E226<>0,F226/E226-1,0))","v":-0.1278339251570606},-0.19769495772001278,0,-0.99804821685091505,-1,0,0,{"$error":"#REF!"},{"$error":"#REF!"},{"$error":"#REF!"},{"$error":"#REF!"},{"$error":"#REF!"},{"$error":"#REF!"},{"$error":"#REF!"},{"$error":"#REF!"},{"$error":"#REF!"},{"$error":"#REF!"},{"$error":"#REF!"},{"$error":"#REF!"},{"$error":"#REF!"},{"$error":"#REF!"},{"$error":"#REF!"},{"$error":"#REF!"},{"$error":"#REF!"},{"$error":"#REF!"},{"$error":"#REF!"},{"$error":"#REF!"},{"$error":"#REF!"},{"$error":"#REF!"},{"$error":"#REF!"},{"$error":"#REF!"},{"$error":"#REF!"},{"$error":"#REF!"}]
[null,null,null,"dochody ze sprzedaży majątku","x",{"$f":"+IF(F10=0,0,IF(E227<>0,F227/E227-1,0))","v":-0.50859533988137051},3.7799132402293143,-0.9812121212121212,31.258064516129032,-1,0,0,{"$error":"#REF!"},{"$error":"#REF!"},{"$error":"#REF!"},{"$error":"#REF!"},{"$error":"#REF!"},{"$error":"#REF!"},{"$error":"#REF!"},{"$error":"#REF!"},{"$error":"#REF!"},{"$error":"#REF!"},{"$error":"#REF!"},{"$error":"#REF!"},{"$error":"#REF!"},{"$error":"#REF!"},{"$error":"#REF!"},{"$error":"#REF!"},{"$error":"#REF!"},{"$error":"#REF!"},{"$error":"#REF!"},{"$error":"#REF!"},{"$error":"#REF!"},{"$error":"#REF!"},{"$error":"#REF!"},{"$error":"#REF!"},{"$error":"#REF!"},{"$error":"#REF!"}]
[null,null,null,"Wydatki ogółem","x",{"$f":"+IF(F10=0,0,IF(E228<>0,F228/E228-1,0))","v":-0.10551405541375325},0.27027319785876602,-1.2580354151525364E-2,-0.10926374223850477,-0.15612234126219038,0.1131639722863742,9.9585062240663547E-3,{"$error":"#REF!"},{"$error":"#REF!"},{"$error":"#REF!"},{"$error":"#REF!"},{"$error":"#REF!"},{"$error":"#REF!"},{"$error":"#REF!"},{"$error":"#REF!"},{"$error":"#REF!"},{"$error":"#REF!"},{"$error":"#REF!"},{"$error":"#REF!"},{"$error":"#REF!"},{"$error":"#REF!"},{"$error":"#REF!"},{"$error":"#REF!"},{"$error":"#REF!"},{"$error":"#REF!"},{"$error":"#REF!"},{"$error":"#REF!"},{"$error":"#REF!"},{"$error":"#REF!"},{"$error":"#REF!"},{"$error":"#REF!"},{"$error":"#REF!"},{"$error":"#REF!"}]
[null,null,null,"wydatki ogółem bez wydatków na projekty finansowane i współfinansowane środkami UE","x",{"$f":"+IF(F10=0,0,IF(E229<>0,F229/E229-1,0))","v":-0.10771646042584171},2.5597239400375393E-2,-1.6622543515681043E-2,0.18177625030628208,-0.15612234126219038,0.1131639722863742,9.9585062240663547E-3,{"$error":"#REF!"},{"$error":"#REF!"},{"$error":"#REF!"},{"$error":"#REF!"},{"$error":"#REF!"},{"$error":"#REF!"},{"$error":"#REF!"},{"$error":"#REF!"},{"$error":"#REF!"},{"$error":"#REF!"},{"$error":"#REF!"},{"$error":"#REF!"},{"$error":"#REF!"},{"$error":"#REF!"},{"$error":"#REF!"},{"$error":"#REF!"},{"$error":"#REF!"},{"$error":"#REF!"},{"$error":"#REF!"},{"$error":"#REF!"},{"$error":"#REF!"},{"$error":"#REF!"},{"$error":"#REF!"},{"$error":"#REF!"},{"$error":"#REF!"},{"$error":"#REF!"}]
[null,null,null,"wydatki bieżące ogółem","x",{"$f":"+IF(F10=0,0,IF(E230<>0,F230/E230-1,0))","v":-1.6955873627015117E-2},9.9788776213226127E-2,-1.8423006130124375E-2,-8.7834379312926814E-2,2.4986707666224683E-2,2.4945295404813939E-2,2.4765157984628416E-2,{"$error":"#REF!"},{"$error":"#REF!"},{"$error":"#REF!"},{"$error":"#REF!"},{"$error":"#REF!"},{"$error":"#REF!"},{"$error":"#REF!"},{"$error":"#REF!"},{"$error":"#REF!"},{"$error":"#REF!"},{"$error":"#REF!"},{"$error":"#REF!"},{"$error":"#REF!"},{"$error":"#REF!"},{"$error":"#REF!"},{"$error":"#REF!"},{"$error":"#REF!"},{"$error":"#REF!"},{"$error":"#REF!"},{"$error":"#REF!"},{"$error":"#REF!"},{"$error":"#REF!"},{"$error":"#REF!"},{"$error":"#REF!"},{"$error":"#REF!"},{"$error":"#REF!"}]
[null,null,null,"wydatki bieżące ogółem bez wydatków na projekty współfinansowane środkami UE","x",{"$f":"+IF(F10=0,0,IF(E231<>0,F231/E231-1,0))","v":-2.089427029079971E-2},0.1028682062990478,-1.8695421490098063E-2,-7.4089498782093033E-2,2.4986707666224683E-2,2.4945295404813939E-2,2.4765157984628416E-2,{"$error":"#REF!"},{"$error":"#REF!"},{"$error":"#REF!"},{"$error":"#REF!"},{"$error":"#REF!"},{"$error":"#REF!"},{"$error":"#REF!"},{"$error":"#REF!"},{"$error":"#REF!"},{"$error":"#REF!"},{"$error":"#REF!"},{"$error":"#REF!"},{"$error":"#REF!"},{"$error":"#REF!"},{"$error":"#REF!"},{"$error":"#REF!"},{"$error":"#REF!"},{"$error":"#REF!"},{"$error":"#REF!"},{"$error":"#REF!"},{"$error":"#REF!"},{"$error":"#REF!"},{"$error":"#REF!"},{"$error":"#REF!"},{"$error":"#REF!"},{"$error":"#REF!"}]
[null,null,null,"wydatki bieżące na wynagrodzenia i składki od nich naliczane","x",{"$f":"+IF(F10=0,0,IF(E232<>0,F232/E232-1,0))","v":-6.0726135609805998E-2},5.6339006936904079E-2,-3.8579143168907426E-2,-1.6389290618043395E-2,2.499980202120744E-2,2.4983084735524796E-2,2.4999999999999911E-2,{"$error":"#REF!"},{"$error":"#REF!"},{"$error":"#REF!"},{"$error":"#REF!"},{"$error":"#REF!"},{"$error":"#REF!"},{"$error":"#REF!"},{"$error":"#REF!"},{"$error":"#REF!"},{"$error":"#REF!"},{"$error":"#REF!"},{"$error":"#REF!"},{"$error":"#REF!"},{"$error":"#REF!"},{"$error":"#REF!"},{"$error":"#REF!"},{"$error":"#REF!"},{"$error":"#REF!"},{"$error":"#REF!"},{"$error":"#REF!"},{"$error":"#REF!"},{"$error":"#REF!"},{"$error":"#REF!"},{"$error":"#REF!"},{"$error":"#REF!"},{"$error":"#REF!"}]
[null,null,null,"pozostałe wydatki bieżące (wydatki bieżące bez wynagrodzeń i pochodnych oraz wydatków związanych z funkcjonowaniem organów jst, wydatków na obsługę długu  oraz poręczeń i gwarancji)","x",{"$f":"+IF(F10=0,0,IF(E233<>0,F233/E233-1,0))","v":8.5141354601001584E-3},0.18025594224546926,1.1728975180650636E-2,-0.191958087389833,3.6026969632663386E-2,2.4872667303702301E-2,2.4364882154833234E-2,{"$error":"#REF!"},{"$error":"#REF!"},{"$error":"#REF!"},{"$error":"#REF!"},{"$error":"#REF!"},{"$error":"#REF!"},{"$error":"#REF!"},{"$error":"#REF!"},{"$error":"#REF!"},{"$error":"#REF!"},{"$error":"#REF!"},{"$error":"#REF!"},{"$error":"#REF!"},{"$error":"#REF!"},{"$error":"#REF!"},{"$error":"#REF!"},{"$error":"#REF!"},{"$error":"#REF!"},{"$error":"#REF!"},{"$error":"#REF!"},{"$error":"#REF!"},{"$error":"#REF!"},{"$error":"#REF!"},{"$error":"#REF!"},{"$error":"#REF!"},{"$error":"#REF!"}]
[null,null,null,"WIELKOŚĆ ZMIAN w podstawowych kwotach prognozy",null,null,"[N-1]pl3kw \n- [N-2]","[N-1]wyk \n- [N-1]pl3kw"]
[null,null,null,"Dochody ogółem","x",{"$f":"+IF(F$222=0,\"\",F222-E222)","v":2326334.59},-590633.73000000045,-792700.41999999993,922951,-2776645,1225000,120000,{"$error":"#REF!"},{"$error":"#REF!"},{"$error":"#REF!"},{"$error":"#REF!"},{"$error":"#REF!"},{"$error":"#REF!"},{"$error":"#REF!"},{"$error":"#REF!"},{"$error":"#REF!"},{"$error":"#REF!"},{"$error":"#REF!"},{"$error":"#REF!"},{"$error":"#REF!"},{"$error":"#REF!"},{"$error":"#REF!"},{"$error":"#REF!"},{"$error":"#REF!"},{"$error":"#REF!"},{"$error":"#REF!"},{"$error":"#REF!"},{"$error":"#REF!"},{"$error":"#REF!"},{"$error":"#REF!"},{"$error":"#REF!"},{"$error":"#REF!"},{"$error":"#REF!"}]
[null,null,null,"dochody ogółem bez środków UE (fin. i współfin.)","x",2279241.8800000008,71559.059999998659,-792700.41999999993,-725410.02999999933,-597241,1225000,120000,{"$error":"#REF!"},{"$error":"#REF!"},{"$error":"#REF!"},{"$error":"#REF!"},{"$error":"#REF!"},{"$error":"#REF!"},{"$error":"#REF!"},{"$error":"#REF!"},{"$error":"#REF!"},{"$error":"#REF!"},{"$error":"#REF!"},{"$error":"#REF!"},{"$error":"#REF!"},{"$error":"#REF!"},{"$error":"#REF!"},{"$error":"#REF!"},{"$error":"#REF!"},{"$error":"#REF!"},{"$error":"#REF!"},{"$error":"#REF!"},{"$error":"#REF!"},{"$error":"#REF!"},{"$error":"#REF!"},{"$error":"#REF!"},{"$error":"#REF!"},{"$error":"#REF!"}]
[null,null,null,"dochody bieżące bez środków UE (fin. i współfin.)","x",2397495.959999999,-126278.02999999933,-468900.41999999993,-663534.02999999933,-396741,1225000,120000,{"$error":"#REF!"},{"$error":"#REF!"},{"$error":"#REF!"},{"$error":"#REF!"},{"$error":"#REF!"},{"$error":"#REF!"},{"$error":"#REF!"},{"$error":"#REF!"},{"$error":"#REF!"},{"$error":"#REF!"},{"$error":"#REF!"},{"$error":"#REF!"},{"$error":"#REF!"},{"$error":"#REF!"},{"$error":"#REF!"},{"$error":"#REF!"},{"$error":"#REF!"},{"$error":"#REF!"},{"$error":"#REF!"},{"$error":"#REF!"},{"$error":"#REF!"},{"$error":"#REF!"},{"$error":"#REF!"},{"$error":"#REF!"},{"$error":"#REF!"},{"$error":"#REF!"}]
[null,null,null,"dochody majątkowe bez środków UE (fin. i współfin.)","x",-118254.07999999984,197837.08999999985,-323800,-61876,-200500,0,0,{"$error":"#REF!"},{"$error":"#REF!"},{"$error":"#REF!"},{"$error":"#REF!"},{"$error":"#REF!"},{"$error":"#REF!"},{"$error":"#REF!"},{"$error":"#REF!"},{"$error":"#REF!"},{"$error":"#REF!"},{"$error":"#REF!"},{"$error":"#REF!"},{"$error":"#REF!"},{"$error":"#REF!"},{"$error":"#REF!"},{"$error":"#REF!"},{"$error":"#REF!"},{"$error":"#REF!"},{"$error":"#REF!"},{"$error":"#REF!"},{"$error":"#REF!"},{"$error":"#REF!"},{"$error":"#REF!"},{"$error":"#REF!"},{"$error":"#REF!"},{"$error":"#REF!"}]
[null,null,null,"dochody majątkowe bez środków UE (fin. i współfin.) \ni bez sprzedaży majątku","x",-46799.999999999884,-63124.000000000116,0,-255676,-500,0,0,{"$error":"#REF!"},{"$error":"#REF!"},{"$error":"#REF!"},{"$error":"#REF!"},{"$error":"#REF!"},{"$error":"#REF!"},{"$error":"#REF!"},{"$error":"#REF!"},{"$error":"#REF!"},{"$error":"#REF!"},{"$error":"#REF!"},{"$error":"#REF!"},{"$error":"#REF!"},{"$error":"#REF!"},{"$error":"#REF!"},{"$error":"#REF!"},{"$error":"#REF!"},{"$error":"#REF!"},{"$error":"#REF!"},{"$error":"#REF!"},{"$error":"#REF!"},{"$error":"#REF!"},{"$error":"#REF!"},{"$error":"#REF!"},{"$error":"#REF!"},{"$error":"#REF!"}]
[null,null,null,"dochody ze sprzedaży majątku","x",-71454.079999999987,260961.09,-323800,193800,-200000,0,0,{"$error":"#REF!"},{"$error":"#REF!"},{"$error":"#REF!"},{"$error":"#REF!"},{"$error":"#REF!"},{"$error":"#REF!"},{"$error":"#REF!"},{"$error":"#REF!"},{"$error":"#REF!"},{"$error":"#REF!"},{"$error":"#REF!"},{"$error":"#REF!"},{"$error":"#REF!"},{"$error":"#REF!"},{"$error":"#REF!"},{"$error":"#REF!"},{"$error":"#REF!"},{"$error":"#REF!"},{"$error":"#REF!"},{"$error":"#REF!"},{"$error":"#REF!"},{"$error":"#REF!"},{"$error":"#REF!"},{"$error":"#REF!"},{"$error":"#REF!"},{"$error":"#REF!"}]
[null,null,null,"Wydatki ogółem","x",{"$f":"+IF(F$228=0,\"\",F228-E228)","v":-1354369.5500000007},3103154.2699999996,-183480.69999999925,-1573531.1899999995,-2002688.8100000005,1225000,120000,{"$error":"#REF!"},{"$error":"#REF!"},{"$error":"#REF!"},{"$error":"#REF!"},{"$error":"#REF!"},{"$error":"#REF!"},{"$error":"#REF!"},{"$error":"#REF!"},{"$error":"#REF!"},{"$error":"#REF!"},{"$error":"#REF!"},{"$error":"#REF!"},{"$error":"#REF!"},{"$error":"#REF!"},{"$error":"#REF!"},{"$error":"#REF!"},{"$error":"#REF!"},{"$error":"#REF!"},{"$error":"#REF!"},{"$error":"#REF!"},{"$error":"#REF!"},{"$error":"#REF!"},{"$error":"#REF!"},{"$error":"#REF!"},{"$error":"#REF!"},{"$error":"#REF!"}]
[null,null,null,"wydatki ogółem bez wydatków na projekty finansowane i współfinansowane środkami UE","x",-1299257.58,275492.12999999896,-183480.69999999925,1973105.4600000009,-2002688.8100000005,1225000,120000,{"$error":"#REF!"},{"$error":"#REF!"},{"$error":"#REF!"},{"$error":"#REF!"},{"$error":"#REF!"},{"$error":"#REF!"},{"$error":"#REF!"},{"$error":"#REF!"},{"$error":"#REF!"},{"$error":"#REF!"},{"$error":"#REF!"},{"$error":"#REF!"},{"$error":"#REF!"},{"$error":"#REF!"},{"$error":"#REF!"},{"$error":"#REF!"},{"$error":"#REF!"},{"$error":"#REF!"},{"$error":"#REF!"},{"$error":"#REF!"},{"$error":"#REF!"},{"$error":"#REF!"},{"$error":"#REF!"},{"$error":"#REF!"},{"$error":"#REF!"},{"$error":"#REF!"}]
[null,null,null,"wydatki bieżące ogółem","x",-156195.23000000045,903654.26999999955,-183480.69999999925,-858655.18999999948,222811.18999999948,228000,232000,{"$error":"#REF!"},{"$error":"#REF!"},{"$error":"#REF!"},{"$error":"#REF!"},{"$error":"#REF!"},{"$error":"#REF!"},{"$error":"#REF!"},{"$error":"#REF!"},{"$error":"#REF!"},{"$error":"#REF!"},{"$error":"#REF!"},{"$error":"#REF!"},{"$error":"#REF!"},{"$error":"#REF!"},{"$error":"#REF!"},{"$error":"#REF!"},{"$error":"#REF!"},{"$error":"#REF!"},{"$error":"#REF!"},{"$error":"#REF!"},{"$error":"#REF!"},{"$error":"#REF!"},{"$error":"#REF!"},{"$error":"#REF!"},{"$error":"#REF!"},{"$error":"#REF!"}]
[null,null,null,"wydatki bieżące ogółem bez wydatków na projekty współfinansowane środkami UE","x",-189901.8200000003,915403.72999999858,-183480.69999999925,-713535.53999999911,222811.18999999948,228000,232000,{"$error":"#REF!"},{"$error":"#REF!"},{"$error":"#REF!"},{"$error":"#REF!"},{"$error":"#REF!"},{"$error":"#REF!"},{"$error":"#REF!"},{"$error":"#REF!"},{"$error":"#REF!"},{"$error":"#REF!"},{"$error":"#REF!"},{"$error":"#REF!"},{"$error":"#REF!"},{"$error":"#REF!"},{"$error":"#REF!"},{"$error":"#REF!"},{"$error":"#REF!"},{"$error":"#REF!"},{"$error":"#REF!"},{"$error":"#REF!"},{"$error":"#REF!"},{"$error":"#REF!"},{"$error":"#REF!"},{"$error":"#REF!"},{"$error":"#REF!"},{"$error":"#REF!"}]
[null,null,null,"wydatki bieżące na wynagrodzenia i składki od nich naliczane","x",-269698.53000000026,235019.75,-170000.83999999985,-69434,104177,106710,109450,{"$error":"#REF!"},{"$error":"#REF!"},{"$error":"#REF!"},{"$error":"#REF!"},{"$error":"#REF!"},{"$error":"#REF!"},{"$error":"#REF!"},{"$error":"#REF!"},{"$error":"#REF!"},{"$error":"#REF!"},{"$error":"#REF!"},{"$error":"#REF!"},{"$error":"#REF!"},{"$error":"#REF!"},{"$error":"#REF!"},{"$error":"#REF!"},{"$error":"#REF!"},{"$error":"#REF!"},{"$error":"#REF!"},{"$error":"#REF!"},{"$error":"#REF!"},{"$error":"#REF!"},{"$error":"#REF!"},{"$error":"#REF!"},{"$error":"#REF!"},{"$error":"#REF!"}]
[null,null,null,"pozostałe wydatki bieżące (wydatki bieżące bez wynagrodzeń i pochodnych oraz wydatków związanych z funkcjonowaniem organów jst, wydatków na obsługę długu  oraz poręczeń i gwarancji)","x",28370.259999999776,605751.27999999933,46520.140000000596,-770285.18999999948,116817.18999999948,83555,83885,{"$error":"#REF!"},{"$error":"#REF!"},{"$error":"#REF!"},{"$error":"#REF!"},{"$error":"#REF!"},{"$error":"#REF!"},{"$error":"#REF!"},{"$error":"#REF!"},{"$error":"#REF!"},{"$error":"#REF!"},{"$error":"#REF!"},{"$error":"#REF!"},{"$error":"#REF!"},{"$error":"#REF!"},{"$error":"#REF!"},{"$error":"#REF!"},{"$error":"#REF!"},{"$error":"#REF!"},{"$error":"#REF!"},{"$error":"#REF!"},{"$error":"#REF!"},{"$error":"#REF!"},{"$error":"#REF!"},{"$error":"#REF!"},{"$error":"#REF!"},{"$error":"#REF!"}]
[null,null,null,"PODSTAWOWE wielkości ujęte w prognozie"]
[null,null,null,"Dochody ogółem",{"$f":"+E10","v":11735693.560000001},{"$f":"+F10","v":14062028.15},{"$f":"+G10","v":13471394.42},{"$f":"+H10","v":12678694},{"$f":"+I10","v":13601645},10825000,12050000,12170000,{"$error":"#REF!"},{"$error":"#REF!"},{"$error":"#REF!"},{"$error":"#REF!"},{"$error":"#REF!"},{"$error":"#REF!"},{"$error":"#REF!"},{"$error":"#REF!"},{"$error":"#REF!"},{"$error":"#REF!"},{"$error":"#REF!"},{"$error":"#REF!"},{"$error":"#REF!"},{"$error":"#REF!"},{"$error":"#REF!"},{"$error":"#REF!"},{"$error":"#REF!"},{"$error":"#REF!"},{"$error":"#REF!"},{"$error":"#REF!"},{"$error":"#REF!"},{"$error":"#REF!"},{"$error":"#REF!"},{"$error":"#REF!"},{"$error":"#REF!"},{"$f":"+AL10","v":{"$error":"#REF!"}}]
[null,null,null,"dochody ogółem bez środków UE (fin. i współfin.)",{"$f":"+(E10-E77-E80)","v":10589550.51},{"$f":"+(F10-F77-F80)","v":12868792.390000001},{"$f":"+(G10-G77-G80)","v":12940351.449999999},{"$f":"+(H10-H77-H80)","v":12147651.029999999},{"$f":"+(I10-I77-I80)","v":11422241},{"$f":"+(J10-J77-J80)","v":10825000},12050000,12170000,{"$error":"#REF!"},{"$error":"#REF!"},{"$error":"#REF!"},{"$error":"#REF!"},{"$error":"#REF!"},{"$error":"#REF!"},{"$error":"#REF!"},{"$error":"#REF!"},{"$error":"#REF!"},{"$error":"#REF!"},{"$error":"#REF!"},{"$error":"#REF!"},{"$error":"#REF!"},{"$error":"#REF!"},{"$error":"#REF!"},{"$error":"#REF!"},{"$error":"#REF!"},{"$error":"#REF!"},{"$error":"#REF!"},{"$error":"#REF!"},{"$error":"#REF!"},{"$error":"#REF!"},{"$error":"#REF!"},{"$error":"#REF!"},{"$error":"#REF!"},{"$error":"#REF!"}]
[null,null,null,"dochody bieżące bez środków UE (fin. i współfin.)",{"$f":"+E11-E77","v":10082957.52},{"$f":"+F11-F77","v":12480453.479999999},{"$f":"+G11-G77","v":12354175.449999999},{"$f":"+H11-H77","v":11885275.029999999},{"$f":"+I11-I77","v":11221741},{"$f":"+J11-J77","v":10825000},12050000,12170000,{"$error":"#REF!"},{"$error":"#REF!"},{"$error":"#REF!"},{"$error":"#REF!"},{"$error":"#REF!"},{"$error":"#REF!"},{"$error":"#REF!"},{"$error":"#REF!"},{"$error":"#REF!"},{"$error":"#REF!"},{"$error":"#REF!"},{"$error":"#REF!"},{"$error":"#REF!"},{"$error":"#REF!"},{"$error":"#REF!"},{"$error":"#REF!"},{"$error":"#REF!"},{"$error":"#REF!"},{"$error":"#REF!"},{"$error":"#REF!"},{"$error":"#REF!"},{"$error":"#REF!"},{"$error":"#REF!"},{"$error":"#REF!"},{"$error":"#REF!"},{"$error":"#REF!"}]
[null,null,null,"dochody majątkowe bez środków UE (fin. i współfin.)",{"$f":"+E18-E80","v":506592.99},{"$f":"+F18-F80","v":388338.91000000015},{"$f":"+G18-G80","v":586176},{"$f":"+H18-H80","v":262376},{"$f":"+I18-I80","v":200500},{"$f":"+J18-J80","v":0},0,0,{"$error":"#REF!"},{"$error":"#REF!"},{"$error":"#REF!"},{"$error":"#REF!"},{"$error":"#REF!"},{"$error":"#REF!"},{"$error":"#REF!"},{"$error":"#REF!"},{"$error":"#REF!"},{"$error":"#REF!"},{"$error":"#REF!"},{"$error":"#REF!"},{"$error":"#REF!"},{"$error":"#REF!"},{"$error":"#REF!"},{"$error":"#REF!"},{"$error":"#REF!"},{"$error":"#REF!"},{"$error":"#REF!"},{"$error":"#REF!"},{"$error":"#REF!"},{"$error":"#REF!"},{"$error":"#REF!"},{"$error":"#REF!"},{"$error":"#REF!"},{"$error":"#REF!"}]
[null,null,null,"dochody majątkowe bez środków UE (fin. i współfin.) \ni bez sprzedaży majątku",{"$f":"+E18-E80-E19","v":366100},{"$f":"+F18-F80-F19","v":319300.00000000012},{"$f":"+G18-G80-G19","v":256176},{"$f":"+H18-H80-H19","v":256176},{"$f":"+I18-I80-I19","v":500},{"$f":"+J18-J80-J19","v":0},0,0,{"$error":"#REF!"},{"$error":"#REF!"},{"$error":"#REF!"},{"$error":"#REF!"},{"$error":"#REF!"},{"$error":"#REF!"},{"$error":"#REF!"},{"$error":"#REF!"},{"$error":"#REF!"},{"$error":"#REF!"},{"$error":"#REF!"},{"$error":"#REF!"},{"$error":"#REF!"},{"$error":"#REF!"},{"$error":"#REF!"},{"$error":"#REF!"},{"$error":"#REF!"},{"$error":"#REF!"},{"$error":"#REF!"},{"$error":"#REF!"},{"$error":"#REF!"},{"$error":"#REF!"},{"$error":"#REF!"},{"$error":"#REF!"},{"$error":"#REF!"},{"$error":"#REF!"}]
[null,null,null,"dochody ze sprzedaży majątku",{"$f":"+E19","v":140492.99},{"$f":"+F19","v":69038.91},{"$f":"+G19","v":330000},{"$f":"+H19","v":6200},{"$f":"+I19","v":200000},{"$f":"+J19","v":0},0,0,{"$error":"#REF!"},{"$error":"#REF!"},{"$error":"#REF!"},{"$error":"#REF!"},{"$error":"#REF!"},{"$error":"#REF!"},{"$error":"#REF!"},{"$error":"#REF!"},{"$error":"#REF!"},{"$error":"#REF!"},{"$error":"#REF!"},{"$error":"#REF!"},{"$error":"#REF!"},{"$error":"#REF!"},{"$error":"#REF!"},{"$error":"#REF!"},{"$error":"#REF!"},{"$error":"#REF!"},{"$error":"#REF!"},{"$error":"#REF!"},{"$error":"#REF!"},{"$error":"#REF!"},{"$error":"#REF!"},{"$error":"#REF!"},{"$error":"#REF!"},{"$error":"#REF!"}]
[null,null,null,"Wydatki ogółem",{"$f":"+E21","v":12835915.98},{"$f":"+F21","v":11481546.43},{"$f":"+G21","v":14584700.699999999},{"$f":"+H21","v":14401220},{"$f":"+I21","v":12827688.810000001},{"$f":"+J21","v":10825000},12050000,12170000,{"$error":"#REF!"},{"$error":"#REF!"},{"$error":"#REF!"},{"$error":"#REF!"},{"$error":"#REF!"},{"$error":"#REF!"},{"$error":"#REF!"},{"$error":"#REF!"},{"$error":"#REF!"},{"$error":"#REF!"},{"$error":"#REF!"},{"$error":"#REF!"},{"$error":"#REF!"},{"$error":"#REF!"},{"$error":"#REF!"},{"$error":"#REF!"},{"$error":"#REF!"},{"$error":"#REF!"},{"$error":"#REF!"},{"$error":"#REF!"},{"$error":"#REF!"},{"$error":"#REF!"},{"$error":"#REF!"},{"$error":"#REF!"},{"$error":"#REF!"},{"$error":"#REF!"}]
[null,null,null,"wydatki ogółem bez wydatków na projekty finansowane i współfinansowane środkami UE",{"$f":"+E21-E83-E86","v":12061829.5},{"$f":"+F21-F83-F86","v":10762571.92},{"$f":"+G21-G83-G86","v":11038064.049999999},{"$f":"+H21-H83-H86","v":10854583.35},{"$f":"+I21-I83-I86","v":12827688.810000001},{"$f":"+J21-J83-J86","v":10825000},12050000,12170000,{"$error":"#REF!"},{"$error":"#REF!"},{"$error":"#REF!"},{"$error":"#REF!"},{"$error":"#REF!"},{"$error":"#REF!"},{"$error":"#REF!"},{"$error":"#REF!"},{"$error":"#REF!"},{"$error":"#REF!"},{"$error":"#REF!"},{"$error":"#REF!"},{"$error":"#REF!"},{"$error":"#REF!"},{"$error":"#REF!"},{"$error":"#REF!"},{"$error":"#REF!"},{"$error":"#REF!"},{"$error":"#REF!"},{"$error":"#REF!"},{"$error":"#REF!"},{"$error":"#REF!"},{"$error":"#REF!"},{"$error":"#REF!"},{"$error":"#REF!"},{"$error":"#REF!"}]
[null,null,null,"wydatki bieżące ogółem",{"$f":"+E22","v":9211865.6600000001},{"$f":"+F22","v":9055670.4299999997},{"$f":"+G22","v":9959324.6999999993},{"$f":"+H22","v":9775844},{"$f":"+I22","v":8917188.8100000005},{"$f":"+J22","v":9140000},9368000,9600000,{"$error":"#REF!"},{"$error":"#REF!"},{"$error":"#REF!"},{"$error":"#REF!"},{"$error":"#REF!"},{"$error":"#REF!"},{"$error":"#REF!"},{"$error":"#REF!"},{"$error":"#REF!"},{"$error":"#REF!"},{"$error":"#REF!"},{"$error":"#REF!"},{"$error":"#REF!"},{"$error":"#REF!"},{"$error":"#REF!"},{"$error":"#REF!"},{"$error":"#REF!"},{"$error":"#REF!"},{"$error":"#REF!"},{"$error":"#REF!"},{"$error":"#REF!"},{"$error":"#REF!"},{"$error":"#REF!"},{"$error":"#REF!"},{"$error":"#REF!"},{"$error":"#REF!"}]
[null,null,null,"wydatki bieżące ogółem bez wydatków na projekty współfinansowane środkami UE",{"$f":"+E22-E83","v":9088703.1400000006},{"$f":"+F22-F83","v":8898801.3200000003},{"$f":"+G22-G83","v":9814205.0499999989},{"$f":"+H22-H83","v":9630724.3499999996},{"$f":"+I22-I83","v":8917188.8100000005},{"$f":"+J22-J83","v":9140000},9368000,9600000,{"$error":"#REF!"},{"$error":"#REF!"},{"$error":"#REF!"},{"$error":"#REF!"},{"$error":"#REF!"},{"$error":"#REF!"},{"$error":"#REF!"},{"$error":"#REF!"},{"$error":"#REF!"},{"$error":"#REF!"},{"$error":"#REF!"},{"$error":"#REF!"},{"$error":"#REF!"},{"$error":"#REF!"},{"$error":"#REF!"},{"$error":"#REF!"},{"$error":"#REF!"},{"$error":"#REF!"},{"$error":"#REF!"},{"$error":"#REF!"},{"$error":"#REF!"},{"$error":"#REF!"},{"$error":"#REF!"},{"$error":"#REF!"},{"$error":"#REF!"},{"$error":"#REF!"}]
[null,null,null,"wydatki bieżące na wynagrodzenia i składki od nich naliczane",{"$f":"+E68","v":4441226.62},{"$f":"+F68","v":4171528.09},{"$f":"+G68","v":4406547.84},{"$f":"+H68","v":4236547},{"$f":"+I68","v":4167113},{"$f":"+J68","v":4271290},4378000,4487450,{"$error":"#REF!"},{"$error":"#REF!"},{"$error":"#REF!"},{"$error":"#REF!"},{"$error":"#REF!"},{"$error":"#REF!"},{"$error":"#REF!"},{"$error":"#REF!"},{"$error":"#REF!"},{"$error":"#REF!"},{"$error":"#REF!"},{"$error":"#REF!"},{"$error":"#REF!"},{"$error":"#REF!"},{"$error":"#REF!"},{"$error":"#REF!"},{"$error":"#REF!"},{"$error":"#REF!"},{"$error":"#REF!"},{"$error":"#REF!"},{"$error":"#REF!"},{"$error":"#REF!"},{"$error":"#REF!"},{"$error":"#REF!"},{"$error":"#REF!"},{"$error":"#REF!"}]
[null,null,null,"pozostałe wydatki bieżące (wydatki bieżące bez wynagrodzeń i pochodnych oraz wydatków związanych z funkcjonowaniem organów jst, wydatków na obsługę długu  oraz poręczeń i gwarancji)",{"$f":"+E22-E23-E26-E68-E69","v":3332136.3200000003},{"$f":"+F22-F23-F26-F68-F69","v":3360506.58},{"$f":"+G22-G23-G26-G68-G69","v":3966257.8599999994},{"$f":"+H22-H23-H26-H68-H69","v":4012778},{"$f":"+I22-I23-I26-I68-I69","v":3242492.8100000005},{"$f":"+J22-J23-J26-J68-J69","v":3359310},3442865,3526750,{"$error":"#REF!"},{"$error":"#REF!"},{"$error":"#REF!"},{"$error":"#REF!"},{"$error":"#REF!"},{"$error":"#REF!"},{"$error":"#REF!"},{"$error":"#REF!"},{"$error":"#REF!"},{"$error":"#REF!"},{"$error":"#REF!"},{"$error":"#REF!"},{"$error":"#REF!"},{"$error":"#REF!"},{"$error":"#REF!"},{"$error":"#REF!"},{"$error":"#REF!"},{"$error":"#REF!"},{"$error":"#REF!"},{"$error":"#REF!"},{"$error":"#REF!"},{"$error":"#REF!"},{"$error":"#REF!"},{"$error":"#REF!"},{"$error":"#REF!"},{"$error":"#REF!"}]

{"sheet":"definicja","index":3,"n_rows":104,"n_cols":34,"rows_kept":104,"cut":false,"hidden":true,"merged":[]}
[]
[]
[]
[]
[]
[]
[]
[]
[null,"Lp.","Wyszczególnienie",0,0,{"$f":"+E9+1","v":1},{"$f":"+F9+1","v":2},3,4,5,6,7,8,9,10,{"$f":"+O9+1","v":11},12,13,14,15,16,17,18,19,20,21,22,23,24,25,26,27,{"$f":"+AF9+1","v":28},{"$f":"+AG9+1","v":29}]
[10,1,"Dochody ogółem",{"$f":"+\"rokwzgl=\"&D$9&\" i lp=\"&$A10","v":"rokwzgl=0 i lp=10"},"rokwzgl=0 i lp=10","rokwzgl=1 i lp=10","rokwzgl=2 i lp=10","rokwzgl=3 i lp=10","rokwzgl=4 i lp=10","rokwzgl=5 i lp=10","rokwzgl=6 i lp=10","rokwzgl=7 i lp=10","rokwzgl=8 i lp=10",{"$f":"+\"rokwzgl=\"&N$9&\" i lp=\"&$A10","v":"rokwzgl=9 i lp=10"},"rokwzgl=10 i lp=10","rokwzgl=11 i lp=10","rokwzgl=12 i lp=10","rokwzgl=13 i lp=10","rokwzgl=14 i lp=10","rokwzgl=15 i lp=10","rokwzgl=16 i lp=10","rokwzgl=17 i lp=10","rokwzgl=18 i lp=10",{"$f":"+\"rokwzgl=\"&X$9&\" i lp=\"&$A10","v":"rokwzgl=19 i lp=10"},"rokwzgl=20 i lp=10","rokwzgl=21 i lp=10","rokwzgl=22 i lp=10","rokwzgl=23 i lp=10","rokwzgl=24 i lp=10","rokwzgl=25 i lp=10","rokwzgl=26 i lp=10","rokwzgl=27 i lp=10","rokwzgl=28 i lp=10","rokwzgl=29 i lp=10"]
[20,1.1000000000000001," Dochody bieżące","rokwzgl=0 i lp=20","rokwzgl=0 i lp=20","rokwzgl=1 i lp=20","rokwzgl=2 i lp=20","rokwzgl=3 i lp=20","rokwzgl=4 i lp=20","rokwzgl=5 i lp=20","rokwzgl=6 i lp=20","rokwzgl=7 i lp=20","rokwzgl=8 i lp=20","rokwzgl=9 i lp=20","rokwzgl=10 i lp=20","rokwzgl=11 i lp=20","rokwzgl=12 i lp=20","rokwzgl=13 i lp=20","rokwzgl=14 i lp=20","rokwzgl=15 i lp=20","rokwzgl=16 i lp=20","rokwzgl=17 i lp=20","rokwzgl=18 i lp=20","rokwzgl=19 i lp=20","rokwzgl=20 i lp=20","rokwzgl=21 i lp=20","rokwzgl=22 i lp=20","rokwzgl=23 i lp=20","rokwzgl=24 i lp=20","rokwzgl=25 i lp=20","rokwzgl=26 i lp=20","rokwzgl=27 i lp=20","rokwzgl=28 i lp=20","rokwzgl=29 i lp=20"]
[30,"1.1.1","  dochody z tytułu udziału we wpływach z podatku dochodowego od osób fizycznych","rokwzgl=0 i lp=30","rokwzgl=0 i lp=30","rokwzgl=1 i lp=30","rokwzgl=2 i lp=30","rokwzgl=3 i lp=30","rokwzgl=4 i lp=30","rokwzgl=5 i lp=30","rokwzgl=6 i lp=30","rokwzgl=7 i lp=30","rokwzgl=8 i lp=30","rokwzgl=9 i lp=30","rokwzgl=10 i lp=30","rokwzgl=11 i lp=30","rokwzgl=12 i lp=30","rokwzgl=13 i lp=30","rokwzgl=14 i lp=30","rokwzgl=15 i lp=30","rokwzgl=16 i lp=30","rokwzgl=17 i lp=30","rokwzgl=18 i lp=30","rokwzgl=19 i lp=30","rokwzgl=20 i lp=30","rokwzgl=21 i lp=30","rokwzgl=22 i lp=30","rokwzgl=23 i lp=30","rokwzgl=24 i lp=30","rokwzgl=25 i lp=30","rokwzgl=26 i lp=30","rokwzgl=27 i lp=30","rokwzgl=28 i lp=30","rokwzgl=29 i lp=30"]
[40,"1.1.2","  dochody z tytułu udziału we wpływach z podatku dochodowego od osób prawnych","rokwzgl=0 i lp=40","rokwzgl=0 i lp=40","rokwzgl=1 i lp=40","rokwzgl=2 i lp=40","rokwzgl=3 i lp=40","rokwzgl=4 i lp=40","rokwzgl=5 i lp=40","rokwzgl=6 i lp=40","rokwzgl=7 i lp=40","rokwzgl=8 i lp=40","rokwzgl=9 i lp=40","rokwzgl=10 i lp=40","rokwzgl=11 i lp=40","rokwzgl=12 i lp=40","rokwzgl=13 i lp=40","rokwzgl=14 i lp=40","rokwzgl=15 i lp=40","rokwzgl=16 i lp=40","rokwzgl=17 i lp=40","rokwzgl=18 i lp=40","rokwzgl=19 i lp=40","rokwzgl=20 i lp=40","rokwzgl=21 i lp=40","rokwzgl=22 i lp=40","rokwzgl=23 i lp=40","rokwzgl=24 i lp=40","rokwzgl=25 i lp=40","rokwzgl=26 i lp=40","rokwzgl=27 i lp=40","rokwzgl=28 i lp=40","rokwzgl=29 i lp=40"]
[50,"1.1.3","  podatki i opłaty","rokwzgl=0 i lp=50","rokwzgl=0 i lp=50","rokwzgl=1 i lp=50","rokwzgl=2 i lp=50","rokwzgl=3 i lp=50","rokwzgl=4 i lp=50","rokwzgl=5 i lp=50","rokwzgl=6 i lp=50","rokwzgl=7 i lp=50","rokwzgl=8 i lp=50","rokwzgl=9 i lp=50","rokwzgl=10 i lp=50","rokwzgl=11 i lp=50","rokwzgl=12 i lp=50","rokwzgl=13 i lp=50","rokwzgl=14 i lp=50","rokwzgl=15 i lp=50","rokwzgl=16 i lp=50","rokwzgl=17 i lp=50","rokwzgl=18 i lp=50","rokwzgl=19 i lp=50","rokwzgl=20 i lp=50","rokwzgl=21 i lp=50","rokwzgl=22 i lp=50","rokwzgl=23 i lp=50","rokwzgl=24 i lp=50","rokwzgl=25 i lp=50","rokwzgl=26 i lp=50","rokwzgl=27 i lp=50","rokwzgl=28 i lp=50","rokwzgl=29 i lp=50"]
[60,"1.1.3.1","   z podatku od nieruchomości","rokwzgl=0 i lp=60","rokwzgl=0 i lp=60","rokwzgl=1 i lp=60","rokwzgl=2 i lp=60","rokwzgl=3 i lp=60","rokwzgl=4 i lp=60","rokwzgl=5 i lp=60","rokwzgl=6 i lp=60","rokwzgl=7 i lp=60","rokwzgl=8 i lp=60","rokwzgl=9 i lp=60","rokwzgl=10 i lp=60","rokwzgl=11 i lp=60","rokwzgl=12 i lp=60","rokwzgl=13 i lp=60","rokwzgl=14 i lp=60","rokwzgl=15 i lp=60","rokwzgl=16 i lp=60","rokwzgl=17 i lp=60","rokwzgl=18 i lp=60","rokwzgl=19 i lp=60","rokwzgl=20 i lp=60","rokwzgl=21 i lp=60","rokwzgl=22 i lp=60","rokwzgl=23 i lp=60","rokwzgl=24 i lp=60","rokwzgl=25 i lp=60","rokwzgl=26 i lp=60","rokwzgl=27 i lp=60","rokwzgl=28 i lp=60","rokwzgl=29 i lp=60"]
[70,"1.1.4","  z subwencji ogólnej","rokwzgl=0 i lp=70","rokwzgl=0 i lp=70","rokwzgl=1 i lp=70","rokwzgl=2 i lp=70","rokwzgl=3 i lp=70","rokwzgl=4 i lp=70","rokwzgl=5 i lp=70","rokwzgl=6 i lp=70","rokwzgl=7 i lp=70","rokwzgl=8 i lp=70","rokwzgl=9 i lp=70","rokwzgl=10 i lp=70","rokwzgl=11 i lp=70","rokwzgl=12 i lp=70","rokwzgl=13 i lp=70","rokwzgl=14 i lp=70","rokwzgl=15 i lp=70","rokwzgl=16 i lp=70","rokwzgl=17 i lp=70","rokwzgl=18 i lp=70","rokwzgl=19 i lp=70","rokwzgl=20 i lp=70","rokwzgl=21 i lp=70","rokwzgl=22 i lp=70","rokwzgl=23 i lp=70","rokwzgl=24 i lp=70","rokwzgl=25 i lp=70","rokwzgl=26 i lp=70","rokwzgl=27 i lp=70","rokwzgl=28 i lp=70","rokwzgl=29 i lp=70"]
[80,"1.1.5","  z tytułu dotacji i środków przeznaczonych na cele bieżące","rokwzgl=0 i lp=80","rokwzgl=0 i lp=80","rokwzgl=1 i lp=80","rokwzgl=2 i lp=80","rokwzgl=3 i lp=80","rokwzgl=4 i lp=80","rokwzgl=5 i lp=80","rokwzgl=6 i lp=80","rokwzgl=7 i lp=80","rokwzgl=8 i lp=80","rokwzgl=9 i lp=80","rokwzgl=10 i lp=80","rokwzgl=11 i lp=80","rokwzgl=12 i lp=80","rokwzgl=13 i lp=80","rokwzgl=14 i lp=80","rokwzgl=15 i lp=80","rokwzgl=16 i lp=80","rokwzgl=17 i lp=80","rokwzgl=18 i lp=80","rokwzgl=19 i lp=80","rokwzgl=20 i lp=80","rokwzgl=21 i lp=80","rokwzgl=22 i lp=80","rokwzgl=23 i lp=80","rokwzgl=24 i lp=80","rokwzgl=25 i lp=80","rokwzgl=26 i lp=80","rokwzgl=27 i lp=80","rokwzgl=28 i lp=80","rokwzgl=29 i lp=80"]
[90,1.2,"  Dochody majątkowe, w tym","rokwzgl=0 i lp=90","rokwzgl=0 i lp=90","rokwzgl=1 i lp=90","rokwzgl=2 i lp=90","rokwzgl=3 i lp=90","rokwzgl=4 i lp=90","rokwzgl=5 i lp=90","rokwzgl=6 i lp=90","rokwzgl=7 i lp=90","rokwzgl=8 i lp=90","rokwzgl=9 i lp=90","rokwzgl=10 i lp=90","rokwzgl=11 i lp=90","rokwzgl=12 i lp=90","rokwzgl=13 i lp=90","rokwzgl=14 i lp=90","rokwzgl=15 i lp=90","rokwzgl=16 i lp=90","rokwzgl=17 i lp=90","rokwzgl=18 i lp=90","rokwzgl=19 i lp=90","rokwzgl=20 i lp=90","rokwzgl=21 i lp=90","rokwzgl=22 i lp=90","rokwzgl=23 i lp=90","rokwzgl=24 i lp=90","rokwzgl=25 i lp=90","rokwzgl=26 i lp=90","rokwzgl=27 i lp=90","rokwzgl=28 i lp=90","rokwzgl=29 i lp=90"]
[100,"1.2.1","  ze sprzedaży majątku","rokwzgl=0 i lp=100","rokwzgl=0 i lp=100","rokwzgl=1 i lp=100","rokwzgl=2 i lp=100","rokwzgl=3 i lp=100","rokwzgl=4 i lp=100","rokwzgl=5 i lp=100","rokwzgl=6 i lp=100","rokwzgl=7 i lp=100","rokwzgl=8 i lp=100","rokwzgl=9 i lp=100","rokwzgl=10 i lp=100","rokwzgl=11 i lp=100","rokwzgl=12 i lp=100","rokwzgl=13 i lp=100","rokwzgl=14 i lp=100","rokwzgl=15 i lp=100","rokwzgl=16 i lp=100","rokwzgl=17 i lp=100","rokwzgl=18 i lp=100","rokwzgl=19 i lp=100","rokwzgl=20 i lp=100","rokwzgl=21 i lp=100","rokwzgl=22 i lp=100","rokwzgl=23 i lp=100","rokwzgl=24 i lp=100","rokwzgl=25 i lp=100","rokwzgl=26 i lp=100","rokwzgl=27 i lp=100","rokwzgl=28 i lp=100","rokwzgl=29 i lp=100"]
[110,"1.2.2","  z tytułu dotacji oraz środków przeznaczonych na inwestycje",{"$f":"+\"rokwzgl=\"&D$9&\" i lp=\"&$A20","v":"rokwzgl=0 i lp=110"},"rokwzgl=0 i lp=110","rokwzgl=1 i lp=110","rokwzgl=2 i lp=110","rokwzgl=3 i lp=110","rokwzgl=4 i lp=110","rokwzgl=5 i lp=110","rokwzgl=6 i lp=110","rokwzgl=7 i lp=110","rokwzgl=8 i lp=110",{"$f":"+\"rokwzgl=\"&N$9&\" i lp=\"&$A20","v":"rokwzgl=9 i lp=110"},"rokwzgl=10 i lp=110","rokwzgl=11 i lp=110","rokwzgl=12 i lp=110","rokwzgl=13 i lp=110","rokwzgl=14 i lp=110","rokwzgl=15 i lp=110","rokwzgl=16 i lp=110","rokwzgl=17 i lp=110","rokwzgl=18 i lp=110",{"$f":"+\"rokwzgl=\"&X$9&\" i lp=\"&$A20","v":"rokwzgl=19 i lp=110"},"rokwzgl=20 i lp=110","rokwzgl=21 i lp=110","rokwzgl=22 i lp=110","rokwzgl=23 i lp=110","rokwzgl=24 i lp=110","rokwzgl=25 i lp=110","rokwzgl=26 i lp=110","rokwzgl=27 i lp=110","rokwzgl=28 i lp=110","rokwzgl=29 i lp=110"]
[120,2,"Wydatki ogółem","rokwzgl=0 i lp=120","rokwzgl=0 i lp=120","rokwzgl=1 i lp=120","rokwzgl=2 i lp=120","rokwzgl=3 i lp=120","rokwzgl=4 i lp=120","rokwzgl=5 i lp=120","rokwzgl=6 i lp=120","rokwzgl=7 i lp=120","rokwzgl=8 i lp=120","rokwzgl=9 i lp=120","rokwzgl=10 i lp=120","rokwzgl=11 i lp=120","rokwzgl=12 i lp=120","rokwzgl=13 i lp=120","rokwzgl=14 i lp=120","rokwzgl=15 i lp=120","rokwzgl=16 i lp=120","rokwzgl=17 i lp=120","rokwzgl=18 i lp=120","rokwzgl=19 i lp=120","rokwzgl=20 i lp=120","rokwzgl=21 i lp=120","rokwzgl=22 i lp=120","rokwzgl=23 i lp=120","rokwzgl=24 i lp=120","rokwzgl=25 i lp=120","rokwzgl=26 i lp=120","rokwzgl=27 i lp=120","rokwzgl=28 i lp=120","rokwzgl=29 i lp=120"]
[130,2.1," Wydatki bieżące, w tym:","rokwzgl=0 i lp=130","rokwzgl=0 i lp=130","rokwzgl=1 i lp=130","rokwzgl=2 i lp=130","rokwzgl=3 i lp=130","rokwzgl=4 i lp=130","rokwzgl=5 i lp=130","rokwzgl=6 i lp=130","rokwzgl=7 i lp=130","rokwzgl=8 i lp=130","rokwzgl=9 i lp=130","rokwzgl=10 i lp=130","rokwzgl=11 i lp=130","rokwzgl=12 i lp=130","rokwzgl=13 i lp=130","rokwzgl=14 i lp=130","rokwzgl=15 i lp=130","rokwzgl=16 i lp=130","rokwzgl=17 i lp=130","rokwzgl=18 i lp=130","rokwzgl=19 i lp=130","rokwzgl=20 i lp=130","rokwzgl=21 i lp=130","rokwzgl=22 i lp=130","rokwzgl=23 i lp=130","rokwzgl=24 i lp=130","rokwzgl=25 i lp=130","rokwzgl=26 i lp=130","rokwzgl=27 i lp=130","rokwzgl=28 i lp=130","rokwzgl=29 i lp=130"]
[140,"2.1.1","  z tytułu poręczeń i gwarancji","rokwzgl=0 i lp=140","rokwzgl=0 i lp=140","rokwzgl=1 i lp=140","rokwzgl=2 i lp=140","rokwzgl=3 i lp=140","rokwzgl=4 i lp=140","rokwzgl=5 i lp=140","rokwzgl=6 i lp=140","rokwzgl=7 i lp=140","rokwzgl=8 i lp=140","rokwzgl=9 i lp=140","rokwzgl=10 i lp=140","rokwzgl=11 i lp=140","rokwzgl=12 i lp=140","rokwzgl=13 i lp=140","rokwzgl=14 i lp=140","rokwzgl=15 i lp=140","rokwzgl=16 i lp=140","rokwzgl=17 i lp=140","rokwzgl=18 i lp=140","rokwzgl=19 i lp=140","rokwzgl=20 i lp=140","rokwzgl=21 i lp=140","rokwzgl=22 i lp=140","rokwzgl=23 i lp=140","rokwzgl=24 i lp=140","rokwzgl=25 i lp=140","rokwzgl=26 i lp=140","rokwzgl=27 i lp=140","rokwzgl=28 i lp=140","rokwzgl=29 i lp=140"]
[150,"2.1.1.1","   w tym: gwarancje i poręczenia podlegające wyłączeniu z limitów spłaty zobowiązań  określonych w art. 243 ust. 3 pkt 2 ustawy z dnia 27 sierpnia 2009 r. o finansach publicznych (Dz. U. Nr 157, poz. 1240, z późn. zm.) lub art. 169 ust. 3 pkt 2 ustawy z dnia 30 czerwca 2005 r. o finansach publicznych (Dz. U. Nr 249, poz. 2104, z późn. zm)","rokwzgl=0 i lp=150","rokwzgl=0 i lp=150","rokwzgl=1 i lp=150","rokwzgl=2 i lp=150","rokwzgl=3 i lp=150","rokwzgl=4 i lp=150","rokwzgl=5 i lp=150","rokwzgl=6 i lp=150","rokwzgl=7 i lp=150","rokwzgl=8 i lp=150","rokwzgl=9 i lp=150","rokwzgl=10 i lp=150","rokwzgl=11 i lp=150","rokwzgl=12 i lp=150","rokwzgl=13 i lp=150","rokwzgl=14 i lp=150","rokwzgl=15 i lp=150","rokwzgl=16 i lp=150","rokwzgl=17 i lp=150","rokwzgl=18 i lp=150","rokwzgl=19 i lp=150","rokwzgl=20 i lp=150","rokwzgl=21 i lp=150","rokwzgl=22 i lp=150","rokwzgl=23 i lp=150","rokwzgl=24 i lp=150","rokwzgl=25 i lp=150","rokwzgl=26 i lp=150","rokwzgl=27 i lp=150","rokwzgl=28 i lp=150","rokwzgl=29 i lp=150"]
[160,"2.1.2","   na spłatę przejętych zobowiązań samodzielnego publicznego zakładu opieki zdrowotnej przekształconego na zasadach określonych w przepisach  o działalności leczniczej, w wysokości w jakiej nie podlegają sfinansowaniu dotacją z budżetu państwa)","rokwzgl=0 i lp=160","rokwzgl=0 i lp=160","rokwzgl=1 i lp=160","rokwzgl=2 i lp=160","rokwzgl=3 i lp=160","rokwzgl=4 i lp=160","rokwzgl=5 i lp=160","rokwzgl=6 i lp=160","rokwzgl=7 i lp=160","rokwzgl=8 i lp=160","rokwzgl=9 i lp=160","rokwzgl=10 i lp=160","rokwzgl=11 i lp=160","rokwzgl=12 i lp=160","rokwzgl=13 i lp=160","rokwzgl=14 i lp=160","rokwzgl=15 i lp=160","rokwzgl=16 i lp=160","rokwzgl=17 i lp=160","rokwzgl=18 i lp=160","rokwzgl=19 i lp=160","rokwzgl=20 i lp=160","rokwzgl=21 i lp=160","rokwzgl=22 i lp=160","rokwzgl=23 i lp=160","rokwzgl=24 i lp=160","rokwzgl=25 i lp=160","rokwzgl=26 i lp=160","rokwzgl=27 i lp=160","rokwzgl=28 i lp=160","rokwzgl=29 i lp=160"]
[170,"2.1.3","  wydatki na obsługę długu","rokwzgl=0 i lp=170","rokwzgl=0 i lp=170","rokwzgl=1 i lp=170","rokwzgl=2 i lp=170","rokwzgl=3 i lp=170","rokwzgl=4 i lp=170","rokwzgl=5 i lp=170","rokwzgl=6 i lp=170","rokwzgl=7 i lp=170","rokwzgl=8 i lp=170","rokwzgl=9 i lp=170","rokwzgl=10 i lp=170","rokwzgl=11 i lp=170","rokwzgl=12 i lp=170","rokwzgl=13 i lp=170","rokwzgl=14 i lp=170","rokwzgl=15 i lp=170","rokwzgl=16 i lp=170","rokwzgl=17 i lp=170","rokwzgl=18 i lp=170","rokwzgl=19 i lp=170","rokwzgl=20 i lp=170","rokwzgl=21 i lp=170","rokwzgl=22 i lp=170","rokwzgl=23 i lp=170","rokwzgl=24 i lp=170","rokwzgl=25 i lp=170","rokwzgl=26 i lp=170","rokwzgl=27 i lp=170","rokwzgl=28 i lp=170","rokwzgl=29 i lp=170"]
[180,"2.1.3.1","   w tym odsetki i dyskonto określone w art. 243 ust. 1 ustawy lub art. 169 ust. 1 ufp z 2005 r..","rokwzgl=0 i lp=180","rokwzgl=0 i lp=180","rokwzgl=1 i lp=180","rokwzgl=2 i lp=180","rokwzgl=3 i lp=180","rokwzgl=4 i lp=180","rokwzgl=5 i lp=180","rokwzgl=6 i lp=180","rokwzgl=7 i lp=180","rokwzgl=8 i lp=180","rokwzgl=9 i lp=180","rokwzgl=10 i lp=180","rokwzgl=11 i lp=180","rokwzgl=12 i lp=180","rokwzgl=13 i lp=180","rokwzgl=14 i lp=180","rokwzgl=15 i lp=180","rokwzgl=16 i lp=180","rokwzgl=17 i lp=180","rokwzgl=18 i lp=180","rokwzgl=19 i lp=180","rokwzgl=20 i lp=180","rokwzgl=21 i lp=180","rokwzgl=22 i lp=180","rokwzgl=23 i lp=180","rokwzgl=24 i lp=180","rokwzgl=25 i lp=180","rokwzgl=26 i lp=180","rokwzgl=27 i lp=180","rokwzgl=28 i lp=180","rokwzgl=29 i lp=180"]
[190,2.2000000000000002," Wydatki majątkowe","rokwzgl=0 i lp=190","rokwzgl=0 i lp=190","rokwzgl=1 i lp=190","rokwzgl=2 i lp=190","rokwzgl=3 i lp=190","rokwzgl=4 i lp=190","rokwzgl=5 i lp=190","rokwzgl=6 i lp=190","rokwzgl=7 i lp=190","rokwzgl=8 i lp=190","rokwzgl=9 i lp=190","rokwzgl=10 i lp=190","rokwzgl=11 i lp=190","rokwzgl=12 i lp=190","rokwzgl=13 i lp=190","rokwzgl=14 i lp=190","rokwzgl=15 i lp=190","rokwzgl=16 i lp=190","rokwzgl=17 i lp=190","rokwzgl=18 i lp=190","rokwzgl=19 i lp=190","rokwzgl=20 i lp=190","rokwzgl=21 i lp=190","rokwzgl=22 i lp=190","rokwzgl=23 i lp=190","rokwzgl=24 i lp=190","rokwzgl=25 i lp=190","rokwzgl=26 i lp=190","rokwzgl=27 i lp=190","rokwzgl=28 i lp=190","rokwzgl=29 i lp=190"]
[200,3,"Wynik budżetu","rokwzgl=0 i lp=200","rokwzgl=0 i lp=200","rokwzgl=1 i lp=200","rokwzgl=2 i lp=200","rokwzgl=3 i lp=200","rokwzgl=4 i lp=200","rokwzgl=5 i lp=200","rokwzgl=6 i lp=200","rokwzgl=7 i lp=200","rokwzgl=8 i lp=200","rokwzgl=9 i lp=200","rokwzgl=10 i lp=200","rokwzgl=11 i lp=200","rokwzgl=12 i lp=200","rokwzgl=13 i lp=200","rokwzgl=14 i lp=200","rokwzgl=15 i lp=200","rokwzgl=16 i lp=200","rokwzgl=17 i lp=200","rokwzgl=18 i lp=200","rokwzgl=19 i lp=200","rokwzgl=20 i lp=200","rokwzgl=21 i lp=200","rokwzgl=22 i lp=200","rokwzgl=23 i lp=200","rokwzgl=24 i lp=200","rokwzgl=25 i lp=200","rokwzgl=26 i lp=200","rokwzgl=27 i lp=200","rokwzgl=28 i lp=200","rokwzgl=29 i lp=200"]
[210,4,"Przychody budżetu",{"$f":"+\"rokwzgl=\"&D$9&\" i lp=\"&$A30","v":"rokwzgl=0 i lp=210"},"rokwzgl=0 i lp=210","rokwzgl=1 i lp=210","rokwzgl=2 i lp=210","rokwzgl=3 i lp=210","rokwzgl=4 i lp=210","rokwzgl=5 i lp=210","rokwzgl=6 i lp=210","rokwzgl=7 i lp=210","rokwzgl=8 i lp=210",{"$f":"+\"rokwzgl=\"&N$9&\" i lp=\"&$A30","v":"rokwzgl=9 i lp=210"},"rokwzgl=10 i lp=210","rokwzgl=11 i lp=210","rokwzgl=12 i lp=210","rokwzgl=13 i lp=210","rokwzgl=14 i lp=210","rokwzgl=15 i lp=210","rokwzgl=16 i lp=210","rokwzgl=17 i lp=210","rokwzgl=18 i lp=210",{"$f":"+\"rokwzgl=\"&X$9&\" i lp=\"&$A30","v":"rokwzgl=19 i lp=210"},"rokwzgl=20 i lp=210","rokwzgl=21 i lp=210","rokwzgl=22 i lp=210","rokwzgl=23 i lp=210","rokwzgl=24 i lp=210","rokwzgl=25 i lp=210","rokwzgl=26 i lp=210","rokwzgl=27 i lp=210","rokwzgl=28 i lp=210","rokwzgl=29 i lp=210"]
[220,4.0999999999999996," Nadwyżka budżetowa z lat ubiegłych","rokwzgl=0 i lp=220","rokwzgl=0 i lp=220","rokwzgl=1 i lp=220","rokwzgl=2 i lp=220","rokwzgl=3 i lp=220","rokwzgl=4 i lp=220","rokwzgl=5 i lp=220","rokwzgl=6 i lp=220","rokwzgl=7 i lp=220","rokwzgl=8 i lp=220","rokwzgl=9 i lp=220","rokwzgl=10 i lp=220","rokwzgl=11 i lp=220","rokwzgl=12 i lp=220","rokwzgl=13 i lp=220","rokwzgl=14 i lp=220","rokwzgl=15 i lp=220","rokwzgl=16 i lp=220","rokwzgl=17 i lp=220","rokwzgl=18 i lp=220","rokwzgl=19 i lp=220","rokwzgl=20 i lp=220","rokwzgl=21 i lp=220","rokwzgl=22 i lp=220","rokwzgl=23 i lp=220","rokwzgl=24 i lp=220","rokwzgl=25 i lp=220","rokwzgl=26 i lp=220","rokwzgl=27 i lp=220","rokwzgl=28 i lp=220","rokwzgl=29 i lp=220"]
[230,"4.1.1","  w tym na pokrycie deficytu budżetu","rokwzgl=0 i lp=230","rokwzgl=0 i lp=230","rokwzgl=1 i lp=230","rokwzgl=2 i lp=230","rokwzgl=3 i lp=230","rokwzgl=4 i lp=230","rokwzgl=5 i lp=230","rokwzgl=6 i lp=230","rokwzgl=7 i lp=230","rokwzgl=8 i lp=230","rokwzgl=9 i lp=230","rokwzgl=10 i lp=230","rokwzgl=11 i lp=230","rokwzgl=12 i lp=230","rokwzgl=13 i lp=230","rokwzgl=14 i lp=230","rokwzgl=15 i lp=230","rokwzgl=16 i lp=230","rokwzgl=17 i lp=230","rokwzgl=18 i lp=230","rokwzgl=19 i lp=230","rokwzgl=20 i lp=230","rokwzgl=21 i lp=230","rokwzgl=22 i lp=230","rokwzgl=23 i lp=230","rokwzgl=24 i lp=230","rokwzgl=25 i lp=230","rokwzgl=26 i lp=230","rokwzgl=27 i lp=230","rokwzgl=28 i lp=230","rokwzgl=29 i lp=230"]
[240,4.2," Wolne środki, o których mowa w art. 217 ust.2 pkt 6 ustawy","rokwzgl=0 i lp=240","rokwzgl=0 i lp=240","rokwzgl=1 i lp=240","rokwzgl=2 i lp=240","rokwzgl=3 i lp=240","rokwzgl=4 i lp=240","rokwzgl=5 i lp=240","rokwzgl=6 i lp=240","rokwzgl=7 i lp=240","rokwzgl=8 i lp=240","rokwzgl=9 i lp=240","rokwzgl=10 i lp=240","rokwzgl=11 i lp=240","rokwzgl=12 i lp=240","rokwzgl=13 i lp=240","rokwzgl=14 i lp=240","rokwzgl=15 i lp=240","rokwzgl=16 i lp=240","rokwzgl=17 i lp=240","rokwzgl=18 i lp=240","rokwzgl=19 i lp=240","rokwzgl=20 i lp=240","rokwzgl=21 i lp=240","rokwzgl=22 i lp=240","rokwzgl=23 i lp=240","rokwzgl=24 i lp=240","rokwzgl=25 i lp=240","rokwzgl=26 i lp=240","rokwzgl=27 i lp=240","rokwzgl=28 i lp=240","rokwzgl=29 i lp=240"]
[250,"4.2.1","   w tym na pokrycie deficytu budżetu","rokwzgl=0 i lp=250","rokwzgl=0 i lp=250","rokwzgl=1 i lp=250","rokwzgl=2 i lp=250","rokwzgl=3 i lp=250","rokwzgl=4 i lp=250","rokwzgl=5 i lp=250","rokwzgl=6 i lp=250","rokwzgl=7 i lp=250","rokwzgl=8 i lp=250","rokwzgl=9 i lp=250","rokwzgl=10 i lp=250","rokwzgl=11 i lp=250","rokwzgl=12 i lp=250","rokwzgl=13 i lp=250","rokwzgl=14 i lp=250","rokwzgl=15 i lp=250","rokwzgl=16 i lp=250","rokwzgl=17 i lp=250","rokwzgl=18 i lp=250","rokwzgl=19 i lp=250","rokwzgl=20 i lp=250","rokwzgl=21 i lp=250","rokwzgl=22 i lp=250","rokwzgl=23 i lp=250","rokwzgl=24 i lp=250","rokwzgl=25 i lp=250","rokwzgl=26 i lp=250","rokwzgl=27 i lp=250","rokwzgl=28 i lp=250","rokwzgl=29 i lp=250"]
[260,4.3,"  Kredyty, pożyczki, emisja papierów wartościowych","rokwzgl=0 i lp=260","rokwzgl=0 i lp=260","rokwzgl=1 i lp=260","rokwzgl=2 i lp=260","rokwzgl=3 i lp=260","rokwzgl=4 i lp=260","rokwzgl=5 i lp=260","rokwzgl=6 i lp=260","rokwzgl=7 i lp=260","rokwzgl=8 i lp=260","rokwzgl=9 i lp=260","rokwzgl=10 i lp=260","rokwzgl=11 i lp=260","rokwzgl=12 i lp=260","rokwzgl=13 i lp=260","rokwzgl=14 i lp=260","rokwzgl=15 i lp=260","rokwzgl=16 i lp=260","rokwzgl=17 i lp=260","rokwzgl=18 i lp=260","rokwzgl=19 i lp=260","rokwzgl=20 i lp=260","rokwzgl=21 i lp=260","rokwzgl=22 i lp=260","rokwzgl=23 i lp=260","rokwzgl=24 i lp=260","rokwzgl=25 i lp=260","rokwzgl=26 i lp=260","rokwzgl=27 i lp=260","rokwzgl=28 i lp=260","rokwzgl=29 i lp=260"]
[270,"4.3.1","   w tym na pokrycie deficytu budżetu","rokwzgl=0 i lp=270","rokwzgl=0 i lp=270","rokwzgl=1 i lp=270","rokwzgl=2 i lp=270","rokwzgl=3 i lp=270","rokwzgl=4 i lp=270","rokwzgl=5 i lp=270","rokwzgl=6 i lp=270","rokwzgl=7 i lp=270","rokwzgl=8 i lp=270","rokwzgl=9 i lp=270","rokwzgl=10 i lp=270","rokwzgl=11 i lp=270","rokwzgl=12 i lp=270","rokwzgl=13 i lp=270","rokwzgl=14 i lp=270","rokwzgl=15 i lp=270","rokwzgl=16 i lp=270","rokwzgl=17 i lp=270","rokwzgl=18 i lp=270","rokwzgl=19 i lp=270","rokwzgl=20 i lp=270","rokwzgl=21 i lp=270","rokwzgl=22 i lp=270","rokwzgl=23 i lp=270","rokwzgl=24 i lp=270","rokwzgl=25 i lp=270","rokwzgl=26 i lp=270","rokwzgl=27 i lp=270","rokwzgl=28 i lp=270","rokwzgl=29 i lp=270"]
[280,4.4000000000000004," Inne przychody niezwiązane z zaciągnięciem długu","rokwzgl=0 i lp=280","rokwzgl=0 i lp=280","rokwzgl=1 i lp=280","rokwzgl=2 i lp=280","rokwzgl=3 i lp=280","rokwzgl=4 i lp=280","rokwzgl=5 i lp=280","rokwzgl=6 i lp=280","rokwzgl=7 i lp=280","rokwzgl=8 i lp=280","rokwzgl=9 i lp=280","rokwzgl=10 i lp=280","rokwzgl=11 i lp=280","rokwzgl=12 i lp=280","rokwzgl=13 i lp=280","rokwzgl=14 i lp=280","rokwzgl=15 i lp=280","rokwzgl=16 i lp=280","rokwzgl=17 i lp=280","rokwzgl=18 i lp=280","rokwzgl=19 i lp=280","rokwzgl=20 i lp=280","rokwzgl=21 i lp=280","rokwzgl=22 i lp=280","rokwzgl=23 i lp=280","rokwzgl=24 i lp=280","rokwzgl=25 i lp=280","rokwzgl=26 i lp=280","rokwzgl=27 i lp=280","rokwzgl=28 i lp=280","rokwzgl=29 i lp=280"]
[290,"4.4.1","   w tym na pokrycie deficytu budżetu","rokwzgl=0 i lp=290","rokwzgl=0 i lp=290","rokwzgl=1 i lp=290","rokwzgl=2 i lp=290","rokwzgl=3 i lp=290","rokwzgl=4 i lp=290","rokwzgl=5 i lp=290","rokwzgl=6 i lp=290","rokwzgl=7 i lp=290","rokwzgl=8 i lp=290","rokwzgl=9 i lp=290","rokwzgl=10 i lp=290","rokwzgl=11 i lp=290","rokwzgl=12 i lp=290","rokwzgl=13 i lp=290","rokwzgl=14 i lp=290","rokwzgl=15 i lp=290","rokwzgl=16 i lp=290","rokwzgl=17 i lp=290","rokwzgl=18 i lp=290","rokwzgl=19 i lp=290","rokwzgl=20 i lp=290","rokwzgl=21 i lp=290","rokwzgl=22 i lp=290","rokwzgl=23 i lp=290","rokwzgl=24 i lp=290","rokwzgl=25 i lp=290","rokwzgl=26 i lp=290","rokwzgl=27 i lp=290","rokwzgl=28 i lp=290","rokwzgl=29 i lp=290"]
[300,5,"Rozchody budżetu","rokwzgl=0 i lp=300","rokwzgl=0 i lp=300","rokwzgl=1 i lp=300","rokwzgl=2 i lp=300","rokwzgl=3 i lp=300","rokwzgl=4 i lp=300","rokwzgl=5 i lp=300","rokwzgl=6 i lp=300","rokwzgl=7 i lp=300","rokwzgl=8 i lp=300","rokwzgl=9 i lp=300","rokwzgl=10 i lp=300","rokwzgl=11 i lp=300","rokwzgl=12 i lp=300","rokwzgl=13 i lp=300","rokwzgl=14 i lp=300","rokwzgl=15 i lp=300","rokwzgl=16 i lp=300","rokwzgl=17 i lp=300","rokwzgl=18 i lp=300","rokwzgl=19 i lp=300","rokwzgl=20 i lp=300","rokwzgl=21 i lp=300","rokwzgl=22 i lp=300","rokwzgl=23 i lp=300","rokwzgl=24 i lp=300","rokwzgl=25 i lp=300","rokwzgl=26 i lp=300","rokwzgl=27 i lp=300","rokwzgl=28 i lp=300","rokwzgl=29 i lp=300"]
[310,5.0999999999999996," Spłaty rat kapitałowych kredytów i pożyczek oraz wykup papierów wartościowych",{"$f":"+\"rokwzgl=\"&D$9&\" i lp=\"&$A40","v":"rokwzgl=0 i lp=310"},"rokwzgl=0 i lp=310","rokwzgl=1 i lp=310","rokwzgl=2 i lp=310","rokwzgl=3 i lp=310","rokwzgl=4 i lp=310","rokwzgl=5 i lp=310","rokwzgl=6 i lp=310","rokwzgl=7 i lp=310","rokwzgl=8 i lp=310",{"$f":"+\"rokwzgl=\"&N$9&\" i lp=\"&$A40","v":"rokwzgl=9 i lp=310"},"rokwzgl=10 i lp=310","rokwzgl=11 i lp=310","rokwzgl=12 i lp=310","rokwzgl=13 i lp=310","rokwzgl=14 i lp=310","rokwzgl=15 i lp=310","rokwzgl=16 i lp=310","rokwzgl=17 i lp=310","rokwzgl=18 i lp=310",{"$f":"+\"rokwzgl=\"&X$9&\" i lp=\"&$A40","v":"rokwzgl=19 i lp=310"},"rokwzgl=20 i lp=310","rokwzgl=21 i lp=310","rokwzgl=22 i lp=310","rokwzgl=23 i lp=310","rokwzgl=24 i lp=310","rokwzgl=25 i lp=310","rokwzgl=26 i lp=310","rokwzgl=27 i lp=310","rokwzgl=28 i lp=310","rokwzgl=29 i lp=310"]
[320,"5.1.1","  w tym łączna kwota przypadających na dany rok kwot wyłączeń określonych w: art. 243 ust. 3 pkt 1 ustawy (lub art. 169 ust. 3 pkt 1 ufp z 2005 r.), art. 121a ustawy  z dnia 27 sierpnia 2009 r. – Przepisy wprowadzające ustawę o finansach publicznych  (Dz. U. Nr 157, poz. 1241, z późn. zm.) oraz art.  36 ustawy z dnia 7 grudnia 2012 r. o zmianie niektórych ustaw związanych z realizacją ustawy budżetowej (Dz.U. poz. 1456)","rokwzgl=0 i lp=320","rokwzgl=0 i lp=320","rokwzgl=1 i lp=320","rokwzgl=2 i lp=320","rokwzgl=3 i lp=320","rokwzgl=4 i lp=320","rokwzgl=5 i lp=320","rokwzgl=6 i lp=320","rokwzgl=7 i lp=320","rokwzgl=8 i lp=320","rokwzgl=9 i lp=320","rokwzgl=10 i lp=320","rokwzgl=11 i lp=320","rokwzgl=12 i lp=320","rokwzgl=13 i lp=320","rokwzgl=14 i lp=320","rokwzgl=15 i lp=320","rokwzgl=16 i lp=320","rokwzgl=17 i lp=320","rokwzgl=18 i lp=320","rokwzgl=19 i lp=320","rokwzgl=20 i lp=320","rokwzgl=21 i lp=320","rokwzgl=22 i lp=320","rokwzgl=23 i lp=320","rokwzgl=24 i lp=320","rokwzgl=25 i lp=320","rokwzgl=26 i lp=320","rokwzgl=27 i lp=320","rokwzgl=28 i lp=320","rokwzgl=29 i lp=320"]
[330,"5.1.1.1","   w tym kwota przypadających na dany rok kwot wyłączeń określonych w art. 243 ust. 3 pkt 1 ustawy lub art. 169 ust. 3 pkt 1 ufp z 2005 r.","rokwzgl=0 i lp=330","rokwzgl=0 i lp=330","rokwzgl=1 i lp=330","rokwzgl=2 i lp=330","rokwzgl=3 i lp=330","rokwzgl=4 i lp=330","rokwzgl=5 i lp=330","rokwzgl=6 i lp=330","rokwzgl=7 i lp=330","rokwzgl=8 i lp=330","rokwzgl=9 i lp=330","rokwzgl=10 i lp=330","rokwzgl=11 i lp=330","rokwzgl=12 i lp=330","rokwzgl=13 i lp=330","rokwzgl=14 i lp=330","rokwzgl=15 i lp=330","rokwzgl=16 i lp=330","rokwzgl=17 i lp=330","rokwzgl=18 i lp=330","rokwzgl=19 i lp=330","rokwzgl=20 i lp=330","rokwzgl=21 i lp=330","rokwzgl=22 i lp=330","rokwzgl=23 i lp=330","rokwzgl=24 i lp=330","rokwzgl=25 i lp=330","rokwzgl=26 i lp=330","rokwzgl=27 i lp=330","rokwzgl=28 i lp=330","rokwzgl=29 i lp=330"]
[340,5.2," Inne rozchody niezwiązane ze spłatą długu","rokwzgl=0 i lp=340","rokwzgl=0 i lp=340","rokwzgl=1 i lp=340","rokwzgl=2 i lp=340","rokwzgl=3 i lp=340","rokwzgl=4 i lp=340","rokwzgl=5 i lp=340","rokwzgl=6 i lp=340","rokwzgl=7 i lp=340","rokwzgl=8 i lp=340","rokwzgl=9 i lp=340","rokwzgl=10 i lp=340","rokwzgl=11 i lp=340","rokwzgl=12 i lp=340","rokwzgl=13 i lp=340","rokwzgl=14 i lp=340","rokwzgl=15 i lp=340","rokwzgl=16 i lp=340","rokwzgl=17 i lp=340","rokwzgl=18 i lp=340","rokwzgl=19 i lp=340","rokwzgl=20 i lp=340","rokwzgl=21 i lp=340","rokwzgl=22 i lp=340","rokwzgl=23 i lp=340","rokwzgl=24 i lp=340","rokwzgl=25 i lp=340","rokwzgl=26 i lp=340","rokwzgl=27 i lp=340","rokwzgl=28 i lp=340","rokwzgl=29 i lp=340"]
[350,6,"Kwota długu","rokwzgl=0 i lp=350","rokwzgl=0 i lp=350","rokwzgl=1 i lp=350","rokwzgl=2 i lp=350","rokwzgl=3 i lp=350","rokwzgl=4 i lp=350","rokwzgl=5 i lp=350","rokwzgl=6 i lp=350","rokwzgl=7 i lp=350","rokwzgl=8 i lp=350","rokwzgl=9 i lp=350","rokwzgl=10 i lp=350","rokwzgl=11 i lp=350","rokwzgl=12 i lp=350","rokwzgl=13 i lp=350","rokwzgl=14 i lp=350","rokwzgl=15 i lp=350","rokwzgl=16 i lp=350","rokwzgl=17 i lp=350","rokwzgl=18 i lp=350","rokwzgl=19 i lp=350","rokwzgl=20 i lp=350","rokwzgl=21 i lp=350","rokwzgl=22 i lp=350","rokwzgl=23 i lp=350","rokwzgl=24 i lp=350","rokwzgl=25 i lp=350","rokwzgl=26 i lp=350","rokwzgl=27 i lp=350","rokwzgl=28 i lp=350","rokwzgl=29 i lp=350"]
[360,6.1," Łączna kwota wyłączeń z ograniczeń długu określonych w art. 170 ust. 3 ufp z 2005 r. oraz w art.  36 ustawy o zmianie niektórych ustaw związanych z realizacją ustawy budżetowej, w tym: ","rokwzgl=0 i lp=360","rokwzgl=0 i lp=360","rokwzgl=1 i lp=360","rokwzgl=2 i lp=360","rokwzgl=3 i lp=360","rokwzgl=4 i lp=360","rokwzgl=5 i lp=360","rokwzgl=6 i lp=360","rokwzgl=7 i lp=360","rokwzgl=8 i lp=360","rokwzgl=9 i lp=360","rokwzgl=10 i lp=360","rokwzgl=11 i lp=360","rokwzgl=12 i lp=360","rokwzgl=13 i lp=360","rokwzgl=14 i lp=360","rokwzgl=15 i lp=360","rokwzgl=16 i lp=360","rokwzgl=17 i lp=360","rokwzgl=18 i lp=360","rokwzgl=19 i lp=360","rokwzgl=20 i lp=360","rokwzgl=21 i lp=360","rokwzgl=22 i lp=360","rokwzgl=23 i lp=360","rokwzgl=24 i lp=360","rokwzgl=25 i lp=360","rokwzgl=26 i lp=360","rokwzgl=27 i lp=360","rokwzgl=28 i lp=360","rokwzgl=29 i lp=360"]
[370,"6.1.1","   - kwota wyłączeń z ograniczeń długu określonych w art. 170 ust. 3 ufp z 2005 r. ","rokwzgl=0 i lp=370","rokwzgl=0 i lp=370","rokwzgl=1 i lp=370","rokwzgl=2 i lp=370","rokwzgl=3 i lp=370","rokwzgl=4 i lp=370","rokwzgl=5 i lp=370","rokwzgl=6 i lp=370","rokwzgl=7 i lp=370","rokwzgl=8 i lp=370","rokwzgl=9 i lp=370","rokwzgl=10 i lp=370","rokwzgl=11 i lp=370","rokwzgl=12 i lp=370","rokwzgl=13 i lp=370","rokwzgl=14 i lp=370","rokwzgl=15 i lp=370","rokwzgl=16 i lp=370","rokwzgl=17 i lp=370","rokwzgl=18 i lp=370","rokwzgl=19 i lp=370","rokwzgl=20 i lp=370","rokwzgl=21 i lp=370","rokwzgl=22 i lp=370","rokwzgl=23 i lp=370","rokwzgl=24 i lp=370","rokwzgl=25 i lp=370","rokwzgl=26 i lp=370","rokwzgl=27 i lp=370","rokwzgl=28 i lp=370","rokwzgl=29 i lp=370"]
[380,6.2," Wskaźnik zadłużenia do dochodów ogółem określony w art. 170 ufp z 2005 r., bez uwzględniania wyłączeń określonych w pkt 6.1.   ","rokwzgl=0 i lp=380","rokwzgl=0 i lp=380","rokwzgl=1 i lp=380","rokwzgl=2 i lp=380","rokwzgl=3 i lp=380","rokwzgl=4 i lp=380","rokwzgl=5 i lp=380","rokwzgl=6 i lp=380","rokwzgl=7 i lp=380","rokwzgl=8 i lp=380","rokwzgl=9 i lp=380","rokwzgl=10 i lp=380","rokwzgl=11 i lp=380","rokwzgl=12 i lp=380","rokwzgl=13 i lp=380","rokwzgl=14 i lp=380","rokwzgl=15 i lp=380","rokwzgl=16 i lp=380","rokwzgl=17 i lp=380","rokwzgl=18 i lp=380","rokwzgl=19 i lp=380","rokwzgl=20 i lp=380","rokwzgl=21 i lp=380","rokwzgl=22 i lp=380","rokwzgl=23 i lp=380","rokwzgl=24 i lp=380","rokwzgl=25 i lp=380","rokwzgl=26 i lp=380","rokwzgl=27 i lp=380","rokwzgl=28 i lp=380","rokwzgl=29 i lp=380"]
[390,6.3," Wskaźnik zadłużenia do dochodów ogółem, o którym mowa w art.  170 ufp z 2005 r., po uwzględnieniu wyłączeń określonych w pkt 6.1. ","rokwzgl=0 i lp=390","rokwzgl=0 i lp=390","rokwzgl=1 i lp=390","rokwzgl=2 i lp=390","rokwzgl=3 i lp=390","rokwzgl=4 i lp=390","rokwzgl=5 i lp=390","rokwzgl=6 i lp=390","rokwzgl=7 i lp=390","rokwzgl=8 i lp=390","rokwzgl=9 i lp=390","rokwzgl=10 i lp=390","rokwzgl=11 i lp=390","rokwzgl=12 i lp=390","rokwzgl=13 i lp=390","rokwzgl=14 i lp=390","rokwzgl=15 i lp=390","rokwzgl=16 i lp=390","rokwzgl=17 i lp=390","rokwzgl=18 i lp=390","rokwzgl=19 i lp=390","rokwzgl=20 i lp=390","rokwzgl=21 i lp=390","rokwzgl=22 i lp=390","rokwzgl=23 i lp=390","rokwzgl=24 i lp=390","rokwzgl=25 i lp=390","rokwzgl=26 i lp=390","rokwzgl=27 i lp=390","rokwzgl=28 i lp=390","rokwzgl=29 i lp=390"]
[400,7,"Kwota zobowiązań wynikających z przejęcia przez jednostkę samorządu terytorialnego zobowiązań po likwidowanych i przekształcanych jednostkach zaliczanych do sektora  finansów publicznych","rokwzgl=0 i lp=400","rokwzgl=0 i lp=400","rokwzgl=1 i lp=400","rokwzgl=2 i lp=400","rokwzgl=3 i lp=400","rokwzgl=4 i lp=400","rokwzgl=5 i lp=400","rokwzgl=6 i lp=400","rokwzgl=7 i lp=400","rokwzgl=8 i lp=400","rokwzgl=9 i lp=400","rokwzgl=10 i lp=400","rokwzgl=11 i lp=400","rokwzgl=12 i lp=400","rokwzgl=13 i lp=400","rokwzgl=14 i lp=400","rokwzgl=15 i lp=400","rokwzgl=16 i lp=400","rokwzgl=17 i lp=400","rokwzgl=18 i lp=400","rokwzgl=19 i lp=400","rokwzgl=20 i lp=400","rokwzgl=21 i lp=400","rokwzgl=22 i lp=400","rokwzgl=23 i lp=400","rokwzgl=24 i lp=400","rokwzgl=25 i lp=400","rokwzgl=26 i lp=400","rokwzgl=27 i lp=400","rokwzgl=28 i lp=400","rokwzgl=29 i lp=400"]
[410,null,null,{"$f":"+\"rokwzgl=\"&D$9&\" i lp=\"&$A50","v":"rokwzgl=0 i lp=410"},"rokwzgl=0 i lp=410","rokwzgl=1 i lp=410","rokwzgl=2 i lp=410","rokwzgl=3 i lp=410","rokwzgl=4 i lp=410","rokwzgl=5 i lp=410","rokwzgl=6 i lp=410","rokwzgl=7 i lp=410","rokwzgl=8 i lp=410",{"$f":"+\"rokwzgl=\"&N$9&\" i lp=\"&$A50","v":"rokwzgl=9 i lp=410"},"rokwzgl=10 i lp=410","rokwzgl=11 i lp=410","rokwzgl=12 i lp=410","rokwzgl=13 i lp=410","rokwzgl=14 i lp=410","rokwzgl=15 i lp=410","rokwzgl=16 i lp=410","rokwzgl=17 i lp=410","rokwzgl=18 i lp=410",{"$f":"+\"rokwzgl=\"&X$9&\" i lp=\"&$A50","v":"rokwzgl=19 i lp=410"},"rokwzgl=20 i lp=410","rokwzgl=21 i lp=410","rokwzgl=22 i lp=410","rokwzgl=23 i lp=410","rokwzgl=24 i lp=410","rokwzgl=25 i lp=410","rokwzgl=26 i lp=410","rokwzgl=27 i lp=410","rokwzgl=28 i lp=410","rokwzgl=29 i lp=410"]
[420,8.1," Różnica między dochodami bieżącymi a  wydatkami bieżącymi","rokwzgl=0 i lp=420","rokwzgl=0 i lp=420","rokwzgl=1 i lp=420","rokwzgl=2 i lp=420","rokwzgl=3 i lp=420","rokwzgl=4 i lp=420","rokwzgl=5 i lp=420","rokwzgl=6 i lp=420","rokwzgl=7 i lp=420","rokwzgl=8 i lp=420","rokwzgl=9 i lp=420","rokwzgl=10 i lp=420","rokwzgl=11 i lp=420","rokwzgl=12 i lp=420","rokwzgl=13 i lp=420","rokwzgl=14 i lp=420","rokwzgl=15 i lp=420","rokwzgl=16 i lp=420","rokwzgl=17 i lp=420","rokwzgl=18 i lp=420","rokwzgl=19 i lp=420","rokwzgl=20 i lp=420","rokwzgl=21 i lp=420","rokwzgl=22 i lp=420","rokwzgl=23 i lp=420","rokwzgl=24 i lp=420","rokwzgl=25 i lp=420","rokwzgl=26 i lp=420","rokwzgl=27 i lp=420","rokwzgl=28 i lp=420","rokwzgl=29 i lp=420"]
[430,8.1999999999999993," Różnica między dochodami bieżącymi, powiększonymi o nadwyżkę budżetową określoną w pkt 4.1. i wolne środki określone w pkt 4.2.  a wydatkami bieżącymi, pomniejszonym o wydatki określone w pkt  2.1.2.","rokwzgl=0 i lp=430","rokwzgl=0 i lp=430","rokwzgl=1 i lp=430","rokwzgl=2 i lp=430","rokwzgl=3 i lp=430","rokwzgl=4 i lp=430","rokwzgl=5 i lp=430","rokwzgl=6 i lp=430","rokwzgl=7 i lp=430","rokwzgl=8 i lp=430","rokwzgl=9 i lp=430","rokwzgl=10 i lp=430","rokwzgl=11 i lp=430","rokwzgl=12 i lp=430","rokwzgl=13 i lp=430","rokwzgl=14 i lp=430","rokwzgl=15 i lp=430","rokwzgl=16 i lp=430","rokwzgl=17 i lp=430","rokwzgl=18 i lp=430","rokwzgl=19 i lp=430","rokwzgl=20 i lp=430","rokwzgl=21 i lp=430","rokwzgl=22 i lp=430","rokwzgl=23 i lp=430","rokwzgl=24 i lp=430","rokwzgl=25 i lp=430","rokwzgl=26 i lp=430","rokwzgl=27 i lp=430","rokwzgl=28 i lp=430","rokwzgl=29 i lp=430"]
[440,null,null,"rokwzgl=0 i lp=440","rokwzgl=0 i lp=440","rokwzgl=1 i lp=440","rokwzgl=2 i lp=440","rokwzgl=3 i lp=440","rokwzgl=4 i lp=440","rokwzgl=5 i lp=440","rokwzgl=6 i lp=440","rokwzgl=7 i lp=440","rokwzgl=8 i lp=440","rokwzgl=9 i lp=440","rokwzgl=10 i lp=440","rokwzgl=11 i lp=440","rokwzgl=12 i lp=440","rokwzgl=13 i lp=440","rokwzgl=14 i lp=440","rokwzgl=15 i lp=440","rokwzgl=16 i lp=440","rokwzgl=17 i lp=440","rokwzgl=18 i lp=440","rokwzgl=19 i lp=440","rokwzgl=20 i lp=440","rokwzgl=21 i lp=440","rokwzgl=22 i lp=440","rokwzgl=23 i lp=440","rokwzgl=24 i lp=440","rokwzgl=25 i lp=440","rokwzgl=26 i lp=440","rokwzgl=27 i lp=440","rokwzgl=28 i lp=440","rokwzgl=29 i lp=440"]
[450,9.1," Wskaźnik planowanej łącznej kwoty spłaty zobowiązań, o której mowa w art. 169 ust. 1 ufp z 2005 r. do dochodów ogółem, bez uwzględnienia wyłączeń określonych w pkt 5.1.1.  ","rokwzgl=0 i lp=450","rokwzgl=0 i lp=450","rokwzgl=1 i lp=450","rokwzgl=2 i lp=450","rokwzgl=3 i lp=450","rokwzgl=4 i lp=450","rokwzgl=5 i lp=450","rokwzgl=6 i lp=450","rokwzgl=7 i lp=450","rokwzgl=8 i lp=450","rokwzgl=9 i lp=450","rokwzgl=10 i lp=450","rokwzgl=11 i lp=450","rokwzgl=12 i lp=450","rokwzgl=13 i lp=450","rokwzgl=14 i lp=450","rokwzgl=15 i lp=450","rokwzgl=16 i lp=450","rokwzgl=17 i lp=450","rokwzgl=18 i lp=450","rokwzgl=19 i lp=450","rokwzgl=20 i lp=450","rokwzgl=21 i lp=450","rokwzgl=22 i lp=450","rokwzgl=23 i lp=450","rokwzgl=24 i lp=450","rokwzgl=25 i lp=450","rokwzgl=26 i lp=450","rokwzgl=27 i lp=450","rokwzgl=28 i lp=450","rokwzgl=29 i lp=450"]
[460,9.1999999999999993," Wskaźnik planowanej łącznej kwoty spłaty zobowiązań, o której mowa w art. 169 ust. 1 ufp z 2005 r. do dochodów ogółem, po uwzględnieniu wyłączeń przypadających na dany rok określonych w pkt 5.1.1. ","rokwzgl=0 i lp=460","rokwzgl=0 i lp=460","rokwzgl=1 i lp=460","rokwzgl=2 i lp=460","rokwzgl=3 i lp=460","rokwzgl=4 i lp=460","rokwzgl=5 i lp=460","rokwzgl=6 i lp=460","rokwzgl=7 i lp=460","rokwzgl=8 i lp=460","rokwzgl=9 i lp=460","rokwzgl=10 i lp=460","rokwzgl=11 i lp=460","rokwzgl=12 i lp=460","rokwzgl=13 i lp=460","rokwzgl=14 i lp=460","rokwzgl=15 i lp=460","rokwzgl=16 i lp=460","rokwzgl=17 i lp=460","rokwzgl=18 i lp=460","rokwzgl=19 i lp=460","rokwzgl=20 i lp=460","rokwzgl=21 i lp=460","rokwzgl=22 i lp=460","rokwzgl=23 i lp=460","rokwzgl=24 i lp=460","rokwzgl=25 i lp=460","rokwzgl=26 i lp=460","rokwzgl=27 i lp=460","rokwzgl=28 i lp=460","rokwzgl=29 i lp=460"]
[470,9.3000000000000007,"Wskaźnik planowanej łącznej kwoty spłaty zobowiązań, o której mowa w art. 243 ust. 1 ustawy do dochodów ogółem, bez uwzględnienia zobowiązań związku współtworzonego przez jednostkę samorządu terytorialnego i bez uwzględniania wyłączeń przypadających na dany rok określonych w pkt 5.1.1.","rokwzgl=0 i lp=470","rokwzgl=0 i lp=470","rokwzgl=1 i lp=470","rokwzgl=2 i lp=470","rokwzgl=3 i lp=470","rokwzgl=4 i lp=470","rokwzgl=5 i lp=470","rokwzgl=6 i lp=470","rokwzgl=7 i lp=470","rokwzgl=8 i lp=470","rokwzgl=9 i lp=470","rokwzgl=10 i lp=470","rokwzgl=11 i lp=470","rokwzgl=12 i lp=470","rokwzgl=13 i lp=470","rokwzgl=14 i lp=470","rokwzgl=15 i lp=470","rokwzgl=16 i lp=470","rokwzgl=17 i lp=470","rokwzgl=18 i lp=470","rokwzgl=19 i lp=470","rokwzgl=20 i lp=470","rokwzgl=21 i lp=470","rokwzgl=22 i lp=470","rokwzgl=23 i lp=470","rokwzgl=24 i lp=470","rokwzgl=25 i lp=470","rokwzgl=26 i lp=470","rokwzgl=27 i lp=470","rokwzgl=28 i lp=470","rokwzgl=29 i lp=470"]
[480,9.4," Wskaźnik planowanej łącznej kwoty spłaty zobowiązań, o której mowa w art. 243 ust. 1 ustawy do dochodów ogółem, bez uwzględnienia zobowiązań związku współtworzonego przez jednostkę samorządu terytorialnego, po uwzględnieniu wyłączeń przypadających na dany rok określonych w pkt 5.1.1. ","rokwzgl=0 i lp=480","rokwzgl=0 i lp=480","rokwzgl=1 i lp=480","rokwzgl=2 i lp=480","rokwzgl=3 i lp=480","rokwzgl=4 i lp=480","rokwzgl=5 i lp=480","rokwzgl=6 i lp=480","rokwzgl=7 i lp=480","rokwzgl=8 i lp=480","rokwzgl=9 i lp=480","rokwzgl=10 i lp=480","rokwzgl=11 i lp=480","rokwzgl=12 i lp=480","rokwzgl=13 i lp=480","rokwzgl=14 i lp=480","rokwzgl=15 i lp=480","rokwzgl=16 i lp=480","rokwzgl=17 i lp=480","rokwzgl=18 i lp=480","rokwzgl=19 i lp=480","rokwzgl=20 i lp=480","rokwzgl=21 i lp=480","rokwzgl=22 i lp=480","rokwzgl=23 i lp=480","rokwzgl=24 i lp=480","rokwzgl=25 i lp=480","rokwzgl=26 i lp=480","rokwzgl=27 i lp=480","rokwzgl=28 i lp=480","rokwzgl=29 i lp=480"]
[490,9.5," Kwota zobowiązań związku współtworzonego przez jednostkę samorządu terytorialnego przypadających do spłaty w danym roku budżetowym, podlegająca doliczeniu zgodnie z art. 244 ustawy ","rokwzgl=0 i lp=490","rokwzgl=0 i lp=490","rokwzgl=1 i lp=490","rokwzgl=2 i lp=490","rokwzgl=3 i lp=490","rokwzgl=4 i lp=490","rokwzgl=5 i lp=490","rokwzgl=6 i lp=490","rokwzgl=7 i lp=490","rokwzgl=8 i lp=490","rokwzgl=9 i lp=490","rokwzgl=10 i lp=490","rokwzgl=11 i lp=490","rokwzgl=12 i lp=490","rokwzgl=13 i lp=490","rokwzgl=14 i lp=490","rokwzgl=15 i lp=490","rokwzgl=16 i lp=490","rokwzgl=17 i lp=490","rokwzgl=18 i lp=490","rokwzgl=19 i lp=490","rokwzgl=20 i lp=490","rokwzgl=21 i lp=490","rokwzgl=22 i lp=490","rokwzgl=23 i lp=490","rokwzgl=24 i lp=490","rokwzgl=25 i lp=490","rokwzgl=26 i lp=490","rokwzgl=27 i lp=490","rokwzgl=28 i lp=490","rokwzgl=29 i lp=490"]
[500,9.6," Wskaźnik planowanej łącznej kwoty spłaty zobowiązań, o której mowa w art. 243 ust. 1 ustawy do dochodów ogółem, po uwzględnieniu zobowiązań związku współtworzonego przez jednostkę samorządu terytorialnego oraz po uwzględnieniu wyłączeń przypadających na dany rok określonych w pkt 5.1.1.","rokwzgl=0 i lp=500","rokwzgl=0 i lp=500","rokwzgl=1 i lp=500","rokwzgl=2 i lp=500","rokwzgl=3 i lp=500","rokwzgl=4 i lp=500","rokwzgl=5 i lp=500","rokwzgl=6 i lp=500","rokwzgl=7 i lp=500","rokwzgl=8 i lp=500","rokwzgl=9 i lp=500","rokwzgl=10 i lp=500","rokwzgl=11 i lp=500","rokwzgl=12 i lp=500","rokwzgl=13 i lp=500","rokwzgl=14 i lp=500","rokwzgl=15 i lp=500","rokwzgl=16 i lp=500","rokwzgl=17 i lp=500","rokwzgl=18 i lp=500","rokwzgl=19 i lp=500","rokwzgl=20 i lp=500","rokwzgl=21 i lp=500","rokwzgl=22 i lp=500","rokwzgl=23 i lp=500","rokwzgl=24 i lp=500","rokwzgl=25 i lp=500","rokwzgl=26 i lp=500","rokwzgl=27 i lp=500","rokwzgl=28 i lp=500","rokwzgl=29 i lp=500"]
[505,"9.6.1"," Wskaźnik jednoroczny",{"$f":"+\"rokwzgl=\"&D$9&\" i lp=\"&$A60","v":"rokwzgl=0 i lp=505"},"rokwzgl=0 i lp=505","rokwzgl=1 i lp=505","rokwzgl=2 i lp=505","rokwzgl=3 i lp=505","rokwzgl=4 i lp=505","rokwzgl=5 i lp=505","rokwzgl=6 i lp=505","rokwzgl=7 i lp=505","rokwzgl=8 i lp=505",{"$f":"+\"rokwzgl=\"&N$9&\" i lp=\"&$A60","v":"rokwzgl=9 i lp=505"},"rokwzgl=10 i lp=505","rokwzgl=11 i lp=505","rokwzgl=12 i lp=505","rokwzgl=13 i lp=505","rokwzgl=14 i lp=505","rokwzgl=15 i lp=505","rokwzgl=16 i lp=505","rokwzgl=17 i lp=505","rokwzgl=18 i lp=505",{"$f":"+\"rokwzgl=\"&X$9&\" i lp=\"&$A60","v":"rokwzgl=19 i lp=505"},"rokwzgl=20 i lp=505","rokwzgl=21 i lp=505","rokwzgl=22 i lp=505","rokwzgl=23 i lp=505","rokwzgl=24 i lp=505","rokwzgl=25 i lp=505","rokwzgl=26 i lp=505","rokwzgl=27 i lp=505","rokwzgl=28 i lp=505","rokwzgl=29 i lp=505"]
[510,9.6999999999999993," Dopuszczalny wskaźnik spłaty zobowiązań określony w art. 243 ustawy, po uwzględnieniu wyłączeń określonych w art.  36 ustawy z dnia 7 grudnia 2012 r. o zmianie niektórych ustaw związanych z realizacją ustawy budżetowej, obliczony w oparciu o plan 3 kwartałów roku poprzedzającego rok budżetowy","rokwzgl=0 i lp=510","rokwzgl=0 i lp=510","rokwzgl=1 i lp=510","rokwzgl=2 i lp=510","rokwzgl=3 i lp=510","rokwzgl=4 i lp=510","rokwzgl=5 i lp=510","rokwzgl=6 i lp=510","rokwzgl=7 i lp=510","rokwzgl=8 i lp=510","rokwzgl=9 i lp=510","rokwzgl=10 i lp=510","rokwzgl=11 i lp=510","rokwzgl=12 i lp=510","rokwzgl=13 i lp=510","rokwzgl=14 i lp=510","rokwzgl=15 i lp=510","rokwzgl=16 i lp=510","rokwzgl=17 i lp=510","rokwzgl=18 i lp=510","rokwzgl=19 i lp=510","rokwzgl=20 i lp=510","rokwzgl=21 i lp=510","rokwzgl=22 i lp=510","rokwzgl=23 i lp=510","rokwzgl=24 i lp=510","rokwzgl=25 i lp=510","rokwzgl=26 i lp=510","rokwzgl=27 i lp=510","rokwzgl=28 i lp=510","rokwzgl=29 i lp=510"]
[520,"9.7.1","  Dopuszczalny wskaźnik spłaty zobowiązań określony w art. 243 ustawy, po uwzględnieniu wyłączeń określonych w art.  36 ustawy z dnia 7 grudnia 2012 r. o zmianie niektórych ustaw związanych z realizacją ustawy budżetowej, obliczony w oparciu o wykonanie roku poprzedzającego rok budżetowy","rokwzgl=0 i lp=520","rokwzgl=0 i lp=520","rokwzgl=1 i lp=520","rokwzgl=2 i lp=520","rokwzgl=3 i lp=520","rokwzgl=4 i lp=520","rokwzgl=5 i lp=520","rokwzgl=6 i lp=520","rokwzgl=7 i lp=520","rokwzgl=8 i lp=520","rokwzgl=9 i lp=520","rokwzgl=10 i lp=520","rokwzgl=11 i lp=520","rokwzgl=12 i lp=520","rokwzgl=13 i lp=520","rokwzgl=14 i lp=520","rokwzgl=15 i lp=520","rokwzgl=16 i lp=520","rokwzgl=17 i lp=520","rokwzgl=18 i lp=520","rokwzgl=19 i lp=520","rokwzgl=20 i lp=520","rokwzgl=21 i lp=520","rokwzgl=22 i lp=520","rokwzgl=23 i lp=520","rokwzgl=24 i lp=520","rokwzgl=25 i lp=520","rokwzgl=26 i lp=520","rokwzgl=27 i lp=520","rokwzgl=28 i lp=520","rokwzgl=29 i lp=520"]
[530,9.8000000000000007," Informacja o spełnieniu wskaźnika spłaty zobowiązań określonego w art. 243 ustawy, po uwzględnieniu zobowiązań związku współtworzonego przez jednostkę samorządu terytorialnego oraz po uwzględnieniu wyłączeń określonych w pkt 5.1.1., obliczonego w oparciu o plan 3 kwartałów roku poprzedzającego rok budżetowy","rokwzgl=0 i lp=530","rokwzgl=0 i lp=530","rokwzgl=1 i lp=530","rokwzgl=2 i lp=530","rokwzgl=3 i lp=530","rokwzgl=4 i lp=530","rokwzgl=5 i lp=530","rokwzgl=6 i lp=530","rokwzgl=7 i lp=530","rokwzgl=8 i lp=530","rokwzgl=9 i lp=530","rokwzgl=10 i lp=530","rokwzgl=11 i lp=530","rokwzgl=12 i lp=530","rokwzgl=13 i lp=530","rokwzgl=14 i lp=530","rokwzgl=15 i lp=530","rokwzgl=16 i lp=530","rokwzgl=17 i lp=530","rokwzgl=18 i lp=530","rokwzgl=19 i lp=530","rokwzgl=20 i lp=530","rokwzgl=21 i lp=530","rokwzgl=22 i lp=530","rokwzgl=23 i lp=530","rokwzgl=24 i lp=530","rokwzgl=25 i lp=530","rokwzgl=26 i lp=530","rokwzgl=27 i lp=530","rokwzgl=28 i lp=530","rokwzgl=29 i lp=530"]
[540,"9.8.1","  Informacja o spełnieniu wskaźnika spłaty zobowiązań określonego w art. 243 ustawy, po uwzględnieniu zobowiązań związku współtworzonego przez jednostkę samorządu terytorialnego oraz po uwzględnieniu wyłączeń określonych w pkt 5.1.1., obliczonego w oparciu o wykonanie roku poprzedzającego rok budżetowy","rokwzgl=0 i lp=540","rokwzgl=0 i lp=540","rokwzgl=1 i lp=540","rokwzgl=2 i lp=540","rokwzgl=3 i lp=540","rokwzgl=4 i lp=540","rokwzgl=5 i lp=540","rokwzgl=6 i lp=540","rokwzgl=7 i lp=540","rokwzgl=8 i lp=540","rokwzgl=9 i lp=540","rokwzgl=10 i lp=540","rokwzgl=11 i lp=540","rokwzgl=12 i lp=540","rokwzgl=13 i lp=540","rokwzgl=14 i lp=540","rokwzgl=15 i lp=540","rokwzgl=16 i lp=540","rokwzgl=17 i lp=540","rokwzgl=18 i lp=540","rokwzgl=19 i lp=540","rokwzgl=20 i lp=540","rokwzgl=21 i lp=540","rokwzgl=22 i lp=540","rokwzgl=23 i lp=540","rokwzgl=24 i lp=540","rokwzgl=25 i lp=540","rokwzgl=26 i lp=540","rokwzgl=27 i lp=540","rokwzgl=28 i lp=540","rokwzgl=29 i lp=540"]
[550,10,"Przeznaczenie prognozowanej nadwyżki budżetowej,  w tym na:","rokwzgl=0 i lp=550","rokwzgl=0 i lp=550","rokwzgl=1 i lp=550","rokwzgl=2 i lp=550","rokwzgl=3 i lp=550","rokwzgl=4 i lp=550","rokwzgl=5 i lp=550","rokwzgl=6 i lp=550","rokwzgl=7 i lp=550","rokwzgl=8 i lp=550","rokwzgl=9 i lp=550","rokwzgl=10 i lp=550","rokwzgl=11 i lp=550","rokwzgl=12 i lp=550","rokwzgl=13 i lp=550","rokwzgl=14 i lp=550","rokwzgl=15 i lp=550","rokwzgl=16 i lp=550","rokwzgl=17 i lp=550","rokwzgl=18 i lp=550","rokwzgl=19 i lp=550","rokwzgl=20 i lp=550","rokwzgl=21 i lp=550","rokwzgl=22 i lp=550","rokwzgl=23 i lp=550","rokwzgl=24 i lp=550","rokwzgl=25 i lp=550","rokwzgl=26 i lp=550","rokwzgl=27 i lp=550","rokwzgl=28 i lp=550","rokwzgl=29 i lp=550"]
[560,10.1," Spłaty kredytów, pożyczek i wykup papierów wartościowych","rokwzgl=0 i lp=560","rokwzgl=0 i lp=560","rokwzgl=1 i lp=560","rokwzgl=2 i lp=560","rokwzgl=3 i lp=560","rokwzgl=4 i lp=560","rokwzgl=5 i lp=560","rokwzgl=6 i lp=560","rokwzgl=7 i lp=560","rokwzgl=8 i lp=560","rokwzgl=9 i lp=560","rokwzgl=10 i lp=560","rokwzgl=11 i lp=560","rokwzgl=12 i lp=560","rokwzgl=13 i lp=560","rokwzgl=14 i lp=560","rokwzgl=15 i lp=560","rokwzgl=16 i lp=560","rokwzgl=17 i lp=560","rokwzgl=18 i lp=560","rokwzgl=19 i lp=560","rokwzgl=20 i lp=560","rokwzgl=21 i lp=560","rokwzgl=22 i lp=560","rokwzgl=23 i lp=560","rokwzgl=24 i lp=560","rokwzgl=25 i lp=560","rokwzgl=26 i lp=560","rokwzgl=27 i lp=560","rokwzgl=28 i lp=560","rokwzgl=29 i lp=560"]
[570,11,"Informacje uzupełniające o wybranych rodzajach wydatków budżetowych","rokwzgl=0 i lp=570","rokwzgl=0 i lp=570","rokwzgl=1 i lp=570","rokwzgl=2 i lp=570","rokwzgl=3 i lp=570","rokwzgl=4 i lp=570","rokwzgl=5 i lp=570","rokwzgl=6 i lp=570","rokwzgl=7 i lp=570","rokwzgl=8 i lp=570","rokwzgl=9 i lp=570","rokwzgl=10 i lp=570","rokwzgl=11 i lp=570","rokwzgl=12 i lp=570","rokwzgl=13 i lp=570","rokwzgl=14 i lp=570","rokwzgl=15 i lp=570","rokwzgl=16 i lp=570","rokwzgl=17 i lp=570","rokwzgl=18 i lp=570","rokwzgl=19 i lp=570","rokwzgl=20 i lp=570","rokwzgl=21 i lp=570","rokwzgl=22 i lp=570","rokwzgl=23 i lp=570","rokwzgl=24 i lp=570","rokwzgl=25 i lp=570","rokwzgl=26 i lp=570","rokwzgl=27 i lp=570","rokwzgl=28 i lp=570","rokwzgl=29 i lp=570"]
[580,11.1," Wydatki bieżące na wynagrodzenia i składki od nich naliczane","rokwzgl=0 i lp=580","rokwzgl=0 i lp=580","rokwzgl=1 i lp=580","rokwzgl=2 i lp=580","rokwzgl=3 i lp=580","rokwzgl=4 i lp=580","rokwzgl=5 i lp=580","rokwzgl=6 i lp=580","rokwzgl=7 i lp=580","rokwzgl=8 i lp=580","rokwzgl=9 i lp=580","rokwzgl=10 i lp=580","rokwzgl=11 i lp=580","rokwzgl=12 i lp=580","rokwzgl=13 i lp=580","rokwzgl=14 i lp=580","rokwzgl=15 i lp=580","rokwzgl=16 i lp=580","rokwzgl=17 i lp=580","rokwzgl=18 i lp=580","rokwzgl=19 i lp=580","rokwzgl=20 i lp=580","rokwzgl=21 i lp=580","rokwzgl=22 i lp=580","rokwzgl=23 i lp=580","rokwzgl=24 i lp=580","rokwzgl=25 i lp=580","rokwzgl=26 i lp=580","rokwzgl=27 i lp=580","rokwzgl=28 i lp=580","rokwzgl=29 i lp=580"]
[590,11.2," Wydatki związane z funkcjonowaniem organów jednostki samorządu terytorialnego","rokwzgl=0 i lp=590","rokwzgl=0 i lp=590","rokwzgl=1 i lp=590","rokwzgl=2 i lp=590","rokwzgl=3 i lp=590","rokwzgl=4 i lp=590","rokwzgl=5 i lp=590","rokwzgl=6 i lp=590","rokwzgl=7 i lp=590","rokwzgl=8 i lp=590","rokwzgl=9 i lp=590","rokwzgl=10 i lp=590","rokwzgl=11 i lp=590","rokwzgl=12 i lp=590","rokwzgl=13 i lp=590","rokwzgl=14 i lp=590","rokwzgl=15 i lp=590","rokwzgl=16 i lp=590","rokwzgl=17 i lp=590","rokwzgl=18 i lp=590","rokwzgl=19 i lp=590","rokwzgl=20 i lp=590","rokwzgl=21 i lp=590","rokwzgl=22 i lp=590","rokwzgl=23 i lp=590","rokwzgl=24 i lp=590","rokwzgl=25 i lp=590","rokwzgl=26 i lp=590","rokwzgl=27 i lp=590","rokwzgl=28 i lp=590","rokwzgl=29 i lp=590"]
[600,11.3," Wydatki objęte limitem art. 226 ust. 3 ustawy",{"$f":"+\"rokwzgl=\"&D$9&\" i lp=\"&$A70","v":"rokwzgl=0 i lp=600"},"rokwzgl=0 i lp=600","rokwzgl=1 i lp=600","rokwzgl=2 i lp=600","rokwzgl=3 i lp=600","rokwzgl=4 i lp=600","rokwzgl=5 i lp=600","rokwzgl=6 i lp=600","rokwzgl=7 i lp=600","rokwzgl=8 i lp=600",{"$f":"+\"rokwzgl=\"&N$9&\" i lp=\"&$A70","v":"rokwzgl=9 i lp=600"},"rokwzgl=10 i lp=600","rokwzgl=11 i lp=600","rokwzgl=12 i lp=600","rokwzgl=13 i lp=600","rokwzgl=14 i lp=600","rokwzgl=15 i lp=600","rokwzgl=16 i lp=600","rokwzgl=17 i lp=600","rokwzgl=18 i lp=600",{"$f":"+\"rokwzgl=\"&X$9&\" i lp=\"&$A70","v":"rokwzgl=19 i lp=600"},"rokwzgl=20 i lp=600","rokwzgl=21 i lp=600","rokwzgl=22 i lp=600","rokwzgl=23 i lp=600","rokwzgl=24 i lp=600","rokwzgl=25 i lp=600","rokwzgl=26 i lp=600","rokwzgl=27 i lp=600","rokwzgl=28 i lp=600","rokwzgl=29 i lp=600"]
[610,"11.3.1","   bieżące","rokwzgl=0 i lp=610","rokwzgl=0 i lp=610","rokwzgl=1 i lp=610","rokwzgl=2 i lp=610","rokwzgl=3 i lp=610","rokwzgl=4 i lp=610","rokwzgl=5 i lp=610","rokwzgl=6 i lp=610","rokwzgl=7 i lp=610","rokwzgl=8 i lp=610","rokwzgl=9 i lp=610","rokwzgl=10 i lp=610","rokwzgl=11 i lp=610","rokwzgl=12 i lp=610","rokwzgl=13 i lp=610","rokwzgl=14 i lp=610","rokwzgl=15 i lp=610","rokwzgl=16 i lp=610","rokwzgl=17 i lp=610","rokwzgl=18 i lp=610","rokwzgl=19 i lp=610","rokwzgl=20 i lp=610","rokwzgl=21 i lp=610","rokwzgl=22 i lp=610","rokwzgl=23 i lp=610","rokwzgl=24 i lp=610","rokwzgl=25 i lp=610","rokwzgl=26 i lp=610","rokwzgl=27 i lp=610","rokwzgl=28 i lp=610","rokwzgl=29 i lp=610"]
[620,"11.3.2","   majątkowe","rokwzgl=0 i lp=620","rokwzgl=0 i lp=620","rokwzgl=1 i lp=620","rokwzgl=2 i lp=620","rokwzgl=3 i lp=620","rokwzgl=4 i lp=620","rokwzgl=5 i lp=620","rokwzgl=6 i lp=620","rokwzgl=7 i lp=620","rokwzgl=8 i lp=620","rokwzgl=9 i lp=620","rokwzgl=10 i lp=620","rokwzgl=11 i lp=620","rokwzgl=12 i lp=620","rokwzgl=13 i lp=620","rokwzgl=14 i lp=620","rokwzgl=15 i lp=620","rokwzgl=16 i lp=620","rokwzgl=17 i lp=620","rokwzgl=18 i lp=620","rokwzgl=19 i lp=620","rokwzgl=20 i lp=620","rokwzgl=21 i lp=620","rokwzgl=22 i lp=620","rokwzgl=23 i lp=620","rokwzgl=24 i lp=620","rokwzgl=25 i lp=620","rokwzgl=26 i lp=620","rokwzgl=27 i lp=620","rokwzgl=28 i lp=620","rokwzgl=29 i lp=620"]
[630,11.4," Wydatki inwestycyjne kontynuowane ","rokwzgl=0 i lp=630","rokwzgl=0 i lp=630","rokwzgl=1 i lp=630","rokwzgl=2 i lp=630","rokwzgl=3 i lp=630","rokwzgl=4 i lp=630","rokwzgl=5 i lp=630","rokwzgl=6 i lp=630","rokwzgl=7 i lp=630","rokwzgl=8 i lp=630","rokwzgl=9 i lp=630","rokwzgl=10 i lp=630","rokwzgl=11 i lp=630","rokwzgl=12 i lp=630","rokwzgl=13 i lp=630","rokwzgl=14 i lp=630","rokwzgl=15 i lp=630","rokwzgl=16 i lp=630","rokwzgl=17 i lp=630","rokwzgl=18 i lp=630","rokwzgl=19 i lp=630","rokwzgl=20 i lp=630","rokwzgl=21 i lp=630","rokwzgl=22 i lp=630","rokwzgl=23 i lp=630","rokwzgl=24 i lp=630","rokwzgl=25 i lp=630","rokwzgl=26 i lp=630","rokwzgl=27 i lp=630","rokwzgl=28 i lp=630","rokwzgl=29 i lp=630"]
[640,11.5," Nowe wydatki inwestycyjne","rokwzgl=0 i lp=640","rokwzgl=0 i lp=640","rokwzgl=1 i lp=640","rokwzgl=2 i lp=640","rokwzgl=3 i lp=640","rokwzgl=4 i lp=640","rokwzgl=5 i lp=640","rokwzgl=6 i lp=640","rokwzgl=7 i lp=640","rokwzgl=8 i lp=640","rokwzgl=9 i lp=640","rokwzgl=10 i lp=640","rokwzgl=11 i lp=640","rokwzgl=12 i lp=640","rokwzgl=13 i lp=640","rokwzgl=14 i lp=640","rokwzgl=15 i lp=640","rokwzgl=16 i lp=640","rokwzgl=17 i lp=640","rokwzgl=18 i lp=640","rokwzgl=19 i lp=640","rokwzgl=20 i lp=640","rokwzgl=21 i lp=640","rokwzgl=22 i lp=640","rokwzgl=23 i lp=640","rokwzgl=24 i lp=640","rokwzgl=25 i lp=640","rokwzgl=26 i lp=640","rokwzgl=27 i lp=640","rokwzgl=28 i lp=640","rokwzgl=29 i lp=640"]
[650,11.6," Wydatki majątkowe w formie dotacji ","rokwzgl=0 i lp=650","rokwzgl=0 i lp=650","rokwzgl=1 i lp=650","rokwzgl=2 i lp=650","rokwzgl=3 i lp=650","rokwzgl=4 i lp=650","rokwzgl=5 i lp=650","rokwzgl=6 i lp=650","rokwzgl=7 i lp=650","rokwzgl=8 i lp=650","rokwzgl=9 i lp=650","rokwzgl=10 i lp=650","rokwzgl=11 i lp=650","rokwzgl=12 i lp=650","rokwzgl=13 i lp=650","rokwzgl=14 i lp=650","rokwzgl=15 i lp=650","rokwzgl=16 i lp=650","rokwzgl=17 i lp=650","rokwzgl=18 i lp=650","rokwzgl=19 i lp=650","rokwzgl=20 i lp=650","rokwzgl=21 i lp=650","rokwzgl=22 i lp=650","rokwzgl=23 i lp=650","rokwzgl=24 i lp=650","rokwzgl=25 i lp=650","rokwzgl=26 i lp=650","rokwzgl=27 i lp=650","rokwzgl=28 i lp=650","rokwzgl=29 i lp=650"]
[660,12,"Finansowanie programów, projektów lub zadań realizowanych z udziałem środków, o których mowa w art. 5 ust. 1 pkt 2 i 3 ustawy","rokwzgl=0 i lp=660","rokwzgl=0 i lp=660","rokwzgl=1 i lp=660","rokwzgl=2 i lp=660","rokwzgl=3 i lp=660","rokwzgl=4 i lp=660","rokwzgl=5 i lp=660","rokwzgl=6 i lp=660","rokwzgl=7 i lp=660","rokwzgl=8 i lp=660","rokwzgl=9 i lp=660","rokwzgl=10 i lp=660","rokwzgl=11 i lp=660","rokwzgl=12 i lp=660","rokwzgl=13 i lp=660","rokwzgl=14 i lp=660","rokwzgl=15 i lp=660","rokwzgl=16 i lp=660","rokwzgl=17 i lp=660","rokwzgl=18 i lp=660","rokwzgl=19 i lp=660","rokwzgl=20 i lp=660","rokwzgl=21 i lp=660","rokwzgl=22 i lp=660","rokwzgl=23 i lp=660","rokwzgl=24 i lp=660","rokwzgl=25 i lp=660","rokwzgl=26 i lp=660","rokwzgl=27 i lp=660","rokwzgl=28 i lp=660","rokwzgl=29 i lp=660"]
[670,12.1," Dochody bieżące  na programy, projekty lub zadania finansowane z udziałem środków, o których mowa w art. 5 ust. 1 pkt 2 i 3 ustawy","rokwzgl=0 i lp=670","rokwzgl=0 i lp=670","rokwzgl=1 i lp=670","rokwzgl=2 i lp=670","rokwzgl=3 i lp=670","rokwzgl=4 i lp=670","rokwzgl=5 i lp=670","rokwzgl=6 i lp=670","rokwzgl=7 i lp=670","rokwzgl=8 i lp=670","rokwzgl=9 i lp=670","rokwzgl=10 i lp=670","rokwzgl=11 i lp=670","rokwzgl=12 i lp=670","rokwzgl=13 i lp=670","rokwzgl=14 i lp=670","rokwzgl=15 i lp=670","rokwzgl=16 i lp=670","rokwzgl=17 i lp=670","rokwzgl=18 i lp=670","rokwzgl=19 i lp=670","rokwzgl=20 i lp=670","rokwzgl=21 i lp=670","rokwzgl=22 i lp=670","rokwzgl=23 i lp=670","rokwzgl=24 i lp=670","rokwzgl=25 i lp=670","rokwzgl=26 i lp=670","rokwzgl=27 i lp=670","rokwzgl=28 i lp=670","rokwzgl=29 i lp=670"]
[680,"12.1.1","  -  w tym środki określone w art. 5 ust. 1 pkt 2 ustawy","rokwzgl=0 i lp=680","rokwzgl=0 i lp=680","rokwzgl=1 i lp=680","rokwzgl=2 i lp=680","rokwzgl=3 i lp=680","rokwzgl=4 i lp=680","rokwzgl=5 i lp=680","rokwzgl=6 i lp=680","rokwzgl=7 i lp=680","rokwzgl=8 i lp=680","rokwzgl=9 i lp=680","rokwzgl=10 i lp=680","rokwzgl=11 i lp=680","rokwzgl=12 i lp=680","rokwzgl=13 i lp=680","rokwzgl=14 i lp=680","rokwzgl=15 i lp=680","rokwzgl=16 i lp=680","rokwzgl=17 i lp=680","rokwzgl=18 i lp=680","rokwzgl=19 i lp=680","rokwzgl=20 i lp=680","rokwzgl=21 i lp=680","rokwzgl=22 i lp=680","rokwzgl=23 i lp=680","rokwzgl=24 i lp=680","rokwzgl=25 i lp=680","rokwzgl=26 i lp=680","rokwzgl=27 i lp=680","rokwzgl=28 i lp=680","rokwzgl=29 i lp=680"]
[690,"12.1.1.1","   - w tym środki określone w art. 5 ust. 1 pkt 2 ustawy wynikające wyłącznie z  zawartych umów na realizację programu, projektu lub zadania","rokwzgl=0 i lp=690","rokwzgl=0 i lp=690","rokwzgl=1 i lp=690","rokwzgl=2 i lp=690","rokwzgl=3 i lp=690","rokwzgl=4 i lp=690","rokwzgl=5 i lp=690","rokwzgl=6 i lp=690","rokwzgl=7 i lp=690","rokwzgl=8 i lp=690","rokwzgl=9 i lp=690","rokwzgl=10 i lp=690","rokwzgl=11 i lp=690","rokwzgl=12 i lp=690","rokwzgl=13 i lp=690","rokwzgl=14 i lp=690","rokwzgl=15 i lp=690","rokwzgl=16 i lp=690","rokwzgl=17 i lp=690","rokwzgl=18 i lp=690","rokwzgl=19 i lp=690","rokwzgl=20 i lp=690","rokwzgl=21 i lp=690","rokwzgl=22 i lp=690","rokwzgl=23 i lp=690","rokwzgl=24 i lp=690","rokwzgl=25 i lp=690","rokwzgl=26 i lp=690","rokwzgl=27 i lp=690","rokwzgl=28 i lp=690","rokwzgl=29 i lp=690"]
[700,12.2," Dochody majątkowe  na programy, projekty lub zadania finansowane z udziałem środków, o których mowa w art. 5 ust. 1 pkt 2 i 3 ustawy",{"$f":"+\"rokwzgl=\"&D$9&\" i lp=\"&$A80","v":"rokwzgl=0 i lp=700"},"rokwzgl=0 i lp=700","rokwzgl=1 i lp=700","rokwzgl=2 i lp=700","rokwzgl=3 i lp=700","rokwzgl=4 i lp=700","rokwzgl=5 i lp=700","rokwzgl=6 i lp=700","rokwzgl=7 i lp=700","rokwzgl=8 i lp=700",{"$f":"+\"rokwzgl=\"&N$9&\" i lp=\"&$A80","v":"rokwzgl=9 i lp=700"},"rokwzgl=10 i lp=700","rokwzgl=11 i lp=700","rokwzgl=12 i lp=700","rokwzgl=13 i lp=700","rokwzgl=14 i lp=700","rokwzgl=15 i lp=700","rokwzgl=16 i lp=700","rokwzgl=17 i lp=700","rokwzgl=18 i lp=700",{"$f":"+\"rokwzgl=\"&X$9&\" i lp=\"&$A80","v":"rokwzgl=19 i lp=700"},"rokwzgl=20 i lp=700","rokwzgl=21 i lp=700","rokwzgl=22 i lp=700","rokwzgl=23 i lp=700","rokwzgl=24 i lp=700","rokwzgl=25 i lp=700","rokwzgl=26 i lp=700","rokwzgl=27 i lp=700","rokwzgl=28 i lp=700","rokwzgl=29 i lp=700"]
[710,"12.2.1","   -  w tym środki określone w art. 5 ust. 1 pkt 2 ustawy","rokwzgl=0 i lp=710","rokwzgl=0 i lp=710","rokwzgl=1 i lp=710","rokwzgl=2 i lp=710","rokwzgl=3 i lp=710","rokwzgl=4 i lp=710","rokwzgl=5 i lp=710","rokwzgl=6 i lp=710","rokwzgl=7 i lp=710","rokwzgl=8 i lp=710","rokwzgl=9 i lp=710","rokwzgl=10 i lp=710","rokwzgl=11 i lp=710","rokwzgl=12 i lp=710","rokwzgl=13 i lp=710","rokwzgl=14 i lp=710","rokwzgl=15 i lp=710","rokwzgl=16 i lp=710","rokwzgl=17 i lp=710","rokwzgl=18 i lp=710","rokwzgl=19 i lp=710","rokwzgl=20 i lp=710","rokwzgl=21 i lp=710","rokwzgl=22 i lp=710","rokwzgl=23 i lp=710","rokwzgl=24 i lp=710","rokwzgl=25 i lp=710","rokwzgl=26 i lp=710","rokwzgl=27 i lp=710","rokwzgl=28 i lp=710","rokwzgl=29 i lp=710"]
[720,"12.2.1.1","    - w tym środki określone w art. 5 ust. 1 pkt 2 ustawy wynikające wyłącznie z zawartych umów na realizację programu, projektu lub zadania","rokwzgl=0 i lp=720","rokwzgl=0 i lp=720","rokwzgl=1 i lp=720","rokwzgl=2 i lp=720","rokwzgl=3 i lp=720","rokwzgl=4 i lp=720","rokwzgl=5 i lp=720","rokwzgl=6 i lp=720","rokwzgl=7 i lp=720","rokwzgl=8 i lp=720","rokwzgl=9 i lp=720","rokwzgl=10 i lp=720","rokwzgl=11 i lp=720","rokwzgl=12 i lp=720","rokwzgl=13 i lp=720","rokwzgl=14 i lp=720","rokwzgl=15 i lp=720","rokwzgl=16 i lp=720","rokwzgl=17 i lp=720","rokwzgl=18 i lp=720","rokwzgl=19 i lp=720","rokwzgl=20 i lp=720","rokwzgl=21 i lp=720","rokwzgl=22 i lp=720","rokwzgl=23 i lp=720","rokwzgl=24 i lp=720","rokwzgl=25 i lp=720","rokwzgl=26 i lp=720","rokwzgl=27 i lp=720","rokwzgl=28 i lp=720","rokwzgl=29 i lp=720"]
[730,12.3," Wydatki bieżące na programy, projekty lub zadania finansowane z udziałem środków, o których mowa w art. 5 ust. 1 pkt 2 i 3 ustawy","rokwzgl=0 i lp=730","rokwzgl=0 i lp=730","rokwzgl=1 i lp=730","rokwzgl=2 i lp=730","rokwzgl=3 i lp=730","rokwzgl=4 i lp=730","rokwzgl=5 i lp=730","rokwzgl=6 i lp=730","rokwzgl=7 i lp=730","rokwzgl=8 i lp=730","rokwzgl=9 i lp=730","rokwzgl=10 i lp=730","rokwzgl=11 i lp=730","rokwzgl=12 i lp=730","rokwzgl=13 i lp=730","rokwzgl=14 i lp=730","rokwzgl=15 i lp=730","rokwzgl=16 i lp=730","rokwzgl=17 i lp=730","rokwzgl=18 i lp=730","rokwzgl=19 i lp=730","rokwzgl=20 i lp=730","rokwzgl=21 i lp=730","rokwzgl=22 i lp=730","rokwzgl=23 i lp=730","rokwzgl=24 i lp=730","rokwzgl=25 i lp=730","rokwzgl=26 i lp=730","rokwzgl=27 i lp=730","rokwzgl=28 i lp=730","rokwzgl=29 i lp=730"]
[740,"12.3.1","  -  w tym finansowane środkami określonymi w art. 5 ust. 1 pkt 2 ustawy ","rokwzgl=0 i lp=740","rokwzgl=0 i lp=740","rokwzgl=1 i lp=740","rokwzgl=2 i lp=740","rokwzgl=3 i lp=740","rokwzgl=4 i lp=740","rokwzgl=5 i lp=740","rokwzgl=6 i lp=740","rokwzgl=7 i lp=740","rokwzgl=8 i lp=740","rokwzgl=9 i lp=740","rokwzgl=10 i lp=740","rokwzgl=11 i lp=740","rokwzgl=12 i lp=740","rokwzgl=13 i lp=740","rokwzgl=14 i lp=740","rokwzgl=15 i lp=740","rokwzgl=16 i lp=740","rokwzgl=17 i lp=740","rokwzgl=18 i lp=740","rokwzgl=19 i lp=740","rokwzgl=20 i lp=740","rokwzgl=21 i lp=740","rokwzgl=22 i lp=740","rokwzgl=23 i lp=740","rokwzgl=24 i lp=740","rokwzgl=25 i lp=740","rokwzgl=26 i lp=740","rokwzgl=27 i lp=740","rokwzgl=28 i lp=740","rokwzgl=29 i lp=740"]
[750,"12.3.2","  Wydatki bieżące na realizację programu, projektu lub zadania wynikające wyłącznie z zawartych umów z podmiotem dysponującym środkami, o których mowa w art. 5 ust. 1 pkt 2 ustawy ","rokwzgl=0 i lp=750","rokwzgl=0 i lp=750","rokwzgl=1 i lp=750","rokwzgl=2 i lp=750","rokwzgl=3 i lp=750","rokwzgl=4 i lp=750","rokwzgl=5 i lp=750","rokwzgl=6 i lp=750","rokwzgl=7 i lp=750","rokwzgl=8 i lp=750","rokwzgl=9 i lp=750","rokwzgl=10 i lp=750","rokwzgl=11 i lp=750","rokwzgl=12 i lp=750","rokwzgl=13 i lp=750","rokwzgl=14 i lp=750","rokwzgl=15 i lp=750","rokwzgl=16 i lp=750","rokwzgl=17 i lp=750","rokwzgl=18 i lp=750","rokwzgl=19 i lp=750","rokwzgl=20 i lp=750","rokwzgl=21 i lp=750","rokwzgl=22 i lp=750","rokwzgl=23 i lp=750","rokwzgl=24 i lp=750","rokwzgl=25 i lp=750","rokwzgl=26 i lp=750","rokwzgl=27 i lp=750","rokwzgl=28 i lp=750","rokwzgl=29 i lp=750"]
[760,12.4," Wydatki majątkowe na programy, projekty lub zadania finansowane z udziałem środków, o których mowa w art. 5 ust. 1 pkt 2 i 3 ustawy","rokwzgl=0 i lp=760","rokwzgl=0 i lp=760","rokwzgl=1 i lp=760","rokwzgl=2 i lp=760","rokwzgl=3 i lp=760","rokwzgl=4 i lp=760","rokwzgl=5 i lp=760","rokwzgl=6 i lp=760","rokwzgl=7 i lp=760","rokwzgl=8 i lp=760","rokwzgl=9 i lp=760","rokwzgl=10 i lp=760","rokwzgl=11 i lp=760","rokwzgl=12 i lp=760","rokwzgl=13 i lp=760","rokwzgl=14 i lp=760","rokwzgl=15 i lp=760","rokwzgl=16 i lp=760","rokwzgl=17 i lp=760","rokwzgl=18 i lp=760","rokwzgl=19 i lp=760","rokwzgl=20 i lp=760","rokwzgl=21 i lp=760","rokwzgl=22 i lp=760","rokwzgl=23 i lp=760","rokwzgl=24 i lp=760","rokwzgl=25 i lp=760","rokwzgl=26 i lp=760","rokwzgl=27 i lp=760","rokwzgl=28 i lp=760","rokwzgl=29 i lp=760"]
[770,"12.4.1","  -  w tym finansowane środkami określonymi w art. 5 ust. 1 pkt 2 ustawy","rokwzgl=0 i lp=770","rokwzgl=0 i lp=770","rokwzgl=1 i lp=770","rokwzgl=2 i lp=770","rokwzgl=3 i lp=770","rokwzgl=4 i lp=770","rokwzgl=5 i lp=770","rokwzgl=6 i lp=770","rokwzgl=7 i lp=770","rokwzgl=8 i lp=770","rokwzgl=9 i lp=770","rokwzgl=10 i lp=770","rokwzgl=11 i lp=770","rokwzgl=12 i lp=770","rokwzgl=13 i lp=770","rokwzgl=14 i lp=770","rokwzgl=15 i lp=770","rokwzgl=16 i lp=770","rokwzgl=17 i lp=770","rokwzgl=18 i lp=770","rokwzgl=19 i lp=770","rokwzgl=20 i lp=770","rokwzgl=21 i lp=770","rokwzgl=22 i lp=770","rokwzgl=23 i lp=770","rokwzgl=24 i lp=770","rokwzgl=25 i lp=770","rokwzgl=26 i lp=770","rokwzgl=27 i lp=770","rokwzgl=28 i lp=770","rokwzgl=29 i lp=770"]
[780,"12.4.2","  Wydatki majątkowe na realizację programu, projektu lub zadania wynikające wyłącznie z zawartych umów z podmiotem dysponującym środkami, o których mowa w art. 5 ust. 1 pkt 2 ustawy ","rokwzgl=0 i lp=780","rokwzgl=0 i lp=780","rokwzgl=1 i lp=780","rokwzgl=2 i lp=780","rokwzgl=3 i lp=780","rokwzgl=4 i lp=780","rokwzgl=5 i lp=780","rokwzgl=6 i lp=780","rokwzgl=7 i lp=780","rokwzgl=8 i lp=780","rokwzgl=9 i lp=780","rokwzgl=10 i lp=780","rokwzgl=11 i lp=780","rokwzgl=12 i lp=780","rokwzgl=13 i lp=780","rokwzgl=14 i lp=780","rokwzgl=15 i lp=780","rokwzgl=16 i lp=780","rokwzgl=17 i lp=780","rokwzgl=18 i lp=780","rokwzgl=19 i lp=780","rokwzgl=20 i lp=780","rokwzgl=21 i lp=780","rokwzgl=22 i lp=780","rokwzgl=23 i lp=780","rokwzgl=24 i lp=780","rokwzgl=25 i lp=780","rokwzgl=26 i lp=780","rokwzgl=27 i lp=780","rokwzgl=28 i lp=780","rokwzgl=29 i lp=780"]
[790,13,"Kwoty dotyczące przejęcia i spłaty zobowiązań po samodzielnych publicznych zakładach opieki zdrowotnej oraz pokrycia ujemnego wyniku ","rokwzgl=0 i lp=790","rokwzgl=0 i lp=790","rokwzgl=1 i lp=790","rokwzgl=2 i lp=790","rokwzgl=3 i lp=790","rokwzgl=4 i lp=790","rokwzgl=5 i lp=790","rokwzgl=6 i lp=790","rokwzgl=7 i lp=790","rokwzgl=8 i lp=790","rokwzgl=9 i lp=790","rokwzgl=10 i lp=790","rokwzgl=11 i lp=790","rokwzgl=12 i lp=790","rokwzgl=13 i lp=790","rokwzgl=14 i lp=790","rokwzgl=15 i lp=790","rokwzgl=16 i lp=790","rokwzgl=17 i lp=790","rokwzgl=18 i lp=790","rokwzgl=19 i lp=790","rokwzgl=20 i lp=790","rokwzgl=21 i lp=790","rokwzgl=22 i lp=790","rokwzgl=23 i lp=790","rokwzgl=24 i lp=790","rokwzgl=25 i lp=790","rokwzgl=26 i lp=790","rokwzgl=27 i lp=790","rokwzgl=28 i lp=790","rokwzgl=29 i lp=790"]
[800,13.1," Kwota zobowiązań wynikających z przejęcia przez jednostkę samorządu terytorialnego zobowiązań po likwidowanych i przekształcanych samodzielnych zakładach opieki zdrowotnej",{"$f":"+\"rokwzgl=\"&D$9&\" i lp=\"&$A90","v":"rokwzgl=0 i lp=800"},"rokwzgl=0 i lp=800","rokwzgl=1 i lp=800","rokwzgl=2 i lp=800","rokwzgl=3 i lp=800","rokwzgl=4 i lp=800","rokwzgl=5 i lp=800","rokwzgl=6 i lp=800","rokwzgl=7 i lp=800","rokwzgl=8 i lp=800",{"$f":"+\"rokwzgl=\"&N$9&\" i lp=\"&$A90","v":"rokwzgl=9 i lp=800"},"rokwzgl=10 i lp=800","rokwzgl=11 i lp=800","rokwzgl=12 i lp=800","rokwzgl=13 i lp=800","rokwzgl=14 i lp=800","rokwzgl=15 i lp=800","rokwzgl=16 i lp=800","rokwzgl=17 i lp=800","rokwzgl=18 i lp=800",{"$f":"+\"rokwzgl=\"&X$9&\" i lp=\"&$A90","v":"rokwzgl=19 i lp=800"},"rokwzgl=20 i lp=800","rokwzgl=21 i lp=800","rokwzgl=22 i lp=800","rokwzgl=23 i lp=800","rokwzgl=24 i lp=800","rokwzgl=25 i lp=800","rokwzgl=26 i lp=800","rokwzgl=27 i lp=800","rokwzgl=28 i lp=800","rokwzgl=29 i lp=800"]
[810,13.2," Dochody budżetowe z tytułu dotacji celowej z budżetu państwa, o której mowa w art. 196 ustawy z  dnia 15 kwietnia 2011 r.  o działalności leczniczej (Dz.U. Nr 112, poz. 654, z późn. zm.)","rokwzgl=0 i lp=810","rokwzgl=0 i lp=810","rokwzgl=1 i lp=810","rokwzgl=2 i lp=810","rokwzgl=3 i lp=810","rokwzgl=4 i lp=810","rokwzgl=5 i lp=810","rokwzgl=6 i lp=810","rokwzgl=7 i lp=810","rokwzgl=8 i lp=810","rokwzgl=9 i lp=810","rokwzgl=10 i lp=810","rokwzgl=11 i lp=810","rokwzgl=12 i lp=810","rokwzgl=13 i lp=810","rokwzgl=14 i lp=810","rokwzgl=15 i lp=810","rokwzgl=16 i lp=810","rokwzgl=17 i lp=810","rokwzgl=18 i lp=810","rokwzgl=19 i lp=810","rokwzgl=20 i lp=810","rokwzgl=21 i lp=810","rokwzgl=22 i lp=810","rokwzgl=23 i lp=810","rokwzgl=24 i lp=810","rokwzgl=25 i lp=810","rokwzgl=26 i lp=810","rokwzgl=27 i lp=810","rokwzgl=28 i lp=810","rokwzgl=29 i lp=810"]
[820,13.3," Wysokość zobowiązań podlegających umorzeniu, o którym mowa w art. 190 ustawy o działalności leczniczej","rokwzgl=0 i lp=820","rokwzgl=0 i lp=820","rokwzgl=1 i lp=820","rokwzgl=2 i lp=820","rokwzgl=3 i lp=820","rokwzgl=4 i lp=820","rokwzgl=5 i lp=820","rokwzgl=6 i lp=820","rokwzgl=7 i lp=820","rokwzgl=8 i lp=820","rokwzgl=9 i lp=820","rokwzgl=10 i lp=820","rokwzgl=11 i lp=820","rokwzgl=12 i lp=820","rokwzgl=13 i lp=820","rokwzgl=14 i lp=820","rokwzgl=15 i lp=820","rokwzgl=16 i lp=820","rokwzgl=17 i lp=820","rokwzgl=18 i lp=820","rokwzgl=19 i lp=820","rokwzgl=20 i lp=820","rokwzgl=21 i lp=820","rokwzgl=22 i lp=820","rokwzgl=23 i lp=820","rokwzgl=24 i lp=820","rokwzgl=25 i lp=820","rokwzgl=26 i lp=820","rokwzgl=27 i lp=820","rokwzgl=28 i lp=820","rokwzgl=29 i lp=820"]
[830,13.4," Wydatki na spłatę przejętych zobowiązań samodzielnego publicznego zakładu opieki zdrowotnej przekształconego na zasadach określonych w przepisach  o działalności leczniczej","rokwzgl=0 i lp=830","rokwzgl=0 i lp=830","rokwzgl=1 i lp=830","rokwzgl=2 i lp=830","rokwzgl=3 i lp=830","rokwzgl=4 i lp=830","rokwzgl=5 i lp=830","rokwzgl=6 i lp=830","rokwzgl=7 i lp=830","rokwzgl=8 i lp=830","rokwzgl=9 i lp=830","rokwzgl=10 i lp=830","rokwzgl=11 i lp=830","rokwzgl=12 i lp=830","rokwzgl=13 i lp=830","rokwzgl=14 i lp=830","rokwzgl=15 i lp=830","rokwzgl=16 i lp=830","rokwzgl=17 i lp=830","rokwzgl=18 i lp=830","rokwzgl=19 i lp=830","rokwzgl=20 i lp=830","rokwzgl=21 i lp=830","rokwzgl=22 i lp=830","rokwzgl=23 i lp=830","rokwzgl=24 i lp=830","rokwzgl=25 i lp=830","rokwzgl=26 i lp=830","rokwzgl=27 i lp=830","rokwzgl=28 i lp=830","rokwzgl=29 i lp=830"]
[840,13.5," Wydatki na spłatę przejętych zobowiązań samodzielnego publicznego zakładu opieki zdrowotnej likwidowanego na zasadach określonych w przepisach  o działalności leczniczej","rokwzgl=0 i lp=840","rokwzgl=0 i lp=840","rokwzgl=1 i lp=840","rokwzgl=2 i lp=840","rokwzgl=3 i lp=840","rokwzgl=4 i lp=840","rokwzgl=5 i lp=840","rokwzgl=6 i lp=840","rokwzgl=7 i lp=840","rokwzgl=8 i lp=840","rokwzgl=9 i lp=840","rokwzgl=10 i lp=840","rokwzgl=11 i lp=840","rokwzgl=12 i lp=840","rokwzgl=13 i lp=840","rokwzgl=14 i lp=840","rokwzgl=15 i lp=840","rokwzgl=16 i lp=840","rokwzgl=17 i lp=840","rokwzgl=18 i lp=840","rokwzgl=19 i lp=840","rokwzgl=20 i lp=840","rokwzgl=21 i lp=840","rokwzgl=22 i lp=840","rokwzgl=23 i lp=840","rokwzgl=24 i lp=840","rokwzgl=25 i lp=840","rokwzgl=26 i lp=840","rokwzgl=27 i lp=840","rokwzgl=28 i lp=840","rokwzgl=29 i lp=840"]
[850,13.6," Wydatki na spłatę zobowiązań samodzielnego publicznego zakładu opieki zdrowotnej przejętych do końca 2011 r. na podstawie przepisów o zakładach opieki zdrowotnej","rokwzgl=0 i lp=850","rokwzgl=0 i lp=850","rokwzgl=1 i lp=850","rokwzgl=2 i lp=850","rokwzgl=3 i lp=850","rokwzgl=4 i lp=850","rokwzgl=5 i lp=850","rokwzgl=6 i lp=850","rokwzgl=7 i lp=850","rokwzgl=8 i lp=850","rokwzgl=9 i lp=850","rokwzgl=10 i lp=850","rokwzgl=11 i lp=850","rokwzgl=12 i lp=850","rokwzgl=13 i lp=850","rokwzgl=14 i lp=850","rokwzgl=15 i lp=850","rokwzgl=16 i lp=850","rokwzgl=17 i lp=850","rokwzgl=18 i lp=850","rokwzgl=19 i lp=850","rokwzgl=20 i lp=850","rokwzgl=21 i lp=850","rokwzgl=22 i lp=850","rokwzgl=23 i lp=850","rokwzgl=24 i lp=850","rokwzgl=25 i lp=850","rokwzgl=26 i lp=850","rokwzgl=27 i lp=850","rokwzgl=28 i lp=850","rokwzgl=29 i lp=850"]
[860,13.7," Wydatki bieżące na pokrycie ujemnego wyniku finansowego samodzielnego publicznego zakładu opieki zdrowotnej","rokwzgl=0 i lp=860","rokwzgl=0 i lp=860","rokwzgl=1 i lp=860","rokwzgl=2 i lp=860","rokwzgl=3 i lp=860","rokwzgl=4 i lp=860","rokwzgl=5 i lp=860","rokwzgl=6 i lp=860","rokwzgl=7 i lp=860","rokwzgl=8 i lp=860","rokwzgl=9 i lp=860","rokwzgl=10 i lp=860","rokwzgl=11 i lp=860","rokwzgl=12 i lp=860","rokwzgl=13 i lp=860","rokwzgl=14 i lp=860","rokwzgl=15 i lp=860","rokwzgl=16 i lp=860","rokwzgl=17 i lp=860","rokwzgl=18 i lp=860","rokwzgl=19 i lp=860","rokwzgl=20 i lp=860","rokwzgl=21 i lp=860","rokwzgl=22 i lp=860","rokwzgl=23 i lp=860","rokwzgl=24 i lp=860","rokwzgl=25 i lp=860","rokwzgl=26 i lp=860","rokwzgl=27 i lp=860","rokwzgl=28 i lp=860","rokwzgl=29 i lp=860"]
[870,14,"Dane uzupełniające o długu i jego spłacie","rokwzgl=0 i lp=870","rokwzgl=0 i lp=870","rokwzgl=1 i lp=870","rokwzgl=2 i lp=870","rokwzgl=3 i lp=870","rokwzgl=4 i lp=870","rokwzgl=5 i lp=870","rokwzgl=6 i lp=870","rokwzgl=7 i lp=870","rokwzgl=8 i lp=870","rokwzgl=9 i lp=870","rokwzgl=10 i lp=870","rokwzgl=11 i lp=870","rokwzgl=12 i lp=870","rokwzgl=13 i lp=870","rokwzgl=14 i lp=870","rokwzgl=15 i lp=870","rokwzgl=16 i lp=870","rokwzgl=17 i lp=870","rokwzgl=18 i lp=870","rokwzgl=19 i lp=870","rokwzgl=20 i lp=870","rokwzgl=21 i lp=870","rokwzgl=22 i lp=870","rokwzgl=23 i lp=870","rokwzgl=24 i lp=870","rokwzgl=25 i lp=870","rokwzgl=26 i lp=870","rokwzgl=27 i lp=870","rokwzgl=28 i lp=870","rokwzgl=29 i lp=870"]
[880,14.1," Spłaty rat kapitałowych oraz wykup papierów wartościowych, o których mowa w pkt. 5.1., wynikające wyłącznie z tytułu zobowiązań już zaciągniętych","rokwzgl=0 i lp=880","rokwzgl=0 i lp=880","rokwzgl=1 i lp=880","rokwzgl=2 i lp=880","rokwzgl=3 i lp=880","rokwzgl=4 i lp=880","rokwzgl=5 i lp=880","rokwzgl=6 i lp=880","rokwzgl=7 i lp=880","rokwzgl=8 i lp=880","rokwzgl=9 i lp=880","rokwzgl=10 i lp=880","rokwzgl=11 i lp=880","rokwzgl=12 i lp=880","rokwzgl=13 i lp=880","rokwzgl=14 i lp=880","rokwzgl=15 i lp=880","rokwzgl=16 i lp=880","rokwzgl=17 i lp=880","rokwzgl=18 i lp=880","rokwzgl=19 i lp=880","rokwzgl=20 i lp=880","rokwzgl=21 i lp=880","rokwzgl=22 i lp=880","rokwzgl=23 i lp=880","rokwzgl=24 i lp=880","rokwzgl=25 i lp=880","rokwzgl=26 i lp=880","rokwzgl=27 i lp=880","rokwzgl=28 i lp=880","rokwzgl=29 i lp=880"]
[890,14.2," Kwota długu, którego planowana spłata dokona się z wydatków budżetu","rokwzgl=0 i lp=890","rokwzgl=0 i lp=890","rokwzgl=1 i lp=890","rokwzgl=2 i lp=890","rokwzgl=3 i lp=890","rokwzgl=4 i lp=890","rokwzgl=5 i lp=890","rokwzgl=6 i lp=890","rokwzgl=7 i lp=890","rokwzgl=8 i lp=890","rokwzgl=9 i lp=890","rokwzgl=10 i lp=890","rokwzgl=11 i lp=890","rokwzgl=12 i lp=890","rokwzgl=13 i lp=890","rokwzgl=14 i lp=890","rokwzgl=15 i lp=890","rokwzgl=16 i lp=890","rokwzgl=17 i lp=890","rokwzgl=18 i lp=890","rokwzgl=19 i lp=890","rokwzgl=20 i lp=890","rokwzgl=21 i lp=890","rokwzgl=22 i lp=890","rokwzgl=23 i lp=890","rokwzgl=24 i lp=890","rokwzgl=25 i lp=890","rokwzgl=26 i lp=890","rokwzgl=27 i lp=890","rokwzgl=28 i lp=890","rokwzgl=29 i lp=890"]
[900,14.3," Wydatki zmniejszające dług, w tym","rokwzgl=0 i lp=900","rokwzgl=0 i lp=900","rokwzgl=1 i lp=900","rokwzgl=2 i lp=900","rokwzgl=3 i lp=900","rokwzgl=4 i lp=900","rokwzgl=5 i lp=900","rokwzgl=6 i lp=900","rokwzgl=7 i lp=900","rokwzgl=8 i lp=900","rokwzgl=9 i lp=900","rokwzgl=10 i lp=900","rokwzgl=11 i lp=900","rokwzgl=12 i lp=900","rokwzgl=13 i lp=900","rokwzgl=14 i lp=900","rokwzgl=15 i lp=900","rokwzgl=16 i lp=900","rokwzgl=17 i lp=900","rokwzgl=18 i lp=900","rokwzgl=19 i lp=900","rokwzgl=20 i lp=900","rokwzgl=21 i lp=900","rokwzgl=22 i lp=900","rokwzgl=23 i lp=900","rokwzgl=24 i lp=900","rokwzgl=25 i lp=900","rokwzgl=26 i lp=900","rokwzgl=27 i lp=900","rokwzgl=28 i lp=900","rokwzgl=29 i lp=900"]
[910,"14.3.1","  spłata zobowiązań wymagalnych z lat poprzednich, innych niż w pkt 14.3.3","rokwzgl=0 i lp=910","rokwzgl=0 i lp=910","rokwzgl=1 i lp=910","rokwzgl=2 i lp=910","rokwzgl=3 i lp=910","rokwzgl=4 i lp=910","rokwzgl=5 i lp=910","rokwzgl=6 i lp=910","rokwzgl=7 i lp=910","rokwzgl=8 i lp=910","rokwzgl=9 i lp=910","rokwzgl=10 i lp=910","rokwzgl=11 i lp=910","rokwzgl=12 i lp=910","rokwzgl=13 i lp=910","rokwzgl=14 i lp=910","rokwzgl=15 i lp=910","rokwzgl=16 i lp=910","rokwzgl=17 i lp=910","rokwzgl=18 i lp=910","rokwzgl=19 i lp=910","rokwzgl=20 i lp=910","rokwzgl=21 i lp=910","rokwzgl=22 i lp=910","rokwzgl=23 i lp=910","rokwzgl=24 i lp=910","rokwzgl=25 i lp=910","rokwzgl=26 i lp=910","rokwzgl=27 i lp=910","rokwzgl=28 i lp=910","rokwzgl=29 i lp=910"]
[920,"14.3.2","  związane z umowami zaliczanymi do tytułów dłużnych wliczanych w państwowy dług publiczny","rokwzgl=0 i lp=920","rokwzgl=0 i lp=920","rokwzgl=1 i lp=920","rokwzgl=2 i lp=920","rokwzgl=3 i lp=920","rokwzgl=4 i lp=920","rokwzgl=5 i lp=920","rokwzgl=6 i lp=920","rokwzgl=7 i lp=920","rokwzgl=8 i lp=920","rokwzgl=9 i lp=920","rokwzgl=10 i lp=920","rokwzgl=11 i lp=920","rokwzgl=12 i lp=920","rokwzgl=13 i lp=920","rokwzgl=14 i lp=920","rokwzgl=15 i lp=920","rokwzgl=16 i lp=920","rokwzgl=17 i lp=920","rokwzgl=18 i lp=920","rokwzgl=19 i lp=920","rokwzgl=20 i lp=920","rokwzgl=21 i lp=920","rokwzgl=22 i lp=920","rokwzgl=23 i lp=920","rokwzgl=24 i lp=920","rokwzgl=25 i lp=920","rokwzgl=26 i lp=920","rokwzgl=27 i lp=920","rokwzgl=28 i lp=920","rokwzgl=29 i lp=920"]
[930,"14.3.3","  wypłaty z tytułu wymagalnych poręczeń i gwarancji","rokwzgl=0 i lp=930","rokwzgl=0 i lp=930","rokwzgl=1 i lp=930","rokwzgl=2 i lp=930","rokwzgl=3 i lp=930","rokwzgl=4 i lp=930","rokwzgl=5 i lp=930","rokwzgl=6 i lp=930","rokwzgl=7 i lp=930","rokwzgl=8 i lp=930","rokwzgl=9 i lp=930","rokwzgl=10 i lp=930","rokwzgl=11 i lp=930","rokwzgl=12 i lp=930","rokwzgl=13 i lp=930","rokwzgl=14 i lp=930","rokwzgl=15 i lp=930","rokwzgl=16 i lp=930","rokwzgl=17 i lp=930","rokwzgl=18 i lp=930","rokwzgl=19 i lp=930","rokwzgl=20 i lp=930","rokwzgl=21 i lp=930","rokwzgl=22 i lp=930","rokwzgl=23 i lp=930","rokwzgl=24 i lp=930","rokwzgl=25 i lp=930","rokwzgl=26 i lp=930","rokwzgl=27 i lp=930","rokwzgl=28 i lp=930","rokwzgl=29 i lp=930"]
[940,14.4," Wynik operacji niekasowych wpływających na kwotę długu ( m.in. umorzenia, różnice kursowe)","rokwzgl=0 i lp=940","rokwzgl=0 i lp=940","rokwzgl=1 i lp=940","rokwzgl=2 i lp=940","rokwzgl=3 i lp=940","rokwzgl=4 i lp=940","rokwzgl=5 i lp=940","rokwzgl=6 i lp=940","rokwzgl=7 i lp=940","rokwzgl=8 i lp=940","rokwzgl=9 i lp=940","rokwzgl=10 i lp=940","rokwzgl=11 i lp=940","rokwzgl=12 i lp=940","rokwzgl=13 i lp=940","rokwzgl=14 i lp=940","rokwzgl=15 i lp=940","rokwzgl=16 i lp=940","rokwzgl=17 i lp=940","rokwzgl=18 i lp=940","rokwzgl=19 i lp=940","rokwzgl=20 i lp=940","rokwzgl=21 i lp=940","rokwzgl=22 i lp=940","rokwzgl=23 i lp=940","rokwzgl=24 i lp=940","rokwzgl=25 i lp=940","rokwzgl=26 i lp=940","rokwzgl=27 i lp=940","rokwzgl=28 i lp=940","rokwzgl=29 i lp=940"]

{"sheet":"DaneZrodlowe","index":4,"n_rows":383,"n_cols":17,"rows_kept":383,"cut":false,"hidden":true,"merged":[]}
["Wyciąg danych z tabeli \"Wieloletnia prognoza finansowa\" wprowadzonych do systemu BESTI@ z wybranej uchwały ",null,null,null,null,null,null,null,null,null,null,null,"Rok bazowy:",{"$f":"MIN(M:M)","v":2014},null,"Rok max",{"$f":"MAX(M:M)","v":2017}]
[]
["budzet","numer","nazwajst","kodgus","gt","mswia","lp","symbol","formula","wyszczegolnienie","wsk243","rokwzgl","rokprognozy","prognoza","DataPodjecia","DataWejscia"]
[2014,"1","KRZYŻANÓW",1002052,2,null,720,"12.2.1.1",null,"    - w tym środki określone w art. 5 ust. 1 pkt 2 ustawy wynikające wyłącznie z zawartych umów na realizację programu, projektu lub zadania",false,2,2016,0,"2013-11-08","2014-01-01"]
[2014,1,"KRZYŻANÓW",1002052,2,null,120,2,"[2.1] + [2.2]","Wydatki ogółem",false,3,2017,12170000,"2013-11-08","2014-01-01"]
[2014,1,"KRZYŻANÓW",1002052,2,null,360,6.1,null," Łączna kwota wyłączeń z ograniczeń długu określonych w art. 170 ust. 3 ufp z 2005 r. oraz w art. 36 ustawy o zmianie niektórych ustaw w związku z realizacją ustawy budżetowej",true,0,2014,0,"2013-11-08","2014-01-01"]
[2014,1,"KRZYŻANÓW",1002052,2,null,690,"12.1.1.1",null,"   - w tym środki określone w art. 5 ust. 1 pkt 2 ustawy wynikające wyłącznie z  zawartych umów na realizację programu, projektu lub zadania",true,0,2014,0,"2013-11-08","2014-01-01"]
[2014,1,"KRZYŻANÓW",1002052,2,null,390,6.3,"([6] - [6.1]) / [1]"," Wskaźnik zadłużenia do dochodów ogółem, o którym mowa w art.  170 ufp z 2005 r., po uwzględnieniu wyłączeń określonych w pkt 6.1. ",false,0,2014,0,"2013-11-08","2014-01-01"]
[2014,1,"KRZYŻANÓW",1002052,2,null,230,"4.1.1",null,"  w tym na pokrycie deficytu budżetu",false,0,2014,0,"2013-11-08","2014-01-01"]
[2014,1,"KRZYŻANÓW",1002052,2,null,570,11,null,"Informacje uzupełniające o wybranych rodzajach wydatków budżetowych",false,0,2014,0,"2013-11-08","2014-01-01"]
[2014,1,"KRZYŻANÓW",1002052,2,null,280,4.4000000000000004,null," Inne przychody niezwiązane z zaciągnięciem długu",false,3,2017,0,"2013-11-08","2014-01-01"]
[2014,1,"KRZYŻANÓW",1002052,2,null,620,"11.3.2",null,"   majątkowe",true,2,2016,0,"2013-11-08","2014-01-01"]
[2014,1,"KRZYŻANÓW",1002052,2,null,420,8.1,"[1.1] - [2.1]"," Różnica między dochodami bieżącymi a  wydatkami bieżącymi",false,3,2017,2570000,"2013-11-08","2014-01-01"]
[2014,1,"KRZYŻANÓW",1002052,2,null,505,"9.6.1","( [1.1] -  ( [2.1]  - [2.1.2] ) + [1.2.1] ) / [1]"," Wskaźnik jednoroczny",false,1,2015,0.15570000000000001,"2013-11-08","2014-01-01"]
[2014,1,"KRZYŻANÓW",1002052,2,null,800,13.1,null," Kwota zobowiązań wynikających z przejęcia przez jednostkę samorządu terytorialnego zobowiązań po likwidowanych i przekształcanych samodzielnych zakładach opieki zdrowotnej",true,1,2015,0,"2013-11-08","2014-01-01"]
[2014,1,"KRZYŻANÓW",1002052,2,null,500,9.6,"([2.1.1]+[2.1.3.1] + [5.1]+[9.5]-[5.1.1]- [2.1.1.1] )/[1]"," Wskaźnik planowanej łącznej kwoty spłaty zobowiązań, o której mowa w art. 243 ust. 1 ustawy do dochodów ogółem, po uwzględnieniu zobowiązań związku współtworzonego przez jednostkę samorządu terytorialnego oraz po uwzględnieniu wyłączeń przypadających na dany rok określonych w pkt 5.1.1.",false,1,2015,0,"2013-11-08","2014-01-01"]
[2014,1,"KRZYŻANÓW",1002052,2,null,750,"12.3.2",null,"  Wydatki bieżące na realizację programu, projektu lub zadania wynikające wyłącznie z zawartych umów z podmiotem dysponującym środkami, o których mowa w art. 5 ust. 1 pkt 2 ustawy ",false,3,2017,0,"2013-11-08","2014-01-01"]
[2014,1,"KRZYŻANÓW",1002052,2,null,100,"1.2.1",null,"  ze sprzedaży majątku",true,1,2015,0,"2013-11-08","2014-01-01"]
[2014,1,"KRZYŻANÓW",1002052,2,null,580,11.1,null," Wydatki bieżące na wynagrodzenia i składki od nich naliczane",false,1,2015,4271290,"2013-11-08","2014-01-01"]
[2014,1,"KRZYŻANÓW",1002052,2,null,750,"12.3.2",null,"  Wydatki bieżące na realizację programu, projektu lub zadania wynikające wyłącznie z zawartych umów z podmiotem dysponującym środkami, o których mowa w art. 5 ust. 1 pkt 2 ustawy ",false,0,2014,0,"2013-11-08","2014-01-01"]
[2014,1,"KRZYŻANÓW",1002052,2,null,890,14.2,null," Kwota długu, którego planowana spłata dokona się z wydatków budżetu",true,3,2017,0,"2013-11-08","2014-01-01"]
[2014,1,"KRZYŻANÓW",1002052,2,null,120,2,"[2.1] + [2.2]","Wydatki ogółem",false,1,2015,10825000,"2013-11-08","2014-01-01"]
[2014,1,"KRZYŻANÓW",1002052,2,null,320,"5.1.1",null,"  w tym łączna kwota przypadających na dany rok kwot wyłączeń określonych w: art. 243 ust. 3 pkt 1 ustawy (lub art. 169 ust. 3 pkt 1 ufp z 2005 r.), art. 121a ustawy  z dnia 27 sierpnia 2009 r. – Przepisy wprowadzające ustawę o finansach publicznych  (Dz. U. Nr 157, poz. 1241, z późn. zm.) oraz art.  36 ustawy z dnia 7 grudnia 2012 r. o zmianie niektórych ustaw związanych z realizacją ustawy budżetowej (Dz.U. poz. 1456)",true,2,2016,0,"2013-11-08","2014-01-01"]
[2014,1,"KRZYŻANÓW",1002052,2,null,730,12.3,null," Wydatki bieżące na programy, projekty lub zadania finansowane z udziałem środków, o których mowa w art. 5 ust. 1 pkt 2 i 3 ustawy",false,0,2014,0,"2013-11-08","2014-01-01"]
[2014,1,"KRZYŻANÓW",1002052,2,null,540,"9.8.1","[9.6] - [9.7.1]","  Informacja o spełnieniu wskaźnika spłaty zobowiązań określonego w art. 243 ustawy, po uwzględnieniu zobowiązań związku współtworzonego przez jednostkę samorządu terytorialnego oraz po uwzględnieniu wyłączeń określonych w pkt 5.1.1., obliczonego w oparciu o wykonanie roku poprzedzającego rok budżetowy",false,0,2014,1189,"2013-11-08","2014-01-01"]
[2014,1,"KRZYŻANÓW",1002052,2,null,380,6.2,"[6] / [1]"," Wskaźnik zadłużenia do dochodów ogółem określony w art. 170 ufp z 2005 r., bez uwzględniania wyłączeń określonych w pkt 6.1.   ",false,1,2015,0,"2013-11-08","2014-01-01"]
[2014,1,"KRZYŻANÓW",1002052,2,null,600,11.3,"[11.3.1] + [11.3.2]"," Wydatki objęte limitem art. 226 ust. 3 ustawy",true,2,2016,0,"2013-11-08","2014-01-01"]
[2014,1,"KRZYŻANÓW",1002052,2,null,30,"1.1.1",null,"  dochody z tytułu udziału we wpływach z podatku dochodowego od osób fizycznych",true,0,2014,1335088,"2013-11-08","2014-01-01"]
[2014,1,"KRZYŻANÓW",1002052,2,null,840,13.5,null," Wydatki na spłatę przejętych zobowiązań samodzielnego publicznego zakładu opieki zdrowotnej likwidowanego na zasadach określonych w przepisach  o działalności leczniczej",true,1,2015,0,"2013-11-08","2014-01-01"]
[2014,1,"KRZYŻANÓW",1002052,2,null,820,13.3,null," Wysokość zobowiązań podlegających umorzeniu, o którym mowa w art. 190 ustawy o działalności leczniczej",true,2,2016,0,"2013-11-08","2014-01-01"]
[2014,1,"KRZYŻANÓW",1002052,2,null,410,8,null,"Relacja zrównoważenia wydatków bieżących, o której mowa w art. 242 ustawy",true,0,2014,0,"2013-11-08","2014-01-01"]
[2014,1,"KRZYŻANÓW",1002052,2,null,60,"1.1.3.1",null,"   z podatku od nieruchomości",true,0,2014,1657389,"2013-11-08","2014-01-01"]
[2014,1,"KRZYŻANÓW",1002052,2,null,250,"4.2.1",null,"   w tym na pokrycie deficytu budżetu",false,3,2017,0,"2013-11-08","2014-01-01"]
[2014,1,"KRZYŻANÓW",1002052,2,null,320,"5.1.1",null,"  w tym łączna kwota przypadających na dany rok kwot wyłączeń określonych w: art. 243 ust. 3 pkt 1 ustawy (lub art. 169 ust. 3 pkt 1 ufp z 2005 r.), art. 121a ustawy  z dnia 27 sierpnia 2009 r. – Przepisy wprowadzające ustawę o finansach publicznych  (Dz. U. Nr 157, poz. 1241, z późn. zm.) oraz art.  36 ustawy z dnia 7 grudnia 2012 r. o zmianie niektórych ustaw związanych z realizacją ustawy budżetowej (Dz.U. poz. 1456)",true,0,2014,0,"2013-11-08","2014-01-01"]
[2014,1,"KRZYŻANÓW",1002052,2,null,430,8.1999999999999993,"[1.1] + [4.1] + [4.2] - (  [2.1] - [2.1.2]  )"," Różnica między dochodami bieżącymi, powiększonymi o nadwyżkę budżetową określoną w pkt 4.1. i wolne środki określone w pkt 4.2.  a wydatkami bieżącymi, pomniejszonym o wydatki określone w pkt  2.1.2.",false,2,2016,2682000,"2013-11-08","2014-01-01"]
[2014,1,"KRZYŻANÓW",1002052,2,null,400,7,null,"Kwota zobowiązań wynikających z przejęcia przez jednostkę samorządu terytorialnego zobowiązań po likwidowanych i przekształcanych jednostkach zaliczanych do sektora  finansów publicznych",true,2,2016,0,"2013-11-08","2014-01-01"]
[2014,1,"KRZYŻANÓW",1002052,2,null,330,"5.1.1.1",null,"   w tym kwota przypadających na dany rok kwot wyłączeń określonych w art. 243 ust. 3 pkt 1 ustawy lub art. 169 ust. 3 pkt 1 ufp z 2005 r.",true,3,2017,0,"2013-11-08","2014-01-01"]
[2014,1,"KRZYŻANÓW",1002052,2,null,680,"12.1.1",null,"  -  w tym środki określone w art. 5 ust. 1 pkt 2 ustawy",true,1,2015,0,"2013-11-08","2014-01-01"]
[2014,1,"KRZYŻANÓW",1002052,2,null,270,"4.3.1",null,"   w tym na pokrycie deficytu budżetu",true,2,2016,0,"2013-11-08","2014-01-01"]
[2014,1,"KRZYŻANÓW",1002052,2,null,910,"14.3.1",null,"  spłata zobowiązań wymagalnych z lat poprzednich, innych niż w pkt 14.3.3",true,2,2016,0,"2013-11-08","2014-01-01"]
[2014,1,"KRZYŻANÓW",1002052,2,null,450,9.1,"([2.1.1] + [2.1.3.1] + [5.1] ) / [1]"," Wskaźnik planowanej łącznej kwoty spłaty zobowiązań, o której mowa w art. 169 ust. 1 ufp z 2005 r. do dochodów ogółem, bez uwzględnienia wyłączeń określonych w pkt 5.1.1.  ",true,2,2016,0,"2013-11-08","2014-01-01"]
[2014,1,"KRZYŻANÓW",1002052,2,null,80,"1.1.5",null,"  z tytułu dotacji i środków przeznaczonych na cele bieżące",true,3,2017,1350903,"2013-11-08","2014-01-01"]
[2014,1,"KRZYŻANÓW",1002052,2,null,710,"12.2.1",null,"   -  w tym środki określone w art. 5 ust. 1 pkt 2 ustawy",false,0,2014,2114404,"2013-11-08","2014-01-01"]
[2014,1,"KRZYŻANÓW",1002052,2,null,110,"1.2.2",null,"  z tytułu dotacji oraz środków przeznaczonych na inwestycje",true,1,2015,0,"2013-11-08","2014-01-01"]
[2014,1,"KRZYŻANÓW",1002052,2,null,300,5,"[5.1] + [5.2]","Rozchody budżetu",false,2,2016,0,"2013-11-08","2014-01-01"]
[2014,1,"KRZYŻANÓW",1002052,2,null,610,"11.3.1",null,"   bieżące",true,2,2016,0,"2013-11-08","2014-01-01"]
[2014,1,"KRZYŻANÓW",1002052,2,null,380,6.2,"[6] / [1]"," Wskaźnik zadłużenia do dochodów ogółem określony w art. 170 ufp z 2005 r., bez uwzględniania wyłączeń określonych w pkt 6.1.   ",false,0,2014,0,"2013-11-08","2014-01-01"]
[2014,1,"KRZYŻANÓW",1002052,2,null,240,4.2,null," Wolne środki, o których mowa w art. 217 ust.2 pkt 6 ustawy",false,1,2015,0,"2013-11-08","2014-01-01"]
[2014,1,"KRZYŻANÓW",1002052,2,null,590,11.2,null," Wydatki związane z funkcjonowaniem organów jednostki samorządu terytorialnego",true,3,2017,1585800,"2013-11-08","2014-01-01"]
[2014,1,"KRZYŻANÓW",1002052,2,null,430,8.1999999999999993,"[1.1] + [4.1] + [4.2] - (  [2.1] - [2.1.2]  )"," Różnica między dochodami bieżącymi, powiększonymi o nadwyżkę budżetową określoną w pkt 4.1. i wolne środki określone w pkt 4.2.  a wydatkami bieżącymi, pomniejszonym o wydatki określone w pkt  2.1.2.",false,0,2014,2304552.19,"2013-11-08","2014-01-01"]
[2014,1,"KRZYŻANÓW",1002052,2,null,720,"12.2.1.1",null,"    - w tym środki określone w art. 5 ust. 1 pkt 2 ustawy wynikające wyłącznie z zawartych umów na realizację programu, projektu lub zadania",false,0,2014,0,"2013-11-08","2014-01-01"]
[2014,1,"KRZYŻANÓW",1002052,2,null,740,"12.3.1",null,"  -  w tym finansowane środkami określonymi w art. 5 ust. 1 pkt 2 ustawy ",false,1,2015,0,"2013-11-08","2014-01-01"]
[2014,1,"KRZYŻANÓW",1002052,2,null,350,6,null,"Kwota długu",true,1,2015,0,"2013-11-08","2014-01-01"]
[2014,1,"KRZYŻANÓW",1002052,2,null,810,13.2,null," Dochody budżetowe z tytułu dotacji celowej z budżetu państwa, o której mowa w art. 196 ustawy z  dnia 15 kwietnia 2011 r.  o działalności leczniczej (Dz.U. Nr 112, poz. 654, z późn. zm.)",true,3,2017,0,"2013-11-08","2014-01-01"]
[2014,1,"KRZYŻANÓW",1002052,2,null,100,"1.2.1",null,"  ze sprzedaży majątku",true,3,2017,0,"2013-11-08","2014-01-01"]
[2014,1,"KRZYŻANÓW",1002052,2,null,480,9.4,"([2.1.1] + [2.1.3.1] + [5.1] - [5.1.1]- [2.1.1.1] ) / [1]"," Wskaźnik planowanej łącznej kwoty spłaty zobowiązań, o której mowa w art. 243 ust. 1 ustawy do dochodów ogółem, bez uwzględnienia zobowiązań związku współtworzonego przez jednostkę samorządu terytorialnego, po uwzględnieniu wyłączeń przypadających na dany rok określonych w pkt 5.1.1. ",false,3,2017,0,"2013-11-08","2014-01-01"]
[2014,1,"KRZYŻANÓW",1002052,2,null,150,"2.1.1.1",null,"   w tym: gwarancje i poręczenia podlegające wyłączeniu z limitów spłaty zobowiązań  określonych w art. 243 ust. 3 pkt 2 ustawy z dnia 27 sierpnia 2009 r. o finansach publicznych (Dz. U. Nr 157, poz. 1240, z późn. zm.) lub art. 169 ust. 3 pkt 2 ustawy z dnia 30 czerwca 2005 r. o finansach publicznych (Dz. U. Nr 249, poz. 2104, z późn. zm)",true,3,2017,0,"2013-11-08","2014-01-01"]
[2014,1,"KRZYŻANÓW",1002052,2,null,630,11.4,null," Wydatki inwestycyjne kontynuowane ",true,3,2017,0,"2013-11-08","2014-01-01"]
[2014,1,"KRZYŻANÓW",1002052,2,null,40,"1.1.2",null,"  dochody z tytułu udziału we wpływach z podatku dochodowego od osób prawnych",true,2,2016,1000,"2013-11-08","2014-01-01"]
[2014,1,"KRZYŻANÓW",1002052,2,null,360,6.1,null," Łączna kwota wyłączeń z ograniczeń długu określonych w art. 170 ust. 3 ufp z 2005 r. oraz w art. 36 ustawy o zmianie niektórych ustaw w związku z realizacją ustawy budżetowej",true,1,2015,0,"2013-11-08","2014-01-01"]
[2014,1,"KRZYŻANÓW",1002052,2,null,590,11.2,null," Wydatki związane z funkcjonowaniem organów jednostki samorządu terytorialnego",true,1,2015,1509400,"2013-11-08","2014-01-01"]
[2014,1,"KRZYŻANÓW",1002052,2,null,900,14.3,null," Wydatki zmniejszające dług, w tym",true,1,2015,0,"2013-11-08","2014-01-01"]
[2014,1,"KRZYŻANÓW",1002052,2,null,450,9.1,"([2.1.1] + [2.1.3.1] + [5.1] ) / [1]"," Wskaźnik planowanej łącznej kwoty spłaty zobowiązań, o której mowa w art. 169 ust. 1 ufp z 2005 r. do dochodów ogółem, bez uwzględnienia wyłączeń określonych w pkt 5.1.1.  ",true,3,2017,0,"2013-11-08","2014-01-01"]
[2014,1,"KRZYŻANÓW",1002052,2,null,260,4.3,null,"  Kredyty, pożyczki, emisja papierów wartościowych",true,2,2016,0,"2013-11-08","2014-01-01"]
[2014,1,"KRZYŻANÓW",1002052,2,null,130,2.1,null," Wydatki bieżące, w tym:",true,2,2016,9368000,"2013-11-08","2014-01-01"]
[2014,1,"KRZYŻANÓW",1002052,2,null,920,"14.3.2",null,"  związane z umowami zaliczanymi do tytułów dłużnych wliczanych w państwowy dług publiczny",true,1,2015,0,"2013-11-08","2014-01-01"]
[2014,1,"KRZYŻANÓW",1002052,2,null,260,4.3,null,"  Kredyty, pożyczki, emisja papierów wartościowych",true,1,2015,0,"2013-11-08","2014-01-01"]
[2014,1,"KRZYŻANÓW",1002052,2,null,520,"9.7.1",null,"   Dopuszczalny wskaźnik spłaty zobowiązań określony w art. 243 ustawy, po uwzględnieniu wyłączeń określonych w art.  36 ustawy z dnia 7 grudnia 2012 r. o zmianie niektórych ustaw w związku z realizacją ustawy budżetowej, obliczony w oparciu o wykonanie roku poprzedzającego rok budżetowy",true,0,2014,0.17730000000000001,"2013-11-08","2014-01-01"]
[2014,1,"KRZYŻANÓW",1002052,2,null,850,13.6,null," Wydatki na spłatę zobowiązań samodzielnego publicznego zakładu opieki zdrowotnej przejętych do końca 2011 r. na podstawie przepisów o zakładach opieki zdrowotnej",true,0,2014,0,"2013-11-08","2014-01-01"]
[2014,1,"KRZYŻANÓW",1002052,2,null,850,13.6,null," Wydatki na spłatę zobowiązań samodzielnego publicznego zakładu opieki zdrowotnej przejętych do końca 2011 r. na podstawie przepisów o zakładach opieki zdrowotnej",true,2,2016,0,"2013-11-08","2014-01-01"]
[2014,1,"KRZYŻANÓW",1002052,2,null,800,13.1,null," Kwota zobowiązań wynikających z przejęcia przez jednostkę samorządu terytorialnego zobowiązań po likwidowanych i przekształcanych samodzielnych zakładach opieki zdrowotnej",true,3,2017,0,"2013-11-08","2014-01-01"]
[2014,1,"KRZYŻANÓW",1002052,2,null,930,"14.3.3",null,"  wypłaty z tytułu wymagalnych poręczeń i gwarancji",true,3,2017,0,"2013-11-08","2014-01-01"]
[2014,1,"KRZYŻANÓW",1002052,2,null,170,"2.1.3",null,"  wydatki na obsługę długu",true,2,2016,0,"2013-11-08","2014-01-01"]
[2014,1,"KRZYŻANÓW",1002052,2,null,210,4,"[4.1] + [4.2] + [4.3] + [4.4]","Przychody budżetu",false,0,2014,0,"2013-11-08","2014-01-01"]
[2014,1,"KRZYŻANÓW",1002052,2,null,210,4,"[4.1] + [4.2] + [4.3] + [4.4]","Przychody budżetu",false,3,2017,0,"2013-11-08","2014-01-01"]
[2014,1,"KRZYŻANÓW",1002052,2,null,210,4,"[4.1] + [4.2] + [4.3] + [4.4]","Przychody budżetu",false,1,2015,0,"2013-11-08","2014-01-01"]
[2014,1,"KRZYŻANÓW",1002052,2,null,550,10,null,"Przeznaczenie prognozowanej nadwyżki budżetowej,  w tym na:",false,1,2015,0,"2013-11-08","2014-01-01"]
[2014,1,"KRZYŻANÓW",1002052,2,null,510,9.6999999999999993,null," Dopuszczalny wskaźnik spłaty zobowiązań określony w art. 243 ustawy, po uwzględnieniu wyłączeń określonych w art. 36 ustawy z dnia 7 grudnia 2012 r. o zmianie niektórych ustaw w związku z realizacją ustawy budżetowej, obliczony w oparciu o plan 3 kwartałów roku poprzedzającego rok budżetowy",true,1,2015,0.21859999999999999,"2013-11-08","2014-01-01"]
[2014,1,"KRZYŻANÓW",1002052,2,null,560,10.1,null," Spłaty kredytów, pożyczek i wykup papierów wartościowych",false,2,2016,0,"2013-11-08","2014-01-01"]
[2014,1,"KRZYŻANÓW",1002052,2,null,590,11.2,null," Wydatki związane z funkcjonowaniem organów jednostki samorządu terytorialnego",true,2,2016,1547135,"2013-11-08","2014-01-01"]
[2014,1,"KRZYŻANÓW",1002052,2,null,90,1.2,null,"  Dochody majątkowe, w tym",true,3,2017,0,"2013-11-08","2014-01-01"]
[2014,1,"KRZYŻANÓW",1002052,2,null,560,10.1,null," Spłaty kredytów, pożyczek i wykup papierów wartościowych",false,3,2017,0,"2013-11-08","2014-01-01"]
[2014,1,"KRZYŻANÓW",1002052,2,null,370,"6.1.1",null,"   - kwota wyłączeń z ograniczeń długu określonych w art. 170 ust. 3 ufp z 2005 r. ",true,0,2014,0,"2013-11-08","2014-01-01"]
[2014,1,"KRZYŻANÓW",1002052,2,null,200,3,"[1] -[2]","Wynik budżetu",false,3,2017,0,"2013-11-08","2014-01-01"]
[2014,1,"KRZYŻANÓW",1002052,2,null,510,9.6999999999999993,null," Dopuszczalny wskaźnik spłaty zobowiązań określony w art. 243 ustawy, po uwzględnieniu wyłączeń określonych w art. 36 ustawy z dnia 7 grudnia 2012 r. o zmianie niektórych ustaw w związku z realizacją ustawy budżetowej, obliczony w oparciu o plan 3 kwartałów roku poprzedzającego rok budżetowy",true,2,2016,0.18340000000000001,"2013-11-08","2014-01-01"]
[2014,1,"KRZYŻANÓW",1002052,2,null,730,12.3,null," Wydatki bieżące na programy, projekty lub zadania finansowane z udziałem środków, o których mowa w art. 5 ust. 1 pkt 2 i 3 ustawy",false,1,2015,0,"2013-11-08","2014-01-01"]
[2014,1,"KRZYŻANÓW",1002052,2,null,920,"14.3.2",null,"  związane z umowami zaliczanymi do tytułów dłużnych wliczanych w państwowy dług publiczny",true,3,2017,0,"2013-11-08","2014-01-01"]
[2014,1,"KRZYŻANÓW",1002052,2,null,300,5,"[5.1] + [5.2]","Rozchody budżetu",false,3,2017,0,"2013-11-08","2014-01-01"]
[2014,1,"KRZYŻANÓW",1002052,2,null,90,1.2,null,"  Dochody majątkowe, w tym",true,0,2014,2379904,"2013-11-08","2014-01-01"]
[2014,1,"KRZYŻANÓW",1002052,2,null,220,4.0999999999999996,null," Nadwyżka budżetowa z lat ubiegłych",false,2,2016,0,"2013-11-08","2014-01-01"]
[2014,1,"KRZYŻANÓW",1002052,2,null,230,"4.1.1",null,"  w tym na pokrycie deficytu budżetu",false,3,2017,0,"2013-11-08","2014-01-01"]
[2014,1,"KRZYŻANÓW",1002052,2,null,505,"9.6.1","( [1.1] -  ( [2.1]  - [2.1.2] ) + [1.2.1] ) / [1]"," Wskaźnik jednoroczny",false,2,2016,0.22259999999999999,"2013-11-08","2014-01-01"]
[2014,1,"KRZYŻANÓW",1002052,2,null,490,9.5,null," Kwota zobowiązań związku współtworzonego przez jednostkę samorządu terytorialnego przypadających do spłaty w danym roku budżetowym, podlegająca doliczeniu zgodnie z art. 244 ustawy ",true,0,2014,0,"2013-11-08","2014-01-01"]
[2014,1,"KRZYŻANÓW",1002052,2,null,240,4.2,null," Wolne środki, o których mowa w art. 217 ust.2 pkt 6 ustawy",false,0,2014,0,"2013-11-08","2014-01-01"]
[2014,1,"KRZYŻANÓW",1002052,2,null,340,5.2,null," Inne rozchody niezwiązane ze spłatą długu",false,1,2015,0,"2013-11-08","2014-01-01"]
[2014,1,"KRZYŻANÓW",1002052,2,null,400,7,null,"Kwota zobowiązań wynikających z przejęcia przez jednostkę samorządu terytorialnego zobowiązań po likwidowanych i przekształcanych jednostkach zaliczanych do sektora  finansów publicznych",true,3,2017,0,"2013-11-08","2014-01-01"]
[2014,1,"KRZYŻANÓW",1002052,2,null,520,"9.7.1",null,"   Dopuszczalny wskaźnik spłaty zobowiązań określony w art. 243 ustawy, po uwzględnieniu wyłączeń określonych w art.  36 ustawy z dnia 7 grudnia 2012 r. o zmianie niektórych ustaw w związku z realizacją ustawy budżetowej, obliczony w oparciu o wykonanie roku poprzedzającego rok budżetowy",true,1,2015,0.20699999999999999,"2013-11-08","2014-01-01"]
[2014,1,"KRZYŻANÓW",1002052,2,null,440,9,null,"Wskaźnik spłaty zobowiązań",false,2,2016,0,"2013-11-08","2014-01-01"]
[2014,1,"KRZYŻANÓW",1002052,2,null,640,11.5,null," Nowe wydatki inwestycyjne",true,1,2015,1200300,"2013-11-08","2014-01-01"]
[2014,1,"KRZYŻANÓW",1002052,2,null,770,"12.4.1",null,"  -  w tym finansowane środkami określonymi w art. 5 ust. 1 pkt 2 ustawy",true,0,2014,0,"2013-11-08","2014-01-01"]
[2014,1,"KRZYŻANÓW",1002052,2,null,490,9.5,null," Kwota zobowiązań związku współtworzonego przez jednostkę samorządu terytorialnego przypadających do spłaty w danym roku budżetowym, podlegająca doliczeniu zgodnie z art. 244 ustawy ",true,1,2015,0,"2013-11-08","2014-01-01"]
[2014,1,"KRZYŻANÓW",1002052,2,null,460,9.1999999999999993,"([2.1.1] + [2.1.3.1] + [5.1] - [5.1.1]- [2.1.1.1] ) / [1]"," Wskaźnik planowanej łącznej kwoty spłaty zobowiązań, o której mowa w art. 169 ust. 1 ufp z 2005 r. do dochodów ogółem, po uwzględnieniu wyłączeń przypadających na dany rok określonych w pkt 5.1.1. ",false,3,2017,0,"2013-11-08","2014-01-01"]
[2014,1,"KRZYŻANÓW",1002052,2,null,610,"11.3.1",null,"   bieżące",true,0,2014,0,"2013-11-08","2014-01-01"]
[2014,1,"KRZYŻANÓW",1002052,2,null,650,11.6,null," Wydatki majątkowe w formie dotacji ",true,0,2014,0,"2013-11-08","2014-01-01"]
[2014,1,"KRZYŻANÓW",1002052,2,null,780,"12.4.2",null,"  Wydatki majątkowe na realizację programu, projektu lub zadania wynikające wyłącznie z zawartych umów z podmiotem dysponującym środkami, o których mowa w art. 5 ust. 1 pkt 2 ustawy ",true,0,2014,0,"2013-11-08","2014-01-01"]
[2014,1,"KRZYŻANÓW",1002052,2,null,390,6.3,"([6] - [6.1]) / [1]"," Wskaźnik zadłużenia do dochodów ogółem, o którym mowa w art.  170 ufp z 2005 r., po uwzględnieniu wyłączeń określonych w pkt 6.1. ",false,1,2015,0,"2013-11-08","2014-01-01"]
[2014,1,"KRZYŻANÓW",1002052,2,null,480,9.4,"([2.1.1] + [2.1.3.1] + [5.1] - [5.1.1]- [2.1.1.1] ) / [1]"," Wskaźnik planowanej łącznej kwoty spłaty zobowiązań, o której mowa w art. 243 ust. 1 ustawy do dochodów ogółem, bez uwzględnienia zobowiązań związku współtworzonego przez jednostkę samorządu terytorialnego, po uwzględnieniu wyłączeń przypadających na dany rok określonych w pkt 5.1.1. ",false,1,2015,0,"2013-11-08","2014-01-01"]
[2014,1,"KRZYŻANÓW",1002052,2,null,370,"6.1.1",null,"   - kwota wyłączeń z ograniczeń długu określonych w art. 170 ust. 3 ufp z 2005 r. ",true,2,2016,0,"2013-11-08","2014-01-01"]
[2014,1,"KRZYŻANÓW",1002052,2,null,930,"14.3.3",null,"  wypłaty z tytułu wymagalnych poręczeń i gwarancji",true,2,2016,0,"2013-11-08","2014-01-01"]
[2014,1,"KRZYŻANÓW",1002052,2,null,350,6,null,"Kwota długu",true,2,2016,0,"2013-11-08","2014-01-01"]
[2014,1,"KRZYŻANÓW",1002052,2,null,190,2.2000000000000002,null," Wydatki majątkowe",false,3,2017,2570000,"2013-11-08","2014-01-01"]
[2014,1,"KRZYŻANÓW",1002052,2,null,290,"4.4.1",null,"   w tym na pokrycie deficytu budżetu",false,3,2017,0,"2013-11-08","2014-01-01"]
[2014,1,"KRZYŻANÓW",1002052,2,null,10,1,"[1.1] + [1.2]","Dochody ogółem",true,0,2014,13601645,"2013-11-08","2014-01-01"]
[2014,1,"KRZYŻANÓW",1002052,2,null,550,10,null,"Przeznaczenie prognozowanej nadwyżki budżetowej,  w tym na:",false,3,2017,0,"2013-11-08","2014-01-01"]
[2014,1,"KRZYŻANÓW",1002052,2,null,620,"11.3.2",null,"   majątkowe",true,1,2015,0,"2013-11-08","2014-01-01"]
[2014,1,"KRZYŻANÓW",1002052,2,null,200,3,"[1] -[2]","Wynik budżetu",false,0,2014,773956.19,"2013-11-08","2014-01-01"]
[2014,1,"KRZYŻANÓW",1002052,2,null,360,6.1,null," Łączna kwota wyłączeń z ograniczeń długu określonych w art. 170 ust. 3 ufp z 2005 r. oraz w art. 36 ustawy o zmianie niektórych ustaw w związku z realizacją ustawy budżetowej",true,2,2016,0,"2013-11-08","2014-01-01"]
[2014,1,"KRZYŻANÓW",1002052,2,null,530,9.8000000000000007,"[9.6] - [9.7]"," Informacja o spełnieniu wskaźnika spłaty zobowiązań określonego w art. 243 ustawy, po uwzględnieniu zobowiązań związku współtworzonego przez jednostkę samorządu terytorialnego oraz po uwzględnieniu wyłączeń określonych w pkt 5.1.1., obliczonego w oparciu o plan 3 kwartałów roku poprzedzającego rok budżetowy",false,3,2017,1875,"2013-11-08","2014-01-01"]
[2014,1,"KRZYŻANÓW",1002052,2,null,80,"1.1.5",null,"  z tytułu dotacji i środków przeznaczonych na cele bieżące",true,0,2014,1350903,"2013-11-08","2014-01-01"]
[2014,1,"KRZYŻANÓW",1002052,2,null,320,"5.1.1",null,"  w tym łączna kwota przypadających na dany rok kwot wyłączeń określonych w: art. 243 ust. 3 pkt 1 ustawy (lub art. 169 ust. 3 pkt 1 ufp z 2005 r.), art. 121a ustawy  z dnia 27 sierpnia 2009 r. – Przepisy wprowadzające ustawę o finansach publicznych  (Dz. U. Nr 157, poz. 1241, z późn. zm.) oraz art.  36 ustawy z dnia 7 grudnia 2012 r. o zmianie niektórych ustaw związanych z realizacją ustawy budżetowej (Dz.U. poz. 1456)",true,1,2015,0,"2013-11-08","2014-01-01"]
[2014,1,"KRZYŻANÓW",1002052,2,null,100,"1.2.1",null,"  ze sprzedaży majątku",true,2,2016,0,"2013-11-08","2014-01-01"]
[2014,1,"KRZYŻANÓW",1002052,2,null,760,12.4,null," Wydatki majątkowe na programy, projekty lub zadania finansowane z udziałem środków, o których mowa w art. 5 ust. 1 pkt 2 i 3 ustawy",true,2,2016,0,"2013-11-08","2014-01-01"]
[2014,1,"KRZYŻANÓW",1002052,2,null,670,12.1,null," Dochody bieżące  na programy, projekty lub zadania finansowane z udziałem środków, o których mowa w art. 5 ust. 1 pkt 2 i 3 ustawy",true,0,2014,0,"2013-11-08","2014-01-01"]
[2014,1,"KRZYŻANÓW",1002052,2,null,630,11.4,null," Wydatki inwestycyjne kontynuowane ",true,0,2014,0,"2013-11-08","2014-01-01"]
[2014,1,"KRZYŻANÓW",1002052,2,null,570,11,null,"Informacje uzupełniające o wybranych rodzajach wydatków budżetowych",false,2,2016,0,"2013-11-08","2014-01-01"]
[2014,1,"KRZYŻANÓW",1002052,2,null,570,11,null,"Informacje uzupełniające o wybranych rodzajach wydatków budżetowych",false,1,2015,0,"2013-11-08","2014-01-01"]
[2014,1,"KRZYŻANÓW",1002052,2,null,60,"1.1.3.1",null,"   z podatku od nieruchomości",true,3,2017,2839000,"2013-11-08","2014-01-01"]
[2014,1,"KRZYŻANÓW",1002052,2,null,640,11.5,null," Nowe wydatki inwestycyjne",true,3,2017,2570000,"2013-11-08","2014-01-01"]
[2014,1,"KRZYŻANÓW",1002052,2,null,420,8.1,"[1.1] - [2.1]"," Różnica między dochodami bieżącymi a  wydatkami bieżącymi",false,2,2016,2682000,"2013-11-08","2014-01-01"]
[2014,1,"KRZYŻANÓW",1002052,2,null,380,6.2,"[6] / [1]"," Wskaźnik zadłużenia do dochodów ogółem określony w art. 170 ufp z 2005 r., bez uwzględniania wyłączeń określonych w pkt 6.1.   ",false,3,2017,0,"2013-11-08","2014-01-01"]
[2014,1,"KRZYŻANÓW",1002052,2,null,150,"2.1.1.1",null,"   w tym: gwarancje i poręczenia podlegające wyłączeniu z limitów spłaty zobowiązań  określonych w art. 243 ust. 3 pkt 2 ustawy z dnia 27 sierpnia 2009 r. o finansach publicznych (Dz. U. Nr 157, poz. 1240, z późn. zm.) lub art. 169 ust. 3 pkt 2 ustawy z dnia 30 czerwca 2005 r. o finansach publicznych (Dz. U. Nr 249, poz. 2104, z późn. zm)",true,0,2014,0,"2013-11-08","2014-01-01"]
[2014,1,"KRZYŻANÓW",1002052,2,null,320,"5.1.1",null,"  w tym łączna kwota przypadających na dany rok kwot wyłączeń określonych w: art. 243 ust. 3 pkt 1 ustawy (lub art. 169 ust. 3 pkt 1 ufp z 2005 r.), art. 121a ustawy  z dnia 27 sierpnia 2009 r. – Przepisy wprowadzające ustawę o finansach publicznych  (Dz. U. Nr 157, poz. 1241, z późn. zm.) oraz art.  36 ustawy z dnia 7 grudnia 2012 r. o zmianie niektórych ustaw związanych z realizacją ustawy budżetowej (Dz.U. poz. 1456)",true,3,2017,0,"2013-11-08","2014-01-01"]
[2014,1,"KRZYŻANÓW",1002052,2,null,770,"12.4.1",null,"  -  w tym finansowane środkami określonymi w art. 5 ust. 1 pkt 2 ustawy",true,2,2016,0,"2013-11-08","2014-01-01"]
[2014,1,"KRZYŻANÓW",1002052,2,null,560,10.1,null," Spłaty kredytów, pożyczek i wykup papierów wartościowych",false,0,2014,773956.19,"2013-11-08","2014-01-01"]
[2014,1,"KRZYŻANÓW",1002052,2,null,890,14.2,null," Kwota długu, którego planowana spłata dokona się z wydatków budżetu",true,0,2014,0,"2013-11-08","2014-01-01"]
[2014,1,"KRZYŻANÓW",1002052,2,null,30,"1.1.1",null,"  dochody z tytułu udziału we wpływach z podatku dochodowego od osób fizycznych",true,1,2015,1335088,"2013-11-08","2014-01-01"]
[2014,1,"KRZYŻANÓW",1002052,2,null,640,11.5,null," Nowe wydatki inwestycyjne",true,2,2016,2682000,"2013-11-08","2014-01-01"]
[2014,1,"KRZYŻANÓW",1002052,2,null,790,13,null,"Kwoty dotyczące przejęcia i spłaty zobowiązań po samodzielnych publicznych zakładach opieki zdrowotnej oraz pokrycia ujemnego wyniku ",true,0,2014,0,"2013-11-08","2014-01-01"]
[2014,1,"KRZYŻANÓW",1002052,2,null,250,"4.2.1",null,"   w tym na pokrycie deficytu budżetu",false,0,2014,0,"2013-11-08","2014-01-01"]
[2014,1,"KRZYŻANÓW",1002052,2,null,700,12.2,null," Dochody majątkowe  na programy, projekty lub zadania finansowane z udziałem środków, o których mowa w art. 5 ust. 1 pkt 2 i 3 ustawy",false,3,2017,0,"2013-11-08","2014-01-01"]
[2014,1,"KRZYŻANÓW",1002052,2,null,760,12.4,null," Wydatki majątkowe na programy, projekty lub zadania finansowane z udziałem środków, o których mowa w art. 5 ust. 1 pkt 2 i 3 ustawy",true,3,2017,0,"2013-11-08","2014-01-01"]
[2014,1,"KRZYŻANÓW",1002052,2,null,310,5.0999999999999996,null," Spłaty rat kapitałowych kredytów i pożyczek oraz wykup papierów wartościowych",true,3,2017,0,"2013-11-08","2014-01-01"]
[2014,1,"KRZYŻANÓW",1002052,2,null,390,6.3,"([6] - [6.1]) / [1]"," Wskaźnik zadłużenia do dochodów ogółem, o którym mowa w art.  170 ufp z 2005 r., po uwzględnieniu wyłączeń określonych w pkt 6.1. ",false,3,2017,0,"2013-11-08","2014-01-01"]
[2014,1,"KRZYŻANÓW",1002052,2,null,510,9.6999999999999993,null," Dopuszczalny wskaźnik spłaty zobowiązań określony w art. 243 ustawy, po uwzględnieniu wyłączeń określonych w art. 36 ustawy z dnia 7 grudnia 2012 r. o zmianie niektórych ustaw w związku z realizacją ustawy budżetowej, obliczony w oparciu o plan 3 kwartałów roku poprzedzającego rok budżetowy",true,0,2014,0.18890000000000001,"2013-11-08","2014-01-01"]
[2014,1,"KRZYŻANÓW",1002052,2,null,730,12.3,null," Wydatki bieżące na programy, projekty lub zadania finansowane z udziałem środków, o których mowa w art. 5 ust. 1 pkt 2 i 3 ustawy",false,3,2017,0,"2013-11-08","2014-01-01"]
[2014,1,"KRZYŻANÓW",1002052,2,null,830,13.4,null," Wydatki na spłatę przejętych zobowiązań samodzielnego publicznego zakładu opieki zdrowotnej przekształconego na zasadach określonych w przepisach  o działalności leczniczej",true,1,2015,0,"2013-11-08","2014-01-01"]
[2014,1,"KRZYŻANÓW",1002052,2,null,170,"2.1.3",null,"  wydatki na obsługę długu",true,3,2017,0,"2013-11-08","2014-01-01"]
[2014,1,"KRZYŻANÓW",1002052,2,null,780,"12.4.2",null,"  Wydatki majątkowe na realizację programu, projektu lub zadania wynikające wyłącznie z zawartych umów z podmiotem dysponującym środkami, o których mowa w art. 5 ust. 1 pkt 2 ustawy ",true,1,2015,0,"2013-11-08","2014-01-01"]
[2014,1,"KRZYŻANÓW",1002052,2,null,520,"9.7.1",null,"   Dopuszczalny wskaźnik spłaty zobowiązań określony w art. 243 ustawy, po uwzględnieniu wyłączeń określonych w art.  36 ustawy z dnia 7 grudnia 2012 r. o zmianie niektórych ustaw w związku z realizacją ustawy budżetowej, obliczony w oparciu o wykonanie roku poprzedzającego rok budżetowy",true,2,2016,0.17180000000000001,"2013-11-08","2014-01-01"]
[2014,1,"KRZYŻANÓW",1002052,2,null,30,"1.1.1",null,"  dochody z tytułu udziału we wpływach z podatku dochodowego od osób fizycznych",true,3,2017,1335088,"2013-11-08","2014-01-01"]
[2014,1,"KRZYŻANÓW",1002052,2,null,870,14,null,"Dane uzupełniające o długu i jego spłacie",true,1,2015,0,"2013-11-08","2014-01-01"]
[2014,1,"KRZYŻANÓW",1002052,2,null,420,8.1,"[1.1] - [2.1]"," Różnica między dochodami bieżącymi a  wydatkami bieżącymi",false,0,2014,2304552.19,"2013-11-08","2014-01-01"]
[2014,1,"KRZYŻANÓW",1002052,2,null,690,"12.1.1.1",null,"   - w tym środki określone w art. 5 ust. 1 pkt 2 ustawy wynikające wyłącznie z  zawartych umów na realizację programu, projektu lub zadania",true,1,2015,0,"2013-11-08","2014-01-01"]
[2014,1,"KRZYŻANÓW",1002052,2,null,140,"2.1.1",null,"  z tytułu poręczeń i gwarancji",true,3,2017,0,"2013-11-08","2014-01-01"]
[2014,1,"KRZYŻANÓW",1002052,2,null,940,14.4,null," Wynik operacji niekasowych wpływających na kwotę długu ( m.in. umorzenia, różnice kursowe)",true,3,2017,0,"2013-11-08","2014-01-01"]
[2014,1,"KRZYŻANÓW",1002052,2,null,180,"2.1.3.1",null,"   w tym odsetki i dyskonto określone w art. 243 ust. 1 ustawy lub art. 169 ust. 1 ufp z 2005 r..",false,1,2015,0,"2013-11-08","2014-01-01"]
[2014,1,"KRZYŻANÓW",1002052,2,null,220,4.0999999999999996,null," Nadwyżka budżetowa z lat ubiegłych",false,0,2014,0,"2013-11-08","2014-01-01"]
[2014,1,"KRZYŻANÓW",1002052,2,null,290,"4.4.1",null,"   w tym na pokrycie deficytu budżetu",false,0,2014,0,"2013-11-08","2014-01-01"]
[2014,1,"KRZYŻANÓW",1002052,2,null,160,"2.1.2",null,"   na spłatę przejętych zobowiązań samodzielnego publicznego zakładu opieki zdrowotnej przekształconego na zasadach określonych w przepisach  o działalności leczniczej, w wysokości w jakiej nie podlegają sfinansowaniu dotacją z budżetu państwa)",true,3,2017,0,"2013-11-08","2014-01-01"]
[2014,1,"KRZYŻANÓW",1002052,2,null,470,9.3000000000000007,"([2.1.1] + [2.1.3.1] + [5.1] ) / [1]"," Wskaźnik planowanej łącznej kwoty spłaty zobowiązań, o której mowa w art. 243 ust. 1 ustawy do dochodów ogółem, bez uwzględnienia zobowiązań związku współtworzonego przez jednostkę samorządu terytorialnego  i bez uwzględniania wyłączeń przypadających na dany rok określonych w pkt 5.1.1.",true,1,2015,0,"2013-11-08","2014-01-01"]
[2014,1,"KRZYŻANÓW",1002052,2,null,850,13.6,null," Wydatki na spłatę zobowiązań samodzielnego publicznego zakładu opieki zdrowotnej przejętych do końca 2011 r. na podstawie przepisów o zakładach opieki zdrowotnej",true,3,2017,0,"2013-11-08","2014-01-01"]
[2014,1,"KRZYŻANÓW",1002052,2,null,880,14.1,null," Spłaty rat kapitałowych oraz wykup papierów wartościowych, o których mowa w pkt. 5.1., wynikające wyłącznie z tytułu zobowiązań już zaciągniętych",true,3,2017,0,"2013-11-08","2014-01-01"]
[2014,1,"KRZYŻANÓW",1002052,2,null,190,2.2000000000000002,null," Wydatki majątkowe",false,2,2016,2682000,"2013-11-08","2014-01-01"]
[2014,1,"KRZYŻANÓW",1002052,2,null,540,"9.8.1","[9.6] - [9.7.1]","  Informacja o spełnieniu wskaźnika spłaty zobowiązań określonego w art. 243 ustawy, po uwzględnieniu zobowiązań związku współtworzonego przez jednostkę samorządu terytorialnego oraz po uwzględnieniu wyłączeń określonych w pkt 5.1.1., obliczonego w oparciu o wykonanie roku poprzedzającego rok budżetowy",false,1,2015,2070,"2013-11-08","2014-01-01"]
[2014,1,"KRZYŻANÓW",1002052,2,null,850,13.6,null," Wydatki na spłatę zobowiązań samodzielnego publicznego zakładu opieki zdrowotnej przejętych do końca 2011 r. na podstawie przepisów o zakładach opieki zdrowotnej",true,1,2015,0,"2013-11-08","2014-01-01"]
[2014,1,"KRZYŻANÓW",1002052,2,null,140,"2.1.1",null,"  z tytułu poręczeń i gwarancji",true,2,2016,0,"2013-11-08","2014-01-01"]
[2014,1,"KRZYŻANÓW",1002052,2,null,30,"1.1.1",null,"  dochody z tytułu udziału we wpływach z podatku dochodowego od osób fizycznych",true,2,2016,1335088,"2013-11-08","2014-01-01"]
[2014,1,"KRZYŻANÓW",1002052,2,null,180,"2.1.3.1",null,"   w tym odsetki i dyskonto określone w art. 243 ust. 1 ustawy lub art. 169 ust. 1 ufp z 2005 r..",false,0,2014,20000,"2013-11-08","2014-01-01"]
[2014,1,"KRZYŻANÓW",1002052,2,null,240,4.2,null," Wolne środki, o których mowa w art. 217 ust.2 pkt 6 ustawy",false,2,2016,0,"2013-11-08","2014-01-01"]
[2014,1,"KRZYŻANÓW",1002052,2,null,740,"12.3.1",null,"  -  w tym finansowane środkami określonymi w art. 5 ust. 1 pkt 2 ustawy ",false,2,2016,0,"2013-11-08","2014-01-01"]
[2014,1,"KRZYŻANÓW",1002052,2,null,690,"12.1.1.1",null,"   - w tym środki określone w art. 5 ust. 1 pkt 2 ustawy wynikające wyłącznie z  zawartych umów na realizację programu, projektu lub zadania",true,2,2016,0,"2013-11-08","2014-01-01"]
[2014,1,"KRZYŻANÓW",1002052,2,null,350,6,null,"Kwota długu",true,3,2017,0,"2013-11-08","2014-01-01"]
[2014,1,"KRZYŻANÓW",1002052,2,null,800,13.1,null," Kwota zobowiązań wynikających z przejęcia przez jednostkę samorządu terytorialnego zobowiązań po likwidowanych i przekształcanych samodzielnych zakładach opieki zdrowotnej",true,2,2016,0,"2013-11-08","2014-01-01"]
[2014,1,"KRZYŻANÓW",1002052,2,null,780,"12.4.2",null,"  Wydatki majątkowe na realizację programu, projektu lub zadania wynikające wyłącznie z zawartych umów z podmiotem dysponującym środkami, o których mowa w art. 5 ust. 1 pkt 2 ustawy ",true,2,2016,0,"2013-11-08","2014-01-01"]
[2014,1,"KRZYŻANÓW",1002052,2,null,840,13.5,null," Wydatki na spłatę przejętych zobowiązań samodzielnego publicznego zakładu opieki zdrowotnej likwidowanego na zasadach określonych w przepisach  o działalności leczniczej",true,0,2014,0,"2013-11-08","2014-01-01"]
[2014,1,"KRZYŻANÓW",1002052,2,null,100,"1.2.1",null,"  ze sprzedaży majątku",true,0,2014,200000,"2013-11-08","2014-01-01"]
[2014,1,"KRZYŻANÓW",1002052,2,null,910,"14.3.1",null,"  spłata zobowiązań wymagalnych z lat poprzednich, innych niż w pkt 14.3.3",true,1,2015,0,"2013-11-08","2014-01-01"]
[2014,1,"KRZYŻANÓW",1002052,2,null,910,"14.3.1",null,"  spłata zobowiązań wymagalnych z lat poprzednich, innych niż w pkt 14.3.3",true,0,2014,0,"2013-11-08","2014-01-01"]
[2014,1,"KRZYŻANÓW",1002052,2,null,650,11.6,null," Wydatki majątkowe w formie dotacji ",true,1,2015,0,"2013-11-08","2014-01-01"]
[2014,1,"KRZYŻANÓW",1002052,2,null,690,"12.1.1.1",null,"   - w tym środki określone w art. 5 ust. 1 pkt 2 ustawy wynikające wyłącznie z  zawartych umów na realizację programu, projektu lub zadania",true,3,2017,0,"2013-11-08","2014-01-01"]
[2014,1,"KRZYŻANÓW",1002052,2,null,550,10,null,"Przeznaczenie prognozowanej nadwyżki budżetowej,  w tym na:",false,2,2016,0,"2013-11-08","2014-01-01"]
[2014,1,"KRZYŻANÓW",1002052,2,null,270,"4.3.1",null,"   w tym na pokrycie deficytu budżetu",true,3,2017,0,"2013-11-08","2014-01-01"]
[2014,1,"KRZYŻANÓW",1002052,2,null,230,"4.1.1",null,"  w tym na pokrycie deficytu budżetu",false,1,2015,0,"2013-11-08","2014-01-01"]
[2014,1,"KRZYŻANÓW",1002052,2,null,500,9.6,"([2.1.1]+[2.1.3.1] + [5.1]+[9.5]-[5.1.1]- [2.1.1.1] )/[1]"," Wskaźnik planowanej łącznej kwoty spłaty zobowiązań, o której mowa w art. 243 ust. 1 ustawy do dochodów ogółem, po uwzględnieniu zobowiązań związku współtworzonego przez jednostkę samorządu terytorialnego oraz po uwzględnieniu wyłączeń przypadających na dany rok określonych w pkt 5.1.1.",false,2,2016,0,"2013-11-08","2014-01-01"]
[2014,1,"KRZYŻANÓW",1002052,2,null,380,6.2,"[6] / [1]"," Wskaźnik zadłużenia do dochodów ogółem określony w art. 170 ufp z 2005 r., bez uwzględniania wyłączeń określonych w pkt 6.1.   ",false,2,2016,0,"2013-11-08","2014-01-01"]
[2014,1,"KRZYŻANÓW",1002052,2,null,170,"2.1.3",null,"  wydatki na obsługę długu",true,0,2014,20000,"2013-11-08","2014-01-01"]
[2014,1,"KRZYŻANÓW",1002052,2,null,20,1.1000000000000001,null," Dochody bieżące",true,1,2015,10825000,"2013-11-08","2014-01-01"]
[2014,1,"KRZYŻANÓW",1002052,2,null,20,1.1000000000000001,null," Dochody bieżące",true,3,2017,12170000,"2013-11-08","2014-01-01"]
[2014,1,"KRZYŻANÓW",1002052,2,null,400,7,null,"Kwota zobowiązań wynikających z przejęcia przez jednostkę samorządu terytorialnego zobowiązań po likwidowanych i przekształcanych jednostkach zaliczanych do sektora  finansów publicznych",true,1,2015,0,"2013-11-08","2014-01-01"]
[2014,1,"KRZYŻANÓW",1002052,2,null,430,8.1999999999999993,"[1.1] + [4.1] + [4.2] - (  [2.1] - [2.1.2]  )"," Różnica między dochodami bieżącymi, powiększonymi o nadwyżkę budżetową określoną w pkt 4.1. i wolne środki określone w pkt 4.2.  a wydatkami bieżącymi, pomniejszonym o wydatki określone w pkt  2.1.2.",false,3,2017,2570000,"2013-11-08","2014-01-01"]
[2014,1,"KRZYŻANÓW",1002052,2,null,50,"1.1.3",null,"  podatki i opłaty",true,2,2016,5356000,"2013-11-08","2014-01-01"]
[2014,1,"KRZYŻANÓW",1002052,2,null,700,12.2,null," Dochody majątkowe  na programy, projekty lub zadania finansowane z udziałem środków, o których mowa w art. 5 ust. 1 pkt 2 i 3 ustawy",false,1,2015,0,"2013-11-08","2014-01-01"]
[2014,1,"KRZYŻANÓW",1002052,2,null,500,9.6,"([2.1.1]+[2.1.3.1] + [5.1]+[9.5]-[5.1.1]- [2.1.1.1] )/[1]"," Wskaźnik planowanej łącznej kwoty spłaty zobowiązań, o której mowa w art. 243 ust. 1 ustawy do dochodów ogółem, po uwzględnieniu zobowiązań związku współtworzonego przez jednostkę samorządu terytorialnego oraz po uwzględnieniu wyłączeń przypadających na dany rok określonych w pkt 5.1.1.",false,3,2017,0,"2013-11-08","2014-01-01"]
[2014,1,"KRZYŻANÓW",1002052,2,null,810,13.2,null," Dochody budżetowe z tytułu dotacji celowej z budżetu państwa, o której mowa w art. 196 ustawy z  dnia 15 kwietnia 2011 r.  o działalności leczniczej (Dz.U. Nr 112, poz. 654, z późn. zm.)",true,0,2014,0,"2013-11-08","2014-01-01"]
[2014,1,"KRZYŻANÓW",1002052,2,null,610,"11.3.1",null,"   bieżące",true,1,2015,0,"2013-11-08","2014-01-01"]
[2014,1,"KRZYŻANÓW",1002052,2,null,530,9.8000000000000007,"[9.6] - [9.7]"," Informacja o spełnieniu wskaźnika spłaty zobowiązań określonego w art. 243 ustawy, po uwzględnieniu zobowiązań związku współtworzonego przez jednostkę samorządu terytorialnego oraz po uwzględnieniu wyłączeń określonych w pkt 5.1.1., obliczonego w oparciu o plan 3 kwartałów roku poprzedzającego rok budżetowy",false,2,2016,1834,"2013-11-08","2014-01-01"]
[2014,1,"KRZYŻANÓW",1002052,2,null,900,14.3,null," Wydatki zmniejszające dług, w tym",true,3,2017,0,"2013-11-08","2014-01-01"]
[2014,1,"KRZYŻANÓW",1002052,2,null,280,4.4000000000000004,null," Inne przychody niezwiązane z zaciągnięciem długu",false,0,2014,0,"2013-11-08","2014-01-01"]
[2014,1,"KRZYŻANÓW",1002052,2,null,20,1.1000000000000001,null," Dochody bieżące",true,0,2014,11221741,"2013-11-08","2014-01-01"]
[2014,1,"KRZYŻANÓW",1002052,2,null,505,"9.6.1","( [1.1] -  ( [2.1]  - [2.1.2] ) + [1.2.1] ) / [1]"," Wskaźnik jednoroczny",false,3,2017,0.2112,"2013-11-08","2014-01-01"]
[2014,1,"KRZYŻANÓW",1002052,2,null,940,14.4,null," Wynik operacji niekasowych wpływających na kwotę długu ( m.in. umorzenia, różnice kursowe)",true,1,2015,0,"2013-11-08","2014-01-01"]
[2014,1,"KRZYŻANÓW",1002052,2,null,830,13.4,null," Wydatki na spłatę przejętych zobowiązań samodzielnego publicznego zakładu opieki zdrowotnej przekształconego na zasadach określonych w przepisach  o działalności leczniczej",true,2,2016,0,"2013-11-08","2014-01-01"]
[2014,1,"KRZYŻANÓW",1002052,2,null,480,9.4,"([2.1.1] + [2.1.3.1] + [5.1] - [5.1.1]- [2.1.1.1] ) / [1]"," Wskaźnik planowanej łącznej kwoty spłaty zobowiązań, o której mowa w art. 243 ust. 1 ustawy do dochodów ogółem, bez uwzględnienia zobowiązań związku współtworzonego przez jednostkę samorządu terytorialnego, po uwzględnieniu wyłączeń przypadających na dany rok określonych w pkt 5.1.1. ",false,2,2016,0,"2013-11-08","2014-01-01"]
[2014,1,"KRZYŻANÓW",1002052,2,null,720,"12.2.1.1",null,"    - w tym środki określone w art. 5 ust. 1 pkt 2 ustawy wynikające wyłącznie z zawartych umów na realizację programu, projektu lub zadania",false,1,2015,0,"2013-11-08","2014-01-01"]
[2014,1,"KRZYŻANÓW",1002052,2,null,510,9.6999999999999993,null," Dopuszczalny wskaźnik spłaty zobowiązań określony w art. 243 ustawy, po uwzględnieniu wyłączeń określonych w art. 36 ustawy z dnia 7 grudnia 2012 r. o zmianie niektórych ustaw w związku z realizacją ustawy budżetowej, obliczony w oparciu o plan 3 kwartałów roku poprzedzającego rok budżetowy",true,3,2017,0.1875,"2013-11-08","2014-01-01"]
[2014,1,"KRZYŻANÓW",1002052,2,null,700,12.2,null," Dochody majątkowe  na programy, projekty lub zadania finansowane z udziałem środków, o których mowa w art. 5 ust. 1 pkt 2 i 3 ustawy",false,2,2016,0,"2013-11-08","2014-01-01"]
[2014,1,"KRZYŻANÓW",1002052,2,null,600,11.3,"[11.3.1] + [11.3.2]"," Wydatki objęte limitem art. 226 ust. 3 ustawy",true,1,2015,0,"2013-11-08","2014-01-01"]
[2014,1,"KRZYŻANÓW",1002052,2,null,140,"2.1.1",null,"  z tytułu poręczeń i gwarancji",true,0,2014,0,"2013-11-08","2014-01-01"]
[2014,1,"KRZYŻANÓW",1002052,2,null,660,12,null,"Finansowanie programów, projektów lub zadań realizowanych z udziałem środków, o których mowa w art. 5 ust. 1 pkt 2 i 3 ustawy",true,3,2017,0,"2013-11-08","2014-01-01"]
[2014,1,"KRZYŻANÓW",1002052,2,null,710,"12.2.1",null,"   -  w tym środki określone w art. 5 ust. 1 pkt 2 ustawy",false,3,2017,0,"2013-11-08","2014-01-01"]
[2014,1,"KRZYŻANÓW",1002052,2,null,340,5.2,null," Inne rozchody niezwiązane ze spłatą długu",false,0,2014,0,"2013-11-08","2014-01-01"]
[2014,1,"KRZYŻANÓW",1002052,2,null,880,14.1,null," Spłaty rat kapitałowych oraz wykup papierów wartościowych, o których mowa w pkt. 5.1., wynikające wyłącznie z tytułu zobowiązań już zaciągniętych",true,2,2016,0,"2013-11-08","2014-01-01"]
[2014,1,"KRZYŻANÓW",1002052,2,null,730,12.3,null," Wydatki bieżące na programy, projekty lub zadania finansowane z udziałem środków, o których mowa w art. 5 ust. 1 pkt 2 i 3 ustawy",false,2,2016,0,"2013-11-08","2014-01-01"]
[2014,1,"KRZYŻANÓW",1002052,2,null,130,2.1,null," Wydatki bieżące, w tym:",true,3,2017,9600000,"2013-11-08","2014-01-01"]
[2014,1,"KRZYŻANÓW",1002052,2,null,330,"5.1.1.1",null,"   w tym kwota przypadających na dany rok kwot wyłączeń określonych w art. 243 ust. 3 pkt 1 ustawy lub art. 169 ust. 3 pkt 1 ufp z 2005 r.",true,1,2015,0,"2013-11-08","2014-01-01"]
[2014,1,"KRZYŻANÓW",1002052,2,null,50,"1.1.3",null,"  podatki i opłaty",true,3,2017,5410000,"2013-11-08","2014-01-01"]
[2014,1,"KRZYŻANÓW",1002052,2,null,830,13.4,null," Wydatki na spłatę przejętych zobowiązań samodzielnego publicznego zakładu opieki zdrowotnej przekształconego na zasadach określonych w przepisach  o działalności leczniczej",true,3,2017,0,"2013-11-08","2014-01-01"]
[2014,1,"KRZYŻANÓW",1002052,2,null,740,"12.3.1",null,"  -  w tym finansowane środkami określonymi w art. 5 ust. 1 pkt 2 ustawy ",false,3,2017,0,"2013-11-08","2014-01-01"]
[2014,1,"KRZYŻANÓW",1002052,2,null,180,"2.1.3.1",null,"   w tym odsetki i dyskonto określone w art. 243 ust. 1 ustawy lub art. 169 ust. 1 ufp z 2005 r..",false,2,2016,0,"2013-11-08","2014-01-01"]
[2014,1,"KRZYŻANÓW",1002052,2,null,570,11,null,"Informacje uzupełniające o wybranych rodzajach wydatków budżetowych",false,3,2017,0,"2013-11-08","2014-01-01"]
[2014,1,"KRZYŻANÓW",1002052,2,null,110,"1.2.2",null,"  z tytułu dotacji oraz środków przeznaczonych na inwestycje",true,2,2016,0,"2013-11-08","2014-01-01"]
[2014,1,"KRZYŻANÓW",1002052,2,null,600,11.3,"[11.3.1] + [11.3.2]"," Wydatki objęte limitem art. 226 ust. 3 ustawy",true,0,2014,0,"2013-11-08","2014-01-01"]
[2014,1,"KRZYŻANÓW",1002052,2,null,170,"2.1.3",null,"  wydatki na obsługę długu",true,1,2015,0,"2013-11-08","2014-01-01"]
[2014,1,"KRZYŻANÓW",1002052,2,null,220,4.0999999999999996,null," Nadwyżka budżetowa z lat ubiegłych",false,3,2017,0,"2013-11-08","2014-01-01"]
[2014,1,"KRZYŻANÓW",1002052,2,null,260,4.3,null,"  Kredyty, pożyczki, emisja papierów wartościowych",true,3,2017,0,"2013-11-08","2014-01-01"]
[2014,1,"KRZYŻANÓW",1002052,2,null,430,8.1999999999999993,"[1.1] + [4.1] + [4.2] - (  [2.1] - [2.1.2]  )"," Różnica między dochodami bieżącymi, powiększonymi o nadwyżkę budżetową określoną w pkt 4.1. i wolne środki określone w pkt 4.2.  a wydatkami bieżącymi, pomniejszonym o wydatki określone w pkt  2.1.2.",false,1,2015,1685000,"2013-11-08","2014-01-01"]
[2014,1,"KRZYŻANÓW",1002052,2,null,160,"2.1.2",null,"   na spłatę przejętych zobowiązań samodzielnego publicznego zakładu opieki zdrowotnej przekształconego na zasadach określonych w przepisach  o działalności leczniczej, w wysokości w jakiej nie podlegają sfinansowaniu dotacją z budżetu państwa)",true,0,2014,0,"2013-11-08","2014-01-01"]
[2014,1,"KRZYŻANÓW",1002052,2,null,440,9,null,"Wskaźnik spłaty zobowiązań",false,1,2015,0,"2013-11-08","2014-01-01"]
[2014,1,"KRZYŻANÓW",1002052,2,null,930,"14.3.3",null,"  wypłaty z tytułu wymagalnych poręczeń i gwarancji",true,0,2014,0,"2013-11-08","2014-01-01"]
[2014,1,"KRZYŻANÓW",1002052,2,null,300,5,"[5.1] + [5.2]","Rozchody budżetu",false,1,2015,0,"2013-11-08","2014-01-01"]
[2014,1,"KRZYŻANÓW",1002052,2,null,590,11.2,null," Wydatki związane z funkcjonowaniem organów jednostki samorządu terytorialnego",true,0,2014,1472583,"2013-11-08","2014-01-01"]
[2014,1,"KRZYŻANÓW",1002052,2,null,740,"12.3.1",null,"  -  w tym finansowane środkami określonymi w art. 5 ust. 1 pkt 2 ustawy ",false,0,2014,0,"2013-11-08","2014-01-01"]
[2014,1,"KRZYŻANÓW",1002052,2,null,580,11.1,null," Wydatki bieżące na wynagrodzenia i składki od nich naliczane",false,0,2014,4167113,"2013-11-08","2014-01-01"]
[2014,1,"KRZYŻANÓW",1002052,2,null,860,13.7,null," Wydatki bieżące na pokrycie ujemnego wyniku finansowego samodzielnego publicznego zakładu opieki zdrowotnej",true,2,2016,0,"2013-11-08","2014-01-01"]
[2014,1,"KRZYŻANÓW",1002052,2,null,650,11.6,null," Wydatki majątkowe w formie dotacji ",true,2,2016,0,"2013-11-08","2014-01-01"]
[2014,1,"KRZYŻANÓW",1002052,2,null,260,4.3,null,"  Kredyty, pożyczki, emisja papierów wartościowych",true,0,2014,0,"2013-11-08","2014-01-01"]
[2014,1,"KRZYŻANÓW",1002052,2,null,220,4.0999999999999996,null," Nadwyżka budżetowa z lat ubiegłych",false,1,2015,0,"2013-11-08","2014-01-01"]
[2014,1,"KRZYŻANÓW",1002052,2,null,810,13.2,null," Dochody budżetowe z tytułu dotacji celowej z budżetu państwa, o której mowa w art. 196 ustawy z  dnia 15 kwietnia 2011 r.  o działalności leczniczej (Dz.U. Nr 112, poz. 654, z późn. zm.)",true,2,2016,0,"2013-11-08","2014-01-01"]
[2014,1,"KRZYŻANÓW",1002052,2,null,150,"2.1.1.1",null,"   w tym: gwarancje i poręczenia podlegające wyłączeniu z limitów spłaty zobowiązań  określonych w art. 243 ust. 3 pkt 2 ustawy z dnia 27 sierpnia 2009 r. o finansach publicznych (Dz. U. Nr 157, poz. 1240, z późn. zm.) lub art. 169 ust. 3 pkt 2 ustawy z dnia 30 czerwca 2005 r. o finansach publicznych (Dz. U. Nr 249, poz. 2104, z późn. zm)",true,1,2015,0,"2013-11-08","2014-01-01"]
[2014,1,"KRZYŻANÓW",1002052,2,null,490,9.5,null," Kwota zobowiązań związku współtworzonego przez jednostkę samorządu terytorialnego przypadających do spłaty w danym roku budżetowym, podlegająca doliczeniu zgodnie z art. 244 ustawy ",true,3,2017,0,"2013-11-08","2014-01-01"]
[2014,1,"KRZYŻANÓW",1002052,2,null,70,"1.1.4",null,"  z subwencji ogólnej",true,0,2014,3294922,"2013-11-08","2014-01-01"]
[2014,1,"KRZYŻANÓW",1002052,2,null,50,"1.1.3",null,"  podatki i opłaty",true,1,2015,4194000,"2013-11-08","2014-01-01"]
[2014,1,"KRZYŻANÓW",1002052,2,null,720,"12.2.1.1",null,"    - w tym środki określone w art. 5 ust. 1 pkt 2 ustawy wynikające wyłącznie z zawartych umów na realizację programu, projektu lub zadania",false,3,2017,0,"2013-11-08","2014-01-01"]
[2014,1,"KRZYŻANÓW",1002052,2,null,250,"4.2.1",null,"   w tym na pokrycie deficytu budżetu",false,2,2016,0,"2013-11-08","2014-01-01"]
[2014,1,"KRZYŻANÓW",1002052,2,null,310,5.0999999999999996,null," Spłaty rat kapitałowych kredytów i pożyczek oraz wykup papierów wartościowych",true,2,2016,0,"2013-11-08","2014-01-01"]
[2014,1,"KRZYŻANÓW",1002052,2,null,680,"12.1.1",null,"  -  w tym środki określone w art. 5 ust. 1 pkt 2 ustawy",true,2,2016,0,"2013-11-08","2014-01-01"]
[2014,1,"KRZYŻANÓW",1002052,2,null,410,8,null,"Relacja zrównoważenia wydatków bieżących, o której mowa w art. 242 ustawy",true,1,2015,0,"2013-11-08","2014-01-01"]
[2014,1,"KRZYŻANÓW",1002052,2,null,290,"4.4.1",null,"   w tym na pokrycie deficytu budżetu",false,1,2015,0,"2013-11-08","2014-01-01"]
[2014,1,"KRZYŻANÓW",1002052,2,null,180,"2.1.3.1",null,"   w tym odsetki i dyskonto określone w art. 243 ust. 1 ustawy lub art. 169 ust. 1 ufp z 2005 r..",false,3,2017,0,"2013-11-08","2014-01-01"]
[2014,1,"KRZYŻANÓW",1002052,2,null,800,13.1,null," Kwota zobowiązań wynikających z przejęcia przez jednostkę samorządu terytorialnego zobowiązań po likwidowanych i przekształcanych samodzielnych zakładach opieki zdrowotnej",true,0,2014,0,"2013-11-08","2014-01-01"]
[2014,1,"KRZYŻANÓW",1002052,2,null,360,6.1,null," Łączna kwota wyłączeń z ograniczeń długu określonych w art. 170 ust. 3 ufp z 2005 r. oraz w art. 36 ustawy o zmianie niektórych ustaw w związku z realizacją ustawy budżetowej",true,3,2017,0,"2013-11-08","2014-01-01"]
[2014,1,"KRZYŻANÓW",1002052,2,null,940,14.4,null," Wynik operacji niekasowych wpływających na kwotę długu ( m.in. umorzenia, różnice kursowe)",true,0,2014,0,"2013-11-08","2014-01-01"]
[2014,1,"KRZYŻANÓW",1002052,2,null,790,13,null,"Kwoty dotyczące przejęcia i spłaty zobowiązań po samodzielnych publicznych zakładach opieki zdrowotnej oraz pokrycia ujemnego wyniku ",true,1,2015,0,"2013-11-08","2014-01-01"]
[2014,1,"KRZYŻANÓW",1002052,2,null,630,11.4,null," Wydatki inwestycyjne kontynuowane ",true,2,2016,0,"2013-11-08","2014-01-01"]
[2014,1,"KRZYŻANÓW",1002052,2,null,900,14.3,null," Wydatki zmniejszające dług, w tym",true,2,2016,0,"2013-11-08","2014-01-01"]
[2014,1,"KRZYŻANÓW",1002052,2,null,620,"11.3.2",null,"   majątkowe",true,0,2014,0,"2013-11-08","2014-01-01"]
[2014,1,"KRZYŻANÓW",1002052,2,null,200,3,"[1] -[2]","Wynik budżetu",false,1,2015,0,"2013-11-08","2014-01-01"]
[2014,1,"KRZYŻANÓW",1002052,2,null,40,"1.1.2",null,"  dochody z tytułu udziału we wpływach z podatku dochodowego od osób prawnych",true,1,2015,1000,"2013-11-08","2014-01-01"]
[2014,1,"KRZYŻANÓW",1002052,2,null,810,13.2,null," Dochody budżetowe z tytułu dotacji celowej z budżetu państwa, o której mowa w art. 196 ustawy z  dnia 15 kwietnia 2011 r.  o działalności leczniczej (Dz.U. Nr 112, poz. 654, z późn. zm.)",true,1,2015,0,"2013-11-08","2014-01-01"]
[2014,1,"KRZYŻANÓW",1002052,2,null,840,13.5,null," Wydatki na spłatę przejętych zobowiązań samodzielnego publicznego zakładu opieki zdrowotnej likwidowanego na zasadach określonych w przepisach  o działalności leczniczej",true,2,2016,0,"2013-11-08","2014-01-01"]
[2014,1,"KRZYŻANÓW",1002052,2,null,610,"11.3.1",null,"   bieżące",true,3,2017,0,"2013-11-08","2014-01-01"]
[2014,1,"KRZYŻANÓW",1002052,2,null,505,"9.6.1","( [1.1] -  ( [2.1]  - [2.1.2] ) + [1.2.1] ) / [1]"," Wskaźnik jednoroczny",false,0,2014,0.18410000000000001,"2013-11-08","2014-01-01"]
[2014,1,"KRZYŻANÓW",1002052,2,null,750,"12.3.2",null,"  Wydatki bieżące na realizację programu, projektu lub zadania wynikające wyłącznie z zawartych umów z podmiotem dysponującym środkami, o których mowa w art. 5 ust. 1 pkt 2 ustawy ",false,2,2016,0,"2013-11-08","2014-01-01"]
[2014,1,"KRZYŻANÓW",1002052,2,null,60,"1.1.3.1",null,"   z podatku od nieruchomości",true,2,2016,2811000,"2013-11-08","2014-01-01"]
[2014,1,"KRZYŻANÓW",1002052,2,null,450,9.1,"([2.1.1] + [2.1.3.1] + [5.1] ) / [1]"," Wskaźnik planowanej łącznej kwoty spłaty zobowiązań, o której mowa w art. 169 ust. 1 ufp z 2005 r. do dochodów ogółem, bez uwzględnienia wyłączeń określonych w pkt 5.1.1.  ",true,0,2014,5.8400000000000001E-2,"2013-11-08","2014-01-01"]
[2014,1,"KRZYŻANÓW",1002052,2,null,330,"5.1.1.1",null,"   w tym kwota przypadających na dany rok kwot wyłączeń określonych w art. 243 ust. 3 pkt 1 ustawy lub art. 169 ust. 3 pkt 1 ufp z 2005 r.",true,2,2016,0,"2013-11-08","2014-01-01"]
[2014,1,"KRZYŻANÓW",1002052,2,null,680,"12.1.1",null,"  -  w tym środki określone w art. 5 ust. 1 pkt 2 ustawy",true,3,2017,0,"2013-11-08","2014-01-01"]
[2014,1,"KRZYŻANÓW",1002052,2,null,440,9,null,"Wskaźnik spłaty zobowiązań",false,0,2014,0,"2013-11-08","2014-01-01"]
[2014,1,"KRZYŻANÓW",1002052,2,null,440,9,null,"Wskaźnik spłaty zobowiązań",false,3,2017,0,"2013-11-08","2014-01-01"]
[2014,1,"KRZYŻANÓW",1002052,2,null,130,2.1,null," Wydatki bieżące, w tym:",true,1,2015,9140000,"2013-11-08","2014-01-01"]
[2014,1,"KRZYŻANÓW",1002052,2,null,160,"2.1.2",null,"   na spłatę przejętych zobowiązań samodzielnego publicznego zakładu opieki zdrowotnej przekształconego na zasadach określonych w przepisach  o działalności leczniczej, w wysokości w jakiej nie podlegają sfinansowaniu dotacją z budżetu państwa)",true,2,2016,0,"2013-11-08","2014-01-01"]
[2014,1,"KRZYŻANÓW",1002052,2,null,90,1.2,null,"  Dochody majątkowe, w tym",true,2,2016,0,"2013-11-08","2014-01-01"]
[2014,1,"KRZYŻANÓW",1002052,2,null,900,14.3,null," Wydatki zmniejszające dług, w tym",true,0,2014,0,"2013-11-08","2014-01-01"]
[2014,1,"KRZYŻANÓW",1002052,2,null,60,"1.1.3.1",null,"   z podatku od nieruchomości",true,1,2015,1674000,"2013-11-08","2014-01-01"]
[2014,1,"KRZYŻANÓW",1002052,2,null,580,11.1,null," Wydatki bieżące na wynagrodzenia i składki od nich naliczane",false,2,2016,4378000,"2013-11-08","2014-01-01"]
[2014,1,"KRZYŻANÓW",1002052,2,null,340,5.2,null," Inne rozchody niezwiązane ze spłatą długu",false,3,2017,0,"2013-11-08","2014-01-01"]
[2014,1,"KRZYŻANÓW",1002052,2,null,190,2.2000000000000002,null," Wydatki majątkowe",false,0,2014,3910500,"2013-11-08","2014-01-01"]
[2014,1,"KRZYŻANÓW",1002052,2,null,910,"14.3.1",null,"  spłata zobowiązań wymagalnych z lat poprzednich, innych niż w pkt 14.3.3",true,3,2017,0,"2013-11-08","2014-01-01"]
[2014,1,"KRZYŻANÓW",1002052,2,null,70,"1.1.4",null,"  z subwencji ogólnej",true,2,2016,3294922,"2013-11-08","2014-01-01"]
[2014,1,"KRZYŻANÓW",1002052,2,null,90,1.2,null,"  Dochody majątkowe, w tym",true,1,2015,0,"2013-11-08","2014-01-01"]
[2014,1,"KRZYŻANÓW",1002052,2,null,870,14,null,"Dane uzupełniające o długu i jego spłacie",true,2,2016,0,"2013-11-08","2014-01-01"]
[2014,1,"KRZYŻANÓW",1002052,2,null,270,"4.3.1",null,"   w tym na pokrycie deficytu budżetu",true,0,2014,0,"2013-11-08","2014-01-01"]
[2014,1,"KRZYŻANÓW",1002052,2,null,880,14.1,null," Spłaty rat kapitałowych oraz wykup papierów wartościowych, o których mowa w pkt. 5.1., wynikające wyłącznie z tytułu zobowiązań już zaciągniętych",true,1,2015,0,"2013-11-08","2014-01-01"]
[2014,1,"KRZYŻANÓW",1002052,2,null,410,8,null,"Relacja zrównoważenia wydatków bieżących, o której mowa w art. 242 ustawy",true,2,2016,0,"2013-11-08","2014-01-01"]
[2014,1,"KRZYŻANÓW",1002052,2,null,860,13.7,null," Wydatki bieżące na pokrycie ujemnego wyniku finansowego samodzielnego publicznego zakładu opieki zdrowotnej",true,0,2014,0,"2013-11-08","2014-01-01"]
[2014,1,"KRZYŻANÓW",1002052,2,null,600,11.3,"[11.3.1] + [11.3.2]"," Wydatki objęte limitem art. 226 ust. 3 ustawy",true,3,2017,0,"2013-11-08","2014-01-01"]
[2014,1,"KRZYŻANÓW",1002052,2,null,700,12.2,null," Dochody majątkowe  na programy, projekty lub zadania finansowane z udziałem środków, o których mowa w art. 5 ust. 1 pkt 2 i 3 ustawy",false,0,2014,2114404,"2013-11-08","2014-01-01"]
[2014,1,"KRZYŻANÓW",1002052,2,null,790,13,null,"Kwoty dotyczące przejęcia i spłaty zobowiązań po samodzielnych publicznych zakładach opieki zdrowotnej oraz pokrycia ujemnego wyniku ",true,2,2016,0,"2013-11-08","2014-01-01"]
[2014,1,"KRZYŻANÓW",1002052,2,null,270,"4.3.1",null,"   w tym na pokrycie deficytu budżetu",true,1,2015,0,"2013-11-08","2014-01-01"]
[2014,1,"KRZYŻANÓW",1002052,2,null,400,7,null,"Kwota zobowiązań wynikających z przejęcia przez jednostkę samorządu terytorialnego zobowiązań po likwidowanych i przekształcanych jednostkach zaliczanych do sektora  finansów publicznych",true,0,2014,0,"2013-11-08","2014-01-01"]
[2014,1,"KRZYŻANÓW",1002052,2,null,10,1,"[1.1] + [1.2]","Dochody ogółem",true,2,2016,12050000,"2013-11-08","2014-01-01"]
[2014,1,"KRZYŻANÓW",1002052,2,null,620,"11.3.2",null,"   majątkowe",true,3,2017,0,"2013-11-08","2014-01-01"]
[2014,1,"KRZYŻANÓW",1002052,2,null,640,11.5,null," Nowe wydatki inwestycyjne",true,0,2014,3910500,"2013-11-08","2014-01-01"]
[2014,1,"KRZYŻANÓW",1002052,2,null,820,13.3,null," Wysokość zobowiązań podlegających umorzeniu, o którym mowa w art. 190 ustawy o działalności leczniczej",true,3,2017,0,"2013-11-08","2014-01-01"]
[2014,1,"KRZYŻANÓW",1002052,2,null,540,"9.8.1","[9.6] - [9.7.1]","  Informacja o spełnieniu wskaźnika spłaty zobowiązań określonego w art. 243 ustawy, po uwzględnieniu zobowiązań związku współtworzonego przez jednostkę samorządu terytorialnego oraz po uwzględnieniu wyłączeń określonych w pkt 5.1.1., obliczonego w oparciu o wykonanie roku poprzedzającego rok budżetowy",false,2,2016,1718,"2013-11-08","2014-01-01"]
[2014,1,"KRZYŻANÓW",1002052,2,null,520,"9.7.1",null,"   Dopuszczalny wskaźnik spłaty zobowiązań określony w art. 243 ustawy, po uwzględnieniu wyłączeń określonych w art.  36 ustawy z dnia 7 grudnia 2012 r. o zmianie niektórych ustaw w związku z realizacją ustawy budżetowej, obliczony w oparciu o wykonanie roku poprzedzającego rok budżetowy",true,3,2017,0.1875,"2013-11-08","2014-01-01"]
[2014,1,"KRZYŻANÓW",1002052,2,null,660,12,null,"Finansowanie programów, projektów lub zadań realizowanych z udziałem środków, o których mowa w art. 5 ust. 1 pkt 2 i 3 ustawy",true,1,2015,0,"2013-11-08","2014-01-01"]
[2014,1,"KRZYŻANÓW",1002052,2,null,860,13.7,null," Wydatki bieżące na pokrycie ujemnego wyniku finansowego samodzielnego publicznego zakładu opieki zdrowotnej",true,3,2017,0,"2013-11-08","2014-01-01"]
[2014,1,"KRZYŻANÓW",1002052,2,null,860,13.7,null," Wydatki bieżące na pokrycie ujemnego wyniku finansowego samodzielnego publicznego zakładu opieki zdrowotnej",true,1,2015,0,"2013-11-08","2014-01-01"]
[2014,1,"KRZYŻANÓW",1002052,2,null,920,"14.3.2",null,"  związane z umowami zaliczanymi do tytułów dłużnych wliczanych w państwowy dług publiczny",true,0,2014,0,"2013-11-08","2014-01-01"]
[2014,1,"KRZYŻANÓW",1002052,2,null,750,"12.3.2",null,"  Wydatki bieżące na realizację programu, projektu lub zadania wynikające wyłącznie z zawartych umów z podmiotem dysponującym środkami, o których mowa w art. 5 ust. 1 pkt 2 ustawy ",false,1,2015,0,"2013-11-08","2014-01-01"]
[2014,1,"KRZYŻANÓW",1002052,2,null,80,"1.1.5",null,"  z tytułu dotacji i środków przeznaczonych na cele bieżące",true,1,2015,1350903,"2013-11-08","2014-01-01"]
[2014,1,"KRZYŻANÓW",1002052,2,null,670,12.1,null," Dochody bieżące  na programy, projekty lub zadania finansowane z udziałem środków, o których mowa w art. 5 ust. 1 pkt 2 i 3 ustawy",true,1,2015,0,"2013-11-08","2014-01-01"]
[2014,1,"KRZYŻANÓW",1002052,2,null,930,"14.3.3",null,"  wypłaty z tytułu wymagalnych poręczeń i gwarancji",true,1,2015,0,"2013-11-08","2014-01-01"]
[2014,1,"KRZYŻANÓW",1002052,2,null,580,11.1,null," Wydatki bieżące na wynagrodzenia i składki od nich naliczane",false,3,2017,4487450,"2013-11-08","2014-01-01"]
[2014,1,"KRZYŻANÓW",1002052,2,null,470,9.3000000000000007,"([2.1.1] + [2.1.3.1] + [5.1] ) / [1]"," Wskaźnik planowanej łącznej kwoty spłaty zobowiązań, o której mowa w art. 243 ust. 1 ustawy do dochodów ogółem, bez uwzględnienia zobowiązań związku współtworzonego przez jednostkę samorządu terytorialnego  i bez uwzględniania wyłączeń przypadających na dany rok określonych w pkt 5.1.1.",true,0,2014,5.8400000000000001E-2,"2013-11-08","2014-01-01"]
[2014,1,"KRZYŻANÓW",1002052,2,null,770,"12.4.1",null,"  -  w tym finansowane środkami określonymi w art. 5 ust. 1 pkt 2 ustawy",true,3,2017,0,"2013-11-08","2014-01-01"]
[2014,1,"KRZYŻANÓW",1002052,2,null,540,"9.8.1","[9.6] - [9.7.1]","  Informacja o spełnieniu wskaźnika spłaty zobowiązań określonego w art. 243 ustawy, po uwzględnieniu zobowiązań związku współtworzonego przez jednostkę samorządu terytorialnego oraz po uwzględnieniu wyłączeń określonych w pkt 5.1.1., obliczonego w oparciu o wykonanie roku poprzedzającego rok budżetowy",false,3,2017,1875,"2013-11-08","2014-01-01"]
[2014,1,"KRZYŻANÓW",1002052,2,null,10,1,"[1.1] + [1.2]","Dochody ogółem",true,1,2015,10825000,"2013-11-08","2014-01-01"]
[2014,1,"KRZYŻANÓW",1002052,2,null,880,14.1,null," Spłaty rat kapitałowych oraz wykup papierów wartościowych, o których mowa w pkt. 5.1., wynikające wyłącznie z tytułu zobowiązań już zaciągniętych",true,0,2014,773956.19,"2013-11-08","2014-01-01"]
[2014,1,"KRZYŻANÓW",1002052,2,null,200,3,"[1] -[2]","Wynik budżetu",false,2,2016,0,"2013-11-08","2014-01-01"]
[2014,1,"KRZYŻANÓW",1002052,2,null,80,"1.1.5",null,"  z tytułu dotacji i środków przeznaczonych na cele bieżące",true,2,2016,1350903,"2013-11-08","2014-01-01"]
[2014,1,"KRZYŻANÓW",1002052,2,null,500,9.6,"([2.1.1]+[2.1.3.1] + [5.1]+[9.5]-[5.1.1]- [2.1.1.1] )/[1]"," Wskaźnik planowanej łącznej kwoty spłaty zobowiązań, o której mowa w art. 243 ust. 1 ustawy do dochodów ogółem, po uwzględnieniu zobowiązań związku współtworzonego przez jednostkę samorządu terytorialnego oraz po uwzględnieniu wyłączeń przypadających na dany rok określonych w pkt 5.1.1.",false,0,2014,5.8400000000000001E-2,"2013-11-08","2014-01-01"]
[2014,1,"KRZYŻANÓW",1002052,2,null,110,"1.2.2",null,"  z tytułu dotacji oraz środków przeznaczonych na inwestycje",true,0,2014,2179904,"2013-11-08","2014-01-01"]
[2014,1,"KRZYŻANÓW",1002052,2,null,140,"2.1.1",null,"  z tytułu poręczeń i gwarancji",true,1,2015,0,"2013-11-08","2014-01-01"]
[2014,1,"KRZYŻANÓW",1002052,2,null,40,"1.1.2",null,"  dochody z tytułu udziału we wpływach z podatku dochodowego od osób prawnych",true,3,2017,1000,"2013-11-08","2014-01-01"]
[2014,1,"KRZYŻANÓW",1002052,2,null,670,12.1,null," Dochody bieżące  na programy, projekty lub zadania finansowane z udziałem środków, o których mowa w art. 5 ust. 1 pkt 2 i 3 ustawy",true,3,2017,0,"2013-11-08","2014-01-01"]
[2014,1,"KRZYŻANÓW",1002052,2,null,150,"2.1.1.1",null,"   w tym: gwarancje i poręczenia podlegające wyłączeniu z limitów spłaty zobowiązań  określonych w art. 243 ust. 3 pkt 2 ustawy z dnia 27 sierpnia 2009 r. o finansach publicznych (Dz. U. Nr 157, poz. 1240, z późn. zm.) lub art. 169 ust. 3 pkt 2 ustawy z dnia 30 czerwca 2005 r. o finansach publicznych (Dz. U. Nr 249, poz. 2104, z późn. zm)",true,2,2016,0,"2013-11-08","2014-01-01"]
[2014,1,"KRZYŻANÓW",1002052,2,null,370,"6.1.1",null,"   - kwota wyłączeń z ograniczeń długu określonych w art. 170 ust. 3 ufp z 2005 r. ",true,3,2017,0,"2013-11-08","2014-01-01"]
[2014,1,"KRZYŻANÓW",1002052,2,null,560,10.1,null," Spłaty kredytów, pożyczek i wykup papierów wartościowych",false,1,2015,0,"2013-11-08","2014-01-01"]
[2014,1,"KRZYŻANÓW",1002052,2,null,630,11.4,null," Wydatki inwestycyjne kontynuowane ",true,1,2015,484700,"2013-11-08","2014-01-01"]
[2014,1,"KRZYŻANÓW",1002052,2,null,480,9.4,"([2.1.1] + [2.1.3.1] + [5.1] - [5.1.1]- [2.1.1.1] ) / [1]"," Wskaźnik planowanej łącznej kwoty spłaty zobowiązań, o której mowa w art. 243 ust. 1 ustawy do dochodów ogółem, bez uwzględnienia zobowiązań związku współtworzonego przez jednostkę samorządu terytorialnego, po uwzględnieniu wyłączeń przypadających na dany rok określonych w pkt 5.1.1. ",false,0,2014,5.8400000000000001E-2,"2013-11-08","2014-01-01"]
[2014,1,"KRZYŻANÓW",1002052,2,null,240,4.2,null," Wolne środki, o których mowa w art. 217 ust.2 pkt 6 ustawy",false,3,2017,0,"2013-11-08","2014-01-01"]
[2014,1,"KRZYŻANÓW",1002052,2,null,20,1.1000000000000001,null," Dochody bieżące",true,2,2016,12050000,"2013-11-08","2014-01-01"]
[2014,1,"KRZYŻANÓW",1002052,2,null,420,8.1,"[1.1] - [2.1]"," Różnica między dochodami bieżącymi a  wydatkami bieżącymi",false,1,2015,1685000,"2013-11-08","2014-01-01"]
[2014,1,"KRZYŻANÓW",1002052,2,null,10,1,"[1.1] + [1.2]","Dochody ogółem",true,3,2017,12170000,"2013-11-08","2014-01-01"]
[2014,1,"KRZYŻANÓW",1002052,2,null,760,12.4,null," Wydatki majątkowe na programy, projekty lub zadania finansowane z udziałem środków, o których mowa w art. 5 ust. 1 pkt 2 i 3 ustawy",true,0,2014,0,"2013-11-08","2014-01-01"]
[2014,1,"KRZYŻANÓW",1002052,2,null,120,2,"[2.1] + [2.2]","Wydatki ogółem",false,2,2016,12050000,"2013-11-08","2014-01-01"]
[2014,1,"KRZYŻANÓW",1002052,2,null,310,5.0999999999999996,null," Spłaty rat kapitałowych kredytów i pożyczek oraz wykup papierów wartościowych",true,1,2015,0,"2013-11-08","2014-01-01"]
[2014,1,"KRZYŻANÓW",1002052,2,null,50,"1.1.3",null,"  podatki i opłaty",true,0,2014,4152101,"2013-11-08","2014-01-01"]
[2014,1,"KRZYŻANÓW",1002052,2,null,470,9.3000000000000007,"([2.1.1] + [2.1.3.1] + [5.1] ) / [1]"," Wskaźnik planowanej łącznej kwoty spłaty zobowiązań, o której mowa w art. 243 ust. 1 ustawy do dochodów ogółem, bez uwzględnienia zobowiązań związku współtworzonego przez jednostkę samorządu terytorialnego  i bez uwzględniania wyłączeń przypadających na dany rok określonych w pkt 5.1.1.",true,2,2016,0,"2013-11-08","2014-01-01"]
[2014,1,"KRZYŻANÓW",1002052,2,null,330,"5.1.1.1",null,"   w tym kwota przypadających na dany rok kwot wyłączeń określonych w art. 243 ust. 3 pkt 1 ustawy lub art. 169 ust. 3 pkt 1 ufp z 2005 r.",true,0,2014,0,"2013-11-08","2014-01-01"]
[2014,1,"KRZYŻANÓW",1002052,2,null,370,"6.1.1",null,"   - kwota wyłączeń z ograniczeń długu określonych w art. 170 ust. 3 ufp z 2005 r. ",true,1,2015,0,"2013-11-08","2014-01-01"]
[2014,1,"KRZYŻANÓW",1002052,2,null,280,4.4000000000000004,null," Inne przychody niezwiązane z zaciągnięciem długu",false,1,2015,0,"2013-11-08","2014-01-01"]
[2014,1,"KRZYŻANÓW",1002052,2,null,870,14,null,"Dane uzupełniające o długu i jego spłacie",true,0,2014,0,"2013-11-08","2014-01-01"]
[2014,1,"KRZYŻANÓW",1002052,2,null,820,13.3,null," Wysokość zobowiązań podlegających umorzeniu, o którym mowa w art. 190 ustawy o działalności leczniczej",true,1,2015,0,"2013-11-08","2014-01-01"]
[2014,1,"KRZYŻANÓW",1002052,2,null,890,14.2,null," Kwota długu, którego planowana spłata dokona się z wydatków budżetu",true,1,2015,0,"2013-11-08","2014-01-01"]
[2014,1,"KRZYŻANÓW",1002052,2,null,390,6.3,"([6] - [6.1]) / [1]"," Wskaźnik zadłużenia do dochodów ogółem, o którym mowa w art.  170 ufp z 2005 r., po uwzględnieniu wyłączeń określonych w pkt 6.1. ",false,2,2016,0,"2013-11-08","2014-01-01"]
[2014,1,"KRZYŻANÓW",1002052,2,null,130,2.1,null," Wydatki bieżące, w tym:",true,0,2014,8917188.8100000005,"2013-11-08","2014-01-01"]
[2014,1,"KRZYŻANÓW",1002052,2,null,790,13,null,"Kwoty dotyczące przejęcia i spłaty zobowiązań po samodzielnych publicznych zakładach opieki zdrowotnej oraz pokrycia ujemnego wyniku ",true,3,2017,0,"2013-11-08","2014-01-01"]
[2014,1,"KRZYŻANÓW",1002052,2,null,70,"1.1.4",null,"  z subwencji ogólnej",true,3,2017,3294922,"2013-11-08","2014-01-01"]
[2014,1,"KRZYŻANÓW",1002052,2,null,290,"4.4.1",null,"   w tym na pokrycie deficytu budżetu",false,2,2016,0,"2013-11-08","2014-01-01"]
[2014,1,"KRZYŻANÓW",1002052,2,null,940,14.4,null," Wynik operacji niekasowych wpływających na kwotę długu ( m.in. umorzenia, różnice kursowe)",true,2,2016,0,"2013-11-08","2014-01-01"]
[2014,1,"KRZYŻANÓW",1002052,2,null,550,10,null,"Przeznaczenie prognozowanej nadwyżki budżetowej,  w tym na:",false,0,2014,773956.19,"2013-11-08","2014-01-01"]
[2014,1,"KRZYŻANÓW",1002052,2,null,650,11.6,null," Wydatki majątkowe w formie dotacji ",true,3,2017,0,"2013-11-08","2014-01-01"]
[2014,1,"KRZYŻANÓW",1002052,2,null,350,6,null,"Kwota długu",true,0,2014,0,"2013-11-08","2014-01-01"]
[2014,1,"KRZYŻANÓW",1002052,2,null,250,"4.2.1",null,"   w tym na pokrycie deficytu budżetu",false,1,2015,0,"2013-11-08","2014-01-01"]
[2014,1,"KRZYŻANÓW",1002052,2,null,310,5.0999999999999996,null," Spłaty rat kapitałowych kredytów i pożyczek oraz wykup papierów wartościowych",true,0,2014,773956.19,"2013-11-08","2014-01-01"]
[2014,1,"KRZYŻANÓW",1002052,2,null,460,9.1999999999999993,"([2.1.1] + [2.1.3.1] + [5.1] - [5.1.1]- [2.1.1.1] ) / [1]"," Wskaźnik planowanej łącznej kwoty spłaty zobowiązań, o której mowa w art. 169 ust. 1 ufp z 2005 r. do dochodów ogółem, po uwzględnieniu wyłączeń przypadających na dany rok określonych w pkt 5.1.1. ",false,2,2016,0,"2013-11-08","2014-01-01"]
[2014,1,"KRZYŻANÓW",1002052,2,null,470,9.3000000000000007,"([2.1.1] + [2.1.3.1] + [5.1] ) / [1]"," Wskaźnik planowanej łącznej kwoty spłaty zobowiązań, o której mowa w art. 243 ust. 1 ustawy do dochodów ogółem, bez uwzględnienia zobowiązań związku współtworzonego przez jednostkę samorządu terytorialnego  i bez uwzględniania wyłączeń przypadających na dany rok określonych w pkt 5.1.1.",true,3,2017,0,"2013-11-08","2014-01-01"]
[2014,1,"KRZYŻANÓW",1002052,2,null,530,9.8000000000000007,"[9.6] - [9.7]"," Informacja o spełnieniu wskaźnika spłaty zobowiązań określonego w art. 243 ustawy, po uwzględnieniu zobowiązań związku współtworzonego przez jednostkę samorządu terytorialnego oraz po uwzględnieniu wyłączeń określonych w pkt 5.1.1., obliczonego w oparciu o plan 3 kwartałów roku poprzedzającego rok budżetowy",false,1,2015,2186,"2013-11-08","2014-01-01"]
[2014,1,"KRZYŻANÓW",1002052,2,null,190,2.2000000000000002,null," Wydatki majątkowe",false,1,2015,1685000,"2013-11-08","2014-01-01"]
[2014,1,"KRZYŻANÓW",1002052,2,null,660,12,null,"Finansowanie programów, projektów lub zadań realizowanych z udziałem środków, o których mowa w art. 5 ust. 1 pkt 2 i 3 ustawy",true,2,2016,0,"2013-11-08","2014-01-01"]
[2014,1,"KRZYŻANÓW",1002052,2,null,820,13.3,null," Wysokość zobowiązań podlegających umorzeniu, o którym mowa w art. 190 ustawy o działalności leczniczej",true,0,2014,0,"2013-11-08","2014-01-01"]
[2014,1,"KRZYŻANÓW",1002052,2,null,710,"12.2.1",null,"   -  w tym środki określone w art. 5 ust. 1 pkt 2 ustawy",false,2,2016,0,"2013-11-08","2014-01-01"]
[2014,1,"KRZYŻANÓW",1002052,2,null,340,5.2,null," Inne rozchody niezwiązane ze spłatą długu",false,2,2016,0,"2013-11-08","2014-01-01"]
[2014,1,"KRZYŻANÓW",1002052,2,null,660,12,null,"Finansowanie programów, projektów lub zadań realizowanych z udziałem środków, o których mowa w art. 5 ust. 1 pkt 2 i 3 ustawy",true,0,2014,0,"2013-11-08","2014-01-01"]
[2014,1,"KRZYŻANÓW",1002052,2,null,710,"12.2.1",null,"   -  w tym środki określone w art. 5 ust. 1 pkt 2 ustawy",false,1,2015,0,"2013-11-08","2014-01-01"]
[2014,1,"KRZYŻANÓW",1002052,2,null,160,"2.1.2",null,"   na spłatę przejętych zobowiązań samodzielnego publicznego zakładu opieki zdrowotnej przekształconego na zasadach określonych w przepisach  o działalności leczniczej, w wysokości w jakiej nie podlegają sfinansowaniu dotacją z budżetu państwa)",true,1,2015,0,"2013-11-08","2014-01-01"]
[2014,1,"KRZYŻANÓW",1002052,2,null,410,8,null,"Relacja zrównoważenia wydatków bieżących, o której mowa w art. 242 ustawy",true,3,2017,0,"2013-11-08","2014-01-01"]
[2014,1,"KRZYŻANÓW",1002052,2,null,490,9.5,null," Kwota zobowiązań związku współtworzonego przez jednostkę samorządu terytorialnego przypadających do spłaty w danym roku budżetowym, podlegająca doliczeniu zgodnie z art. 244 ustawy ",true,2,2016,0,"2013-11-08","2014-01-01"]
[2014,1,"KRZYŻANÓW",1002052,2,null,230,"4.1.1",null,"  w tym na pokrycie deficytu budżetu",false,2,2016,0,"2013-11-08","2014-01-01"]
[2014,1,"KRZYŻANÓW",1002052,2,null,840,13.5,null," Wydatki na spłatę przejętych zobowiązań samodzielnego publicznego zakładu opieki zdrowotnej likwidowanego na zasadach określonych w przepisach  o działalności leczniczej",true,3,2017,0,"2013-11-08","2014-01-01"]
[2014,1,"KRZYŻANÓW",1002052,2,null,300,5,"[5.1] + [5.2]","Rozchody budżetu",false,0,2014,773956.19,"2013-11-08","2014-01-01"]
[2014,1,"KRZYŻANÓW",1002052,2,null,210,4,"[4.1] + [4.2] + [4.3] + [4.4]","Przychody budżetu",false,2,2016,0,"2013-11-08","2014-01-01"]
[2014,1,"KRZYŻANÓW",1002052,2,null,830,13.4,null," Wydatki na spłatę przejętych zobowiązań samodzielnego publicznego zakładu opieki zdrowotnej przekształconego na zasadach określonych w przepisach  o działalności leczniczej",true,0,2014,0,"2013-11-08","2014-01-01"]
[2014,1,"KRZYŻANÓW",1002052,2,null,460,9.1999999999999993,"([2.1.1] + [2.1.3.1] + [5.1] - [5.1.1]- [2.1.1.1] ) / [1]"," Wskaźnik planowanej łącznej kwoty spłaty zobowiązań, o której mowa w art. 169 ust. 1 ufp z 2005 r. do dochodów ogółem, po uwzględnieniu wyłączeń przypadających na dany rok określonych w pkt 5.1.1. ",false,0,2014,5.8400000000000001E-2,"2013-11-08","2014-01-01"]
[2014,1,"KRZYŻANÓW",1002052,2,null,40,"1.1.2",null,"  dochody z tytułu udziału we wpływach z podatku dochodowego od osób prawnych",true,0,2014,1000,"2013-11-08","2014-01-01"]
[2014,1,"KRZYŻANÓW",1002052,2,null,530,9.8000000000000007,"[9.6] - [9.7]"," Informacja o spełnieniu wskaźnika spłaty zobowiązań określonego w art. 243 ustawy, po uwzględnieniu zobowiązań związku współtworzonego przez jednostkę samorządu terytorialnego oraz po uwzględnieniu wyłączeń określonych w pkt 5.1.1., obliczonego w oparciu o plan 3 kwartałów roku poprzedzającego rok budżetowy",false,0,2014,1305,"2013-11-08","2014-01-01"]
[2014,1,"KRZYŻANÓW",1002052,2,null,780,"12.4.2",null,"  Wydatki majątkowe na realizację programu, projektu lub zadania wynikające wyłącznie z zawartych umów z podmiotem dysponującym środkami, o których mowa w art. 5 ust. 1 pkt 2 ustawy ",true,3,2017,0,"2013-11-08","2014-01-01"]
[2014,1,"KRZYŻANÓW",1002052,2,null,450,9.1,"([2.1.1] + [2.1.3.1] + [5.1] ) / [1]"," Wskaźnik planowanej łącznej kwoty spłaty zobowiązań, o której mowa w art. 169 ust. 1 ufp z 2005 r. do dochodów ogółem, bez uwzględnienia wyłączeń określonych w pkt 5.1.1.  ",true,1,2015,0,"2013-11-08","2014-01-01"]
[2014,1,"KRZYŻANÓW",1002052,2,null,280,4.4000000000000004,null," Inne przychody niezwiązane z zaciągnięciem długu",false,2,2016,0,"2013-11-08","2014-01-01"]
[2014,1,"KRZYŻANÓW",1002052,2,null,890,14.2,null," Kwota długu, którego planowana spłata dokona się z wydatków budżetu",true,2,2016,0,"2013-11-08","2014-01-01"]
[2014,1,"KRZYŻANÓW",1002052,2,null,670,12.1,null," Dochody bieżące  na programy, projekty lub zadania finansowane z udziałem środków, o których mowa w art. 5 ust. 1 pkt 2 i 3 ustawy",true,2,2016,0,"2013-11-08","2014-01-01"]
[2014,1,"KRZYŻANÓW",1002052,2,null,870,14,null,"Dane uzupełniające o długu i jego spłacie",true,3,2017,0,"2013-11-08","2014-01-01"]
[2014,1,"KRZYŻANÓW",1002052,2,null,460,9.1999999999999993,"([2.1.1] + [2.1.3.1] + [5.1] - [5.1.1]- [2.1.1.1] ) / [1]"," Wskaźnik planowanej łącznej kwoty spłaty zobowiązań, o której mowa w art. 169 ust. 1 ufp z 2005 r. do dochodów ogółem, po uwzględnieniu wyłączeń przypadających na dany rok określonych w pkt 5.1.1. ",false,1,2015,0,"2013-11-08","2014-01-01"]
[2014,1,"KRZYŻANÓW",1002052,2,null,770,"12.4.1",null,"  -  w tym finansowane środkami określonymi w art. 5 ust. 1 pkt 2 ustawy",true,1,2015,0,"2013-11-08","2014-01-01"]
[2014,1,"KRZYŻANÓW",1002052,2,null,680,"12.1.1",null,"  -  w tym środki określone w art. 5 ust. 1 pkt 2 ustawy",true,0,2014,0,"2013-11-08","2014-01-01"]
[2014,1,"KRZYŻANÓW",1002052,2,null,120,2,"[2.1] + [2.2]","Wydatki ogółem",false,0,2014,12827688.810000001,"2013-11-08","2014-01-01"]
[2014,1,"KRZYŻANÓW",1002052,2,null,760,12.4,null," Wydatki majątkowe na programy, projekty lub zadania finansowane z udziałem środków, o których mowa w art. 5 ust. 1 pkt 2 i 3 ustawy",true,1,2015,0,"2013-11-08","2014-01-01"]
[2014,1,"KRZYŻANÓW",1002052,2,null,70,"1.1.4",null,"  z subwencji ogólnej",true,1,2015,3294922,"2013-11-08","2014-01-01"]
[2014,1,"KRZYŻANÓW",1002052,2,null,920,"14.3.2",null,"  związane z umowami zaliczanymi do tytułów dłużnych wliczanych w państwowy dług publiczny",true,2,2016,0,"2013-11-08","2014-01-01"]
[2014,1,"KRZYŻANÓW",1002052,2,null,110,"1.2.2",null,"  z tytułu dotacji oraz środków przeznaczonych na inwestycje",true,3,2017,0,"2013-11-08","2014-01-01"]

{"sheet":"DaneZrodloweDoWsk","index":5,"n_rows":383,"n_cols":19,"rows_kept":383,"cut":false,"hidden":true,"merged":[]}
["Wyciąg danych z tabeli \"Wieloletnia prognoza finansowa\" wprowadzonych do systemu BESTI@ z wybranej uchwały ",null,null,null,null,null,null,null,null,null,null,null,"Rok bazowy:",{"$f":"MIN(M:M)","v":2014}]
[]
["budzet","numer","nazwajst","kodgus","gt","mswia","lp","symbol","formula","wyszczegolnienie","wsk243","rokwzgl","rokprognozy","WYK_N_3","WYK_N_2","PLN_N_1","WYK_N_1","DataPodjecia","DataWejscia"]
[2014,"1","KRZYŻANÓW",1002052,2,null,720,"12.2.1.1",null,"    - w tym środki określone w art. 5 ust. 1 pkt 2 ustawy wynikające wyłącznie z zawartych umów na realizację programu, projektu lub zadania",false,2,2016,0,0,232602,232602,"2013-11-08","2014-01-01"]
[2014,1,"KRZYŻANÓW",1002052,2,null,120,2,"[2.1] + [2.2]","Wydatki ogółem",false,3,2017,12835915.98,11481546.43,14584700.699999999,14401220,"2013-11-08","2014-01-01"]
[2014,1,"KRZYŻANÓW",1002052,2,null,360,6.1,null," Łączna kwota wyłączeń z ograniczeń długu określonych w art. 170 ust. 3 ufp z 2005 r. oraz w art. 36 ustawy o zmianie niektórych ustaw w związku z realizacją ustawy budżetowej",true,0,2014,0,0,0,0,"2013-11-08","2014-01-01"]
[2014,1,"KRZYŻANÓW",1002052,2,null,690,"12.1.1.1",null,"   - w tym środki określone w art. 5 ust. 1 pkt 2 ustawy wynikające wyłącznie z  zawartych umów na realizację programu, projektu lub zadania",true,0,2014,0,0,96205.25,96205.25,"2013-11-08","2014-01-01"]
[2014,1,"KRZYŻANÓW",1002052,2,null,390,6.3,"([6] - [6.1]) / [1]"," Wskaźnik zadłużenia do dochodów ogółem, o którym mowa w art.  170 ufp z 2005 r., po uwzględnieniu wyłączeń określonych w pkt 6.1. ",false,0,2014,0.2175,0.1012,5.7500000000000002E-2,6.0999999999999999E-2,"2013-11-08","2014-01-01"]
[2014,1,"KRZYŻANÓW",1002052,2,null,230,"4.1.1",null,"  w tym na pokrycie deficytu budżetu",false,0,2014,0,0,0,211048.35,"2013-11-08","2014-01-01"]
[2014,1,"KRZYŻANÓW",1002052,2,null,570,11,null,"Informacje uzupełniające o wybranych rodzajach wydatków budżetowych",false,0,2014,0,0,0,0,"2013-11-08","2014-01-01"]
[2014,1,"KRZYŻANÓW",1002052,2,null,280,4.4000000000000004,null," Inne przychody niezwiązane z zaciągnięciem długu",false,3,2017,21393.72,0,24682,24682,"2013-11-08","2014-01-01"]
[2014,1,"KRZYŻANÓW",1002052,2,null,620,"11.3.2",null,"   majątkowe",true,2,2016,1357691.17,562105.4,3401517,3401517,"2013-11-08","2014-01-01"]
[2014,1,"KRZYŻANÓW",1002052,2,null,420,8.1,"[1.1] - [2.1]"," Różnica między dochodami bieżącymi a  wydatkami bieżącymi",false,3,2017,975297.61,3604694.11,2504739.7200000002,2219320,"2013-11-08","2014-01-01"]
[2014,1,"KRZYŻANÓW",1002052,2,null,505,"9.6.1","( [1.1] -  ( [2.1]  - [2.1.2] ) + [1.2.1] ) / [1]"," Wskaźnik jednoroczny",false,1,2015,9.5100000000000004E-2,0.26129999999999998,0.2104,0.17549999999999999,"2013-11-08","2014-01-01"]
[2014,1,"KRZYŻANÓW",1002052,2,null,800,13.1,null," Kwota zobowiązań wynikających z przejęcia przez jednostkę samorządu terytorialnego zobowiązań po likwidowanych i przekształcanych samodzielnych zakładach opieki zdrowotnej",true,1,2015,0,0,0,0,"2013-11-08","2014-01-01"]
[2014,1,"KRZYŻANÓW",1002052,2,null,500,9.6,"([2.1.1]+[2.1.3.1] + [5.1]+[9.5]-[5.1.1]- [2.1.1.1] )/[1]"," Wskaźnik planowanej łącznej kwoty spłaty zobowiązań, o której mowa w art. 243 ust. 1 ustawy do dochodów ogółem, po uwzględnieniu zobowiązań związku współtworzonego przez jednostkę samorządu terytorialnego oraz po uwzględnieniu wyłączeń przypadających na dany rok określonych w pkt 5.1.1.",false,1,2015,7.4000000000000003E-3,5.45E-2,6.1800000000000001E-2,6.0900000000000003E-2,"2013-11-08","2014-01-01"]
[2014,1,"KRZYŻANÓW",1002052,2,null,750,"12.3.2",null,"  Wydatki bieżące na realizację programu, projektu lub zadania wynikające wyłącznie z zawartych umów z podmiotem dysponującym środkami, o których mowa w art. 5 ust. 1 pkt 2 ustawy ",false,3,2017,0,0,145119.65,145119.65,"2013-11-08","2014-01-01"]
[2014,1,"KRZYŻANÓW",1002052,2,null,100,"1.2.1",null,"  ze sprzedaży majątku",true,1,2015,140492.99,69038.91,330000,6200,"2013-11-08","2014-01-01"]
[2014,1,"KRZYŻANÓW",1002052,2,null,580,11.1,null," Wydatki bieżące na wynagrodzenia i składki od nich naliczane",false,1,2015,4441226.62,4171528.09,4406547.84,4236547,"2013-11-08","2014-01-01"]
[2014,1,"KRZYŻANÓW",1002052,2,null,750,"12.3.2",null,"  Wydatki bieżące na realizację programu, projektu lub zadania wynikające wyłącznie z zawartych umów z podmiotem dysponującym środkami, o których mowa w art. 5 ust. 1 pkt 2 ustawy ",false,0,2014,0,0,145119.65,145119.65,"2013-11-08","2014-01-01"]
[2014,1,"KRZYŻANÓW",1002052,2,null,890,14.2,null," Kwota długu, którego planowana spłata dokona się z wydatków budżetu",true,3,2017,0,0,0,0,"2013-11-08","2014-01-01"]
[2014,1,"KRZYŻANÓW",1002052,2,null,120,2,"[2.1] + [2.2]","Wydatki ogółem",false,1,2015,12835915.98,11481546.43,14584700.699999999,14401220,"2013-11-08","2014-01-01"]
[2014,1,"KRZYŻANÓW",1002052,2,null,320,"5.1.1",null,"  w tym łączna kwota przypadających na dany rok kwot wyłączeń określonych w: art. 243 ust. 3 pkt 1 ustawy (lub art. 169 ust. 3 pkt 1 ufp z 2005 r.), art. 121a ustawy  z dnia 27 sierpnia 2009 r. – Przepisy wprowadzające ustawę o finansach publicznych  (Dz. U. Nr 157, poz. 1241, z późn. zm.) oraz art.  36 ustawy z dnia 7 grudnia 2012 r. o zmianie niektórych ustaw związanych z realizacją ustawy budżetowej (Dz.U. poz. 1456)",true,2,2016,552822,595645.15,0,0,"2013-11-08","2014-01-01"]
[2014,1,"KRZYŻANÓW",1002052,2,null,730,12.3,null," Wydatki bieżące na programy, projekty lub zadania finansowane z udziałem środków, o których mowa w art. 5 ust. 1 pkt 2 i 3 ustawy",false,0,2014,123162.52,156869.10999999999,145119.65,145119.65,"2013-11-08","2014-01-01"]
[2014,1,"KRZYŻANÓW",1002052,2,null,540,"9.8.1","[9.6] - [9.7.1]","  Informacja o spełnieniu wskaźnika spłaty zobowiązań określonego w art. 243 ustawy, po uwzględnieniu zobowiązań związku współtworzonego przez jednostkę samorządu terytorialnego oraz po uwzględnieniu wyłączeń określonych w pkt 5.1.1., obliczonego w oparciu o wykonanie roku poprzedzającego rok budżetowy",false,0,2014,7.4000000000000003E-3,5.45E-2,6.1800000000000001E-2,6.0900000000000003E-2,"2013-11-08","2014-01-01"]
[2014,1,"KRZYŻANÓW",1002052,2,null,380,6.2,"[6] / [1]"," Wskaźnik zadłużenia do dochodów ogółem określony w art. 170 ufp z 2005 r., bez uwzględniania wyłączeń określonych w pkt 6.1.   ",false,1,2015,0.2175,0.1012,5.7500000000000002E-2,6.0999999999999999E-2,"2013-11-08","2014-01-01"]
[2014,1,"KRZYŻANÓW",1002052,2,null,600,11.3,"[11.3.1] + [11.3.2]"," Wydatki objęte limitem art. 226 ust. 3 ustawy",true,2,2016,1480853.69,718974.51,3546636.65,3546636.65,"2013-11-08","2014-01-01"]
[2014,1,"KRZYŻANÓW",1002052,2,null,30,"1.1.1",null,"  dochody z tytułu udziału we wpływach z podatku dochodowego od osób fizycznych",true,0,2014,976091,1398132,1443005,1443005,"2013-11-08","2014-01-01"]
[2014,1,"KRZYŻANÓW",1002052,2,null,840,13.5,null," Wydatki na spłatę przejętych zobowiązań samodzielnego publicznego zakładu opieki zdrowotnej likwidowanego na zasadach określonych w przepisach  o działalności leczniczej",true,1,2015,0,0,0,0,"2013-11-08","2014-01-01"]
[2014,1,"KRZYŻANÓW",1002052,2,null,820,13.3,null," Wysokość zobowiązań podlegających umorzeniu, o którym mowa w art. 190 ustawy o działalności leczniczej",true,2,2016,0,0,0,0,"2013-11-08","2014-01-01"]
[2014,1,"KRZYŻANÓW",1002052,2,null,410,8,null,"Relacja zrównoważenia wydatków bieżących, o której mowa w art. 242 ustawy",true,0,2014,0,0,0,0,"2013-11-08","2014-01-01"]
[2014,1,"KRZYŻANÓW",1002052,2,null,60,"1.1.3.1",null,"   z podatku od nieruchomości",true,0,2014,849319.19,1608877.11,1644617.4,1644617.4,"2013-11-08","2014-01-01"]
[2014,1,"KRZYŻANÓW",1002052,2,null,250,"4.2.1",null,"   w tym na pokrycie deficytu budżetu",false,3,2017,0,0,1024306.28,1422477.65,"2013-11-08","2014-01-01"]
[2014,1,"KRZYŻANÓW",1002052,2,null,320,"5.1.1",null,"  w tym łączna kwota przypadających na dany rok kwot wyłączeń określonych w: art. 243 ust. 3 pkt 1 ustawy (lub art. 169 ust. 3 pkt 1 ufp z 2005 r.), art. 121a ustawy  z dnia 27 sierpnia 2009 r. – Przepisy wprowadzające ustawę o finansach publicznych  (Dz. U. Nr 157, poz. 1241, z późn. zm.) oraz art.  36 ustawy z dnia 7 grudnia 2012 r. o zmianie niektórych ustaw związanych z realizacją ustawy budżetowej (Dz.U. poz. 1456)",true,0,2014,552822,595645.15,0,0,"2013-11-08","2014-01-01"]
[2014,1,"KRZYŻANÓW",1002052,2,null,430,8.1999999999999993,"[1.1] + [4.1] + [4.2] - (  [2.1] - [2.1.2]  )"," Różnica między dochodami bieżącymi, powiększonymi o nadwyżkę budżetową określoną w pkt 4.1. i wolne środki określone w pkt 4.2.  a wydatkami bieżącymi, pomniejszonym o wydatki określone w pkt  2.1.2.",false,2,2016,1161314,4507213.4800000004,4241885.46,4565685.46,"2013-11-08","2014-01-01"]
[2014,1,"KRZYŻANÓW",1002052,2,null,400,7,null,"Kwota zobowiązań wynikających z przejęcia przez jednostkę samorządu terytorialnego zobowiązań po likwidowanych i przekształcanych jednostkach zaliczanych do sektora  finansów publicznych",true,2,2016,0,0,0,0,"2013-11-08","2014-01-01"]
[2014,1,"KRZYŻANÓW",1002052,2,null,330,"5.1.1.1",null,"   w tym kwota przypadających na dany rok kwot wyłączeń określonych w art. 243 ust. 3 pkt 1 ustawy lub art. 169 ust. 3 pkt 1 ufp z 2005 r.",true,3,2017,552822,595645.15,0,0,"2013-11-08","2014-01-01"]
[2014,1,"KRZYŻANÓW",1002052,2,null,680,"12.1.1",null,"  -  w tym środki określone w art. 5 ust. 1 pkt 2 ustawy",true,1,2015,104205.75,160689,96205.25,96205.25,"2013-11-08","2014-01-01"]
[2014,1,"KRZYŻANÓW",1002052,2,null,270,"4.3.1",null,"   w tym na pokrycie deficytu budżetu",true,2,2016,1100222.42,0,89000,89000,"2013-11-08","2014-01-01"]
[2014,1,"KRZYŻANÓW",1002052,2,null,910,"14.3.1",null,"  spłata zobowiązań wymagalnych z lat poprzednich, innych niż w pkt 14.3.3",true,2,2016,0,0,0,0,"2013-11-08","2014-01-01"]
[2014,1,"KRZYŻANÓW",1002052,2,null,450,9.1,"([2.1.1] + [2.1.3.1] + [5.1] ) / [1]"," Wskaźnik planowanej łącznej kwoty spłaty zobowiązań, o której mowa w art. 169 ust. 1 ufp z 2005 r. do dochodów ogółem, bez uwzględnienia wyłączeń określonych w pkt 5.1.1.  ",true,2,2016,5.45E-2,9.6799999999999997E-2,6.1800000000000001E-2,6.0900000000000003E-2,"2013-11-08","2014-01-01"]
[2014,1,"KRZYŻANÓW",1002052,2,null,80,"1.1.5",null,"  z tytułu dotacji i środków przeznaczonych na cele bieżące",true,3,2017,2073142.05,2060950.81,1980030.02,1980030.02,"2013-11-08","2014-01-01"]
[2014,1,"KRZYŻANÓW",1002052,2,null,710,"12.2.1",null,"   -  w tym środki określone w art. 5 ust. 1 pkt 2 ustawy",false,0,2014,1041937.3,826032,232602,232602,"2013-11-08","2014-01-01"]
[2014,1,"KRZYŻANÓW",1002052,2,null,110,"1.2.2",null,"  z tytułu dotacji oraz środków przeznaczonych na inwestycje",true,1,2015,1405937.3,1332324.7,664102,664102,"2013-11-08","2014-01-01"]
[2014,1,"KRZYŻANÓW",1002052,2,null,300,5,"[5.1] + [5.2]","Rozchody budżetu",false,2,2016,601088.34,1303202.75,737521.46,737521.46,"2013-11-08","2014-01-01"]
[2014,1,"KRZYŻANÓW",1002052,2,null,610,"11.3.1",null,"   bieżące",true,2,2016,123162.52,156869.10999999999,145119.65,145119.65,"2013-11-08","2014-01-01"]
[2014,1,"KRZYŻANÓW",1002052,2,null,380,6.2,"[6] / [1]"," Wskaźnik zadłużenia do dochodów ogółem określony w art. 170 ufp z 2005 r., bez uwzględniania wyłączeń określonych w pkt 6.1.   ",false,0,2014,0.2175,0.1012,5.7500000000000002E-2,6.0999999999999999E-2,"2013-11-08","2014-01-01"]
[2014,1,"KRZYŻANÓW",1002052,2,null,240,4.2,null," Wolne środki, o których mowa w art. 217 ust.2 pkt 6 ustawy",false,1,2015,186016.39,902519.37,1422477.65,1422477.65,"2013-11-08","2014-01-01"]
[2014,1,"KRZYŻANÓW",1002052,2,null,590,11.2,null," Wydatki związane z funkcjonowaniem organów jednostki samorządu terytorialnego",true,3,2017,1397090.95,1438877.18,1491519,1491519,"2013-11-08","2014-01-01"]
[2014,1,"KRZYŻANÓW",1002052,2,null,430,8.1999999999999993,"[1.1] + [4.1] + [4.2] - (  [2.1] - [2.1.2]  )"," Różnica między dochodami bieżącymi, powiększonymi o nadwyżkę budżetową określoną w pkt 4.1. i wolne środki określone w pkt 4.2.  a wydatkami bieżącymi, pomniejszonym o wydatki określone w pkt  2.1.2.",false,0,2014,1161314,4507213.4800000004,4241885.46,4565685.46,"2013-11-08","2014-01-01"]
[2014,1,"KRZYŻANÓW",1002052,2,null,720,"12.2.1.1",null,"    - w tym środki określone w art. 5 ust. 1 pkt 2 ustawy wynikające wyłącznie z zawartych umów na realizację programu, projektu lub zadania",false,0,2014,0,0,232602,232602,"2013-11-08","2014-01-01"]
[2014,1,"KRZYŻANÓW",1002052,2,null,740,"12.3.1",null,"  -  w tym finansowane środkami określonymi w art. 5 ust. 1 pkt 2 ustawy ",false,1,2015,104205.63,133542.57999999999,123351.7,123351.7,"2013-11-08","2014-01-01"]
[2014,1,"KRZYŻANÓW",1002052,2,null,350,6,null,"Kwota długu",true,1,2015,2552998.4,1422477.65,773956.19,773956.19,"2013-11-08","2014-01-01"]
[2014,1,"KRZYŻANÓW",1002052,2,null,810,13.2,null," Dochody budżetowe z tytułu dotacji celowej z budżetu państwa, o której mowa w art. 196 ustawy z  dnia 15 kwietnia 2011 r.  o działalności leczniczej (Dz.U. Nr 112, poz. 654, z późn. zm.)",true,3,2017,0,0,0,0,"2013-11-08","2014-01-01"]
[2014,1,"KRZYŻANÓW",1002052,2,null,100,"1.2.1",null,"  ze sprzedaży majątku",true,3,2017,140492.99,69038.91,330000,6200,"2013-11-08","2014-01-01"]
[2014,1,"KRZYŻANÓW",1002052,2,null,480,9.4,"([2.1.1] + [2.1.3.1] + [5.1] - [5.1.1]- [2.1.1.1] ) / [1]"," Wskaźnik planowanej łącznej kwoty spłaty zobowiązań, o której mowa w art. 243 ust. 1 ustawy do dochodów ogółem, bez uwzględnienia zobowiązań związku współtworzonego przez jednostkę samorządu terytorialnego, po uwzględnieniu wyłączeń przypadających na dany rok określonych w pkt 5.1.1. ",false,3,2017,7.4000000000000003E-3,5.45E-2,6.1800000000000001E-2,6.0900000000000003E-2,"2013-11-08","2014-01-01"]
[2014,1,"KRZYŻANÓW",1002052,2,null,150,"2.1.1.1",null,"   w tym: gwarancje i poręczenia podlegające wyłączeniu z limitów spłaty zobowiązań  określonych w art. 243 ust. 3 pkt 2 ustawy z dnia 27 sierpnia 2009 r. o finansach publicznych (Dz. U. Nr 157, poz. 1240, z późn. zm.) lub art. 169 ust. 3 pkt 2 ustawy z dnia 30 czerwca 2005 r. o finansach publicznych (Dz. U. Nr 249, poz. 2104, z późn. zm)",true,3,2017,0,0,0,0,"2013-11-08","2014-01-01"]
[2014,1,"KRZYŻANÓW",1002052,2,null,630,11.4,null," Wydatki inwestycyjne kontynuowane ",true,3,2017,1173514.32,835040.96,3401517,3401517,"2013-11-08","2014-01-01"]
[2014,1,"KRZYŻANÓW",1002052,2,null,40,"1.1.2",null,"  dochody z tytułu udziału we wpływach z podatku dochodowego od osób prawnych",true,2,2016,7359.96,873.76,1000,1000,"2013-11-08","2014-01-01"]
[2014,1,"KRZYŻANÓW",1002052,2,null,360,6.1,null," Łączna kwota wyłączeń z ograniczeń długu określonych w art. 170 ust. 3 ufp z 2005 r. oraz w art. 36 ustawy o zmianie niektórych ustaw w związku z realizacją ustawy budżetowej",true,1,2015,0,0,0,0,"2013-11-08","2014-01-01"]
[2014,1,"KRZYŻANÓW",1002052,2,null,590,11.2,null," Wydatki związane z funkcjonowaniem organów jednostki samorządu terytorialnego",true,1,2015,1397090.95,1438877.18,1491519,1491519,"2013-11-08","2014-01-01"]
[2014,1,"KRZYŻANÓW",1002052,2,null,900,14.3,null," Wydatki zmniejszające dług, w tym",true,1,2015,0,0,0,0,"2013-11-08","2014-01-01"]
[2014,1,"KRZYŻANÓW",1002052,2,null,450,9.1,"([2.1.1] + [2.1.3.1] + [5.1] ) / [1]"," Wskaźnik planowanej łącznej kwoty spłaty zobowiązań, o której mowa w art. 169 ust. 1 ufp z 2005 r. do dochodów ogółem, bez uwzględnienia wyłączeń określonych w pkt 5.1.1.  ",true,3,2017,5.45E-2,9.6799999999999997E-2,6.1800000000000001E-2,6.0900000000000003E-2,"2013-11-08","2014-01-01"]
[2014,1,"KRZYŻANÓW",1002052,2,null,260,4.3,null,"  Kredyty, pożyczki, emisja papierów wartościowych",true,2,2016,2417813.7400000002,148000,89000,89000,"2013-11-08","2014-01-01"]
[2014,1,"KRZYŻANÓW",1002052,2,null,130,2.1,null," Wydatki bieżące, w tym:",true,2,2016,9211865.6600000001,9055670.4299999997,9959324.6999999993,9775844,"2013-11-08","2014-01-01"]
[2014,1,"KRZYŻANÓW",1002052,2,null,520,"9.7.1",null,"   Dopuszczalny wskaźnik spłaty zobowiązań określony w art. 243 ustawy, po uwzględnieniu wyłączeń określonych w art.  36 ustawy z dnia 7 grudnia 2012 r. o zmianie niektórych ustaw w związku z realizacją ustawy budżetowej, obliczony w oparciu o wykonanie roku poprzedzającego rok budżetowy",true,0,2014,0,0,0,0,"2013-11-08","2014-01-01"]
[2014,1,"KRZYŻANÓW",1002052,2,null,920,"14.3.2",null,"  związane z umowami zaliczanymi do tytułów dłużnych wliczanych w państwowy dług publiczny",true,1,2015,0,0,0,0,"2013-11-08","2014-01-01"]
[2014,1,"KRZYŻANÓW",1002052,2,null,850,13.6,null," Wydatki na spłatę zobowiązań samodzielnego publicznego zakładu opieki zdrowotnej przejętych do końca 2011 r. na podstawie przepisów o zakładach opieki zdrowotnej",true,0,2014,0,0,0,0,"2013-11-08","2014-01-01"]
[2014,1,"KRZYŻANÓW",1002052,2,null,260,4.3,null,"  Kredyty, pożyczki, emisja papierów wartościowych",true,1,2015,2417813.7400000002,148000,89000,89000,"2013-11-08","2014-01-01"]
[2014,1,"KRZYŻANÓW",1002052,2,null,850,13.6,null," Wydatki na spłatę zobowiązań samodzielnego publicznego zakładu opieki zdrowotnej przejętych do końca 2011 r. na podstawie przepisów o zakładach opieki zdrowotnej",true,2,2016,0,0,0,0,"2013-11-08","2014-01-01"]
[2014,1,"KRZYŻANÓW",1002052,2,null,800,13.1,null," Kwota zobowiązań wynikających z przejęcia przez jednostkę samorządu terytorialnego zobowiązań po likwidowanych i przekształcanych samodzielnych zakładach opieki zdrowotnej",true,3,2017,0,0,0,0,"2013-11-08","2014-01-01"]
[2014,1,"KRZYŻANÓW",1002052,2,null,930,"14.3.3",null,"  wypłaty z tytułu wymagalnych poręczeń i gwarancji",true,3,2017,0,0,0,0,"2013-11-08","2014-01-01"]
[2014,1,"KRZYŻANÓW",1002052,2,null,170,"2.1.3",null,"  wydatki na obsługę długu",true,2,2016,41411.769999999997,84758.58,95000,35000,"2013-11-08","2014-01-01"]
[2014,1,"KRZYŻANÓW",1002052,2,null,210,4,"[4.1] + [4.2] + [4.3] + [4.4]","Przychody budżetu",false,0,2014,2625223.85,1050519.3700000001,1850827.74,2460047.46,"2013-11-08","2014-01-01"]
[2014,1,"KRZYŻANÓW",1002052,2,null,210,4,"[4.1] + [4.2] + [4.3] + [4.4]","Przychody budżetu",false,3,2017,2625223.85,1050519.3700000001,1850827.74,2460047.46,"2013-11-08","2014-01-01"]
[2014,1,"KRZYŻANÓW",1002052,2,null,210,4,"[4.1] + [4.2] + [4.3] + [4.4]","Przychody budżetu",false,1,2015,2625223.85,1050519.3700000001,1850827.74,2460047.46,"2013-11-08","2014-01-01"]
[2014,1,"KRZYŻANÓW",1002052,2,null,550,10,null,"Przeznaczenie prognozowanej nadwyżki budżetowej,  w tym na:",false,1,2015,0,0,0,0,"2013-11-08","2014-01-01"]
[2014,1,"KRZYŻANÓW",1002052,2,null,510,9.6999999999999993,null," Dopuszczalny wskaźnik spłaty zobowiązań określony w art. 243 ustawy, po uwzględnieniu wyłączeń określonych w art. 36 ustawy z dnia 7 grudnia 2012 r. o zmianie niektórych ustaw w związku z realizacją ustawy budżetowej, obliczony w oparciu o plan 3 kwartałów roku poprzedzającego rok budżetowy",true,1,2015,0,0,0,0,"2013-11-08","2014-01-01"]
[2014,1,"KRZYŻANÓW",1002052,2,null,560,10.1,null," Spłaty kredytów, pożyczek i wykup papierów wartościowych",false,2,2016,0,0,0,0,"2013-11-08","2014-01-01"]
[2014,1,"KRZYŻANÓW",1002052,2,null,590,11.2,null," Wydatki związane z funkcjonowaniem organów jednostki samorządu terytorialnego",true,2,2016,1397090.95,1438877.18,1491519,1491519,"2013-11-08","2014-01-01"]
[2014,1,"KRZYŻANÓW",1002052,2,null,90,1.2,null,"  Dochody majątkowe, w tym",true,3,2017,1548530.29,1401663.61,1007330,683530,"2013-11-08","2014-01-01"]
[2014,1,"KRZYŻANÓW",1002052,2,null,560,10.1,null," Spłaty kredytów, pożyczek i wykup papierów wartościowych",false,3,2017,0,0,0,0,"2013-11-08","2014-01-01"]
[2014,1,"KRZYŻANÓW",1002052,2,null,370,"6.1.1",null,"   - kwota wyłączeń z ograniczeń długu określonych w art. 170 ust. 3 ufp z 2005 r. ",true,0,2014,595645.15,0,0,0,"2013-11-08","2014-01-01"]
[2014,1,"KRZYŻANÓW",1002052,2,null,200,3,"[1] -[2]","Wynik budżetu",false,3,2017,-1100222.42,2580481.7200000002,-1113306.28,-1722526,"2013-11-08","2014-01-01"]
[2014,1,"KRZYŻANÓW",1002052,2,null,510,9.6999999999999993,null," Dopuszczalny wskaźnik spłaty zobowiązań określony w art. 243 ustawy, po uwzględnieniu wyłączeń określonych w art. 36 ustawy z dnia 7 grudnia 2012 r. o zmianie niektórych ustaw w związku z realizacją ustawy budżetowej, obliczony w oparciu o plan 3 kwartałów roku poprzedzającego rok budżetowy",true,2,2016,0,0,0,0,"2013-11-08","2014-01-01"]
[2014,1,"KRZYŻANÓW",1002052,2,null,730,12.3,null," Wydatki bieżące na programy, projekty lub zadania finansowane z udziałem środków, o których mowa w art. 5 ust. 1 pkt 2 i 3 ustawy",false,1,2015,123162.52,156869.10999999999,145119.65,145119.65,"2013-11-08","2014-01-01"]
[2014,1,"KRZYŻANÓW",1002052,2,null,920,"14.3.2",null,"  związane z umowami zaliczanymi do tytułów dłużnych wliczanych w państwowy dług publiczny",true,3,2017,0,0,0,0,"2013-11-08","2014-01-01"]
[2014,1,"KRZYŻANÓW",1002052,2,null,300,5,"[5.1] + [5.2]","Rozchody budżetu",false,3,2017,601088.34,1303202.75,737521.46,737521.46,"2013-11-08","2014-01-01"]
[2014,1,"KRZYŻANÓW",1002052,2,null,90,1.2,null,"  Dochody majątkowe, w tym",true,0,2014,1548530.29,1401663.61,1007330,683530,"2013-11-08","2014-01-01"]
[2014,1,"KRZYŻANÓW",1002052,2,null,220,4.0999999999999996,null," Nadwyżka budżetowa z lat ubiegłych",false,2,2016,0,0,314668.09000000003,923887.81,"2013-11-08","2014-01-01"]
[2014,1,"KRZYŻANÓW",1002052,2,null,490,9.5,null," Kwota zobowiązań związku współtworzonego przez jednostkę samorządu terytorialnego przypadających do spłaty w danym roku budżetowym, podlegająca doliczeniu zgodnie z art. 244 ustawy ",true,0,2014,0,0,0,0,"2013-11-08","2014-01-01"]
[2014,1,"KRZYŻANÓW",1002052,2,null,240,4.2,null," Wolne środki, o których mowa w art. 217 ust.2 pkt 6 ustawy",false,0,2014,186016.39,902519.37,1422477.65,1422477.65,"2013-11-08","2014-01-01"]
[2014,1,"KRZYŻANÓW",1002052,2,null,340,5.2,null," Inne rozchody niezwiązane ze spłatą długu",false,1,2015,0,24682,0,0,"2013-11-08","2014-01-01"]
[2014,1,"KRZYŻANÓW",1002052,2,null,400,7,null,"Kwota zobowiązań wynikających z przejęcia przez jednostkę samorządu terytorialnego zobowiązań po likwidowanych i przekształcanych jednostkach zaliczanych do sektora  finansów publicznych",true,3,2017,0,0,0,0,"2013-11-08","2014-01-01"]
[2014,1,"KRZYŻANÓW",1002052,2,null,520,"9.7.1",null,"   Dopuszczalny wskaźnik spłaty zobowiązań określony w art. 243 ustawy, po uwzględnieniu wyłączeń określonych w art.  36 ustawy z dnia 7 grudnia 2012 r. o zmianie niektórych ustaw w związku z realizacją ustawy budżetowej, obliczony w oparciu o wykonanie roku poprzedzającego rok budżetowy",true,1,2015,0,0,0,0,"2013-11-08","2014-01-01"]
[2014,1,"KRZYŻANÓW",1002052,2,null,440,9,null,"Wskaźnik spłaty zobowiązań",false,2,2016,0,0,0,0,"2013-11-08","2014-01-01"]
[2014,1,"KRZYŻANÓW",1002052,2,null,640,11.5,null," Nowe wydatki inwestycyjne",true,1,2015,2450536,1590835.04,1184859,1184859,"2013-11-08","2014-01-01"]
[2014,1,"KRZYŻANÓW",1002052,2,null,770,"12.4.1",null,"  -  w tym finansowane środkami określonymi w art. 5 ust. 1 pkt 2 ustawy",true,0,2014,650923.96,220814.52,3401517,3401517,"2013-11-08","2014-01-01"]
[2014,1,"KRZYŻANÓW",1002052,2,null,490,9.5,null," Kwota zobowiązań związku współtworzonego przez jednostkę samorządu terytorialnego przypadających do spłaty w danym roku budżetowym, podlegająca doliczeniu zgodnie z art. 244 ustawy ",true,1,2015,0,0,0,0,"2013-11-08","2014-01-01"]
[2014,1,"KRZYŻANÓW",1002052,2,null,460,9.1999999999999993,"([2.1.1] + [2.1.3.1] + [5.1] - [5.1.1]- [2.1.1.1] ) / [1]"," Wskaźnik planowanej łącznej kwoty spłaty zobowiązań, o której mowa w art. 169 ust. 1 ufp z 2005 r. do dochodów ogółem, po uwzględnieniu wyłączeń przypadających na dany rok określonych w pkt 5.1.1. ",false,3,2017,7.4000000000000003E-3,5.45E-2,6.1800000000000001E-2,6.0900000000000003E-2,"2013-11-08","2014-01-01"]
[2014,1,"KRZYŻANÓW",1002052,2,null,610,"11.3.1",null,"   bieżące",true,0,2014,123162.52,156869.10999999999,145119.65,145119.65,"2013-11-08","2014-01-01"]
[2014,1,"KRZYŻANÓW",1002052,2,null,650,11.6,null," Wydatki majątkowe w formie dotacji ",true,0,2014,0,0,39000,39000,"2013-11-08","2014-01-01"]
[2014,1,"KRZYŻANÓW",1002052,2,null,780,"12.4.2",null,"  Wydatki majątkowe na realizację programu, projektu lub zadania wynikające wyłącznie z zawartych umów z podmiotem dysponującym środkami, o których mowa w art. 5 ust. 1 pkt 2 ustawy ",true,0,2014,0,0,1590835.04,1590835.04,"2013-11-08","2014-01-01"]
[2014,1,"KRZYŻANÓW",1002052,2,null,390,6.3,"([6] - [6.1]) / [1]"," Wskaźnik zadłużenia do dochodów ogółem, o którym mowa w art.  170 ufp z 2005 r., po uwzględnieniu wyłączeń określonych w pkt 6.1. ",false,1,2015,0.2175,0.1012,5.7500000000000002E-2,6.0999999999999999E-2,"2013-11-08","2014-01-01"]
[2014,1,"KRZYŻANÓW",1002052,2,null,480,9.4,"([2.1.1] + [2.1.3.1] + [5.1] - [5.1.1]- [2.1.1.1] ) / [1]"," Wskaźnik planowanej łącznej kwoty spłaty zobowiązań, o której mowa w art. 243 ust. 1 ustawy do dochodów ogółem, bez uwzględnienia zobowiązań związku współtworzonego przez jednostkę samorządu terytorialnego, po uwzględnieniu wyłączeń przypadających na dany rok określonych w pkt 5.1.1. ",false,1,2015,7.4000000000000003E-3,5.45E-2,6.1800000000000001E-2,6.0900000000000003E-2,"2013-11-08","2014-01-01"]
[2014,1,"KRZYŻANÓW",1002052,2,null,370,"6.1.1",null,"   - kwota wyłączeń z ograniczeń długu określonych w art. 170 ust. 3 ufp z 2005 r. ",true,2,2016,595645.15,0,0,0,"2013-11-08","2014-01-01"]
[2014,1,"KRZYŻANÓW",1002052,2,null,930,"14.3.3",null,"  wypłaty z tytułu wymagalnych poręczeń i gwarancji",true,2,2016,0,0,0,0,"2013-11-08","2014-01-01"]
[2014,1,"KRZYŻANÓW",1002052,2,null,350,6,null,"Kwota długu",true,2,2016,2552998.4,1422477.65,773956.19,773956.19,"2013-11-08","2014-01-01"]
[2014,1,"KRZYŻANÓW",1002052,2,null,360,6.1,null," Łączna kwota wyłączeń z ograniczeń długu określonych w art. 170 ust. 3 ufp z 2005 r. oraz w art. 36 ustawy o zmianie niektórych ustaw w związku z realizacją ustawy budżetowej",true,2,2016,0,0,0,0,"2013-11-08","2014-01-01"]
[2014,1,"KRZYŻANÓW",1002052,2,null,190,2.2000000000000002,null," Wydatki majątkowe",false,3,2017,3624050.32,2425876,4625376,4625376,"2013-11-08","2014-01-01"]
[2014,1,"KRZYŻANÓW",1002052,2,null,530,9.8000000000000007,"[9.6] - [9.7]"," Informacja o spełnieniu wskaźnika spłaty zobowiązań określonego w art. 243 ustawy, po uwzględnieniu zobowiązań związku współtworzonego przez jednostkę samorządu terytorialnego oraz po uwzględnieniu wyłączeń określonych w pkt 5.1.1., obliczonego w oparciu o plan 3 kwartałów roku poprzedzającego rok budżetowy",false,3,2017,7.4000000000000003E-3,5.45E-2,6.1800000000000001E-2,6.0900000000000003E-2,"2013-11-08","2014-01-01"]
[2014,1,"KRZYŻANÓW",1002052,2,null,290,"4.4.1",null,"   w tym na pokrycie deficytu budżetu",false,3,2017,0,0,0,0,"2013-11-08","2014-01-01"]
[2014,1,"KRZYŻANÓW",1002052,2,null,10,1,"[1.1] + [1.2]","Dochody ogółem",true,0,2014,11735693.560000001,14062028.15,13471394.42,12678694,"2013-11-08","2014-01-01"]
[2014,1,"KRZYŻANÓW",1002052,2,null,550,10,null,"Przeznaczenie prognozowanej nadwyżki budżetowej,  w tym na:",false,3,2017,0,0,0,0,"2013-11-08","2014-01-01"]
[2014,1,"KRZYŻANÓW",1002052,2,null,620,"11.3.2",null,"   majątkowe",true,1,2015,1357691.17,562105.4,3401517,3401517,"2013-11-08","2014-01-01"]
[2014,1,"KRZYŻANÓW",1002052,2,null,200,3,"[1] -[2]","Wynik budżetu",false,0,2014,-1100222.42,2580481.7200000002,-1113306.28,-1722526,"2013-11-08","2014-01-01"]
[2014,1,"KRZYŻANÓW",1002052,2,null,230,"4.1.1",null,"  w tym na pokrycie deficytu budżetu",false,3,2017,0,0,0,211048.35,"2013-11-08","2014-01-01"]
[2014,1,"KRZYŻANÓW",1002052,2,null,505,"9.6.1","( [1.1] -  ( [2.1]  - [2.1.2] ) + [1.2.1] ) / [1]"," Wskaźnik jednoroczny",false,2,2016,9.5100000000000004E-2,0.26129999999999998,0.2104,0.17549999999999999,"2013-11-08","2014-01-01"]
[2014,1,"KRZYŻANÓW",1002052,2,null,80,"1.1.5",null,"  z tytułu dotacji i środków przeznaczonych na cele bieżące",true,0,2014,2073142.05,2060950.81,1980030.02,1980030.02,"2013-11-08","2014-01-01"]
[2014,1,"KRZYŻANÓW",1002052,2,null,320,"5.1.1",null,"  w tym łączna kwota przypadających na dany rok kwot wyłączeń określonych w: art. 243 ust. 3 pkt 1 ustawy (lub art. 169 ust. 3 pkt 1 ufp z 2005 r.), art. 121a ustawy  z dnia 27 sierpnia 2009 r. – Przepisy wprowadzające ustawę o finansach publicznych  (Dz. U. Nr 157, poz. 1241, z późn. zm.) oraz art.  36 ustawy z dnia 7 grudnia 2012 r. o zmianie niektórych ustaw związanych z realizacją ustawy budżetowej (Dz.U. poz. 1456)",true,1,2015,552822,595645.15,0,0,"2013-11-08","2014-01-01"]
[2014,1,"KRZYŻANÓW",1002052,2,null,100,"1.2.1",null,"  ze sprzedaży majątku",true,2,2016,140492.99,69038.91,330000,6200,"2013-11-08","2014-01-01"]
[2014,1,"KRZYŻANÓW",1002052,2,null,760,12.4,null," Wydatki majątkowe na programy, projekty lub zadania finansowane z udziałem środków, o których mowa w art. 5 ust. 1 pkt 2 i 3 ustawy",true,2,2016,650923.96,562105.4,3401517,3401517,"2013-11-08","2014-01-01"]
[2014,1,"KRZYŻANÓW",1002052,2,null,670,12.1,null," Dochody bieżące  na programy, projekty lub zadania finansowane z udziałem środków, o których mowa w art. 5 ust. 1 pkt 2 i 3 ustawy",true,0,2014,104205.75,179911.06,109888.97,109888.97,"2013-11-08","2014-01-01"]
[2014,1,"KRZYŻANÓW",1002052,2,null,630,11.4,null," Wydatki inwestycyjne kontynuowane ",true,0,2014,1173514.32,835040.96,3401517,3401517,"2013-11-08","2014-01-01"]
[2014,1,"KRZYŻANÓW",1002052,2,null,570,11,null,"Informacje uzupełniające o wybranych rodzajach wydatków budżetowych",false,2,2016,0,0,0,0,"2013-11-08","2014-01-01"]
[2014,1,"KRZYŻANÓW",1002052,2,null,570,11,null,"Informacje uzupełniające o wybranych rodzajach wydatków budżetowych",false,1,2015,0,0,0,0,"2013-11-08","2014-01-01"]
[2014,1,"KRZYŻANÓW",1002052,2,null,60,"1.1.3.1",null,"   z podatku od nieruchomości",true,3,2017,849319.19,1608877.11,1644617.4,1644617.4,"2013-11-08","2014-01-01"]
[2014,1,"KRZYŻANÓW",1002052,2,null,640,11.5,null," Nowe wydatki inwestycyjne",true,3,2017,2450536,1590835.04,1184859,1184859,"2013-11-08","2014-01-01"]
[2014,1,"KRZYŻANÓW",1002052,2,null,420,8.1,"[1.1] - [2.1]"," Różnica między dochodami bieżącymi a  wydatkami bieżącymi",false,2,2016,975297.61,3604694.11,2504739.7200000002,2219320,"2013-11-08","2014-01-01"]
[2014,1,"KRZYŻANÓW",1002052,2,null,380,6.2,"[6] / [1]"," Wskaźnik zadłużenia do dochodów ogółem określony w art. 170 ufp z 2005 r., bez uwzględniania wyłączeń określonych w pkt 6.1.   ",false,3,2017,0.2175,0.1012,5.7500000000000002E-2,6.0999999999999999E-2,"2013-11-08","2014-01-01"]
[2014,1,"KRZYŻANÓW",1002052,2,null,150,"2.1.1.1",null,"   w tym: gwarancje i poręczenia podlegające wyłączeniu z limitów spłaty zobowiązań  określonych w art. 243 ust. 3 pkt 2 ustawy z dnia 27 sierpnia 2009 r. o finansach publicznych (Dz. U. Nr 157, poz. 1240, z późn. zm.) lub art. 169 ust. 3 pkt 2 ustawy z dnia 30 czerwca 2005 r. o finansach publicznych (Dz. U. Nr 249, poz. 2104, z późn. zm)",true,0,2014,0,0,0,0,"2013-11-08","2014-01-01"]
[2014,1,"KRZYŻANÓW",1002052,2,null,320,"5.1.1",null,"  w tym łączna kwota przypadających na dany rok kwot wyłączeń określonych w: art. 243 ust. 3 pkt 1 ustawy (lub art. 169 ust. 3 pkt 1 ufp z 2005 r.), art. 121a ustawy  z dnia 27 sierpnia 2009 r. – Przepisy wprowadzające ustawę o finansach publicznych  (Dz. U. Nr 157, poz. 1241, z późn. zm.) oraz art.  36 ustawy z dnia 7 grudnia 2012 r. o zmianie niektórych ustaw związanych z realizacją ustawy budżetowej (Dz.U. poz. 1456)",true,3,2017,552822,595645.15,0,0,"2013-11-08","2014-01-01"]
[2014,1,"KRZYŻANÓW",1002052,2,null,770,"12.4.1",null,"  -  w tym finansowane środkami określonymi w art. 5 ust. 1 pkt 2 ustawy",true,2,2016,650923.96,220814.52,3401517,3401517,"2013-11-08","2014-01-01"]
[2014,1,"KRZYŻANÓW",1002052,2,null,560,10.1,null," Spłaty kredytów, pożyczek i wykup papierów wartościowych",false,0,2014,0,0,0,0,"2013-11-08","2014-01-01"]
[2014,1,"KRZYŻANÓW",1002052,2,null,890,14.2,null," Kwota długu, którego planowana spłata dokona się z wydatków budżetu",true,0,2014,0,0,0,0,"2013-11-08","2014-01-01"]
[2014,1,"KRZYŻANÓW",1002052,2,null,30,"1.1.1",null,"  dochody z tytułu udziału we wpływach z podatku dochodowego od osób fizycznych",true,1,2015,976091,1398132,1443005,1443005,"2013-11-08","2014-01-01"]
[2014,1,"KRZYŻANÓW",1002052,2,null,640,11.5,null," Nowe wydatki inwestycyjne",true,2,2016,2450536,1590835.04,1184859,1184859,"2013-11-08","2014-01-01"]
[2014,1,"KRZYŻANÓW",1002052,2,null,790,13,null,"Kwoty dotyczące przejęcia i spłaty zobowiązań po samodzielnych publicznych zakładach opieki zdrowotnej oraz pokrycia ujemnego wyniku ",true,0,2014,0,0,0,0,"2013-11-08","2014-01-01"]
[2014,1,"KRZYŻANÓW",1002052,2,null,250,"4.2.1",null,"   w tym na pokrycie deficytu budżetu",false,0,2014,0,0,1024306.28,1422477.65,"2013-11-08","2014-01-01"]
[2014,1,"KRZYŻANÓW",1002052,2,null,700,12.2,null," Dochody majątkowe  na programy, projekty lub zadania finansowane z udziałem środków, o których mowa w art. 5 ust. 1 pkt 2 i 3 ustawy",false,3,2017,1041937.3,1013324.7,421154,421154,"2013-11-08","2014-01-01"]
[2014,1,"KRZYŻANÓW",1002052,2,null,760,12.4,null," Wydatki majątkowe na programy, projekty lub zadania finansowane z udziałem środków, o których mowa w art. 5 ust. 1 pkt 2 i 3 ustawy",true,3,2017,650923.96,562105.4,3401517,3401517,"2013-11-08","2014-01-01"]
[2014,1,"KRZYŻANÓW",1002052,2,null,310,5.0999999999999996,null," Spłaty rat kapitałowych kredytów i pożyczek oraz wykup papierów wartościowych",true,3,2017,601088.34,1278520.75,737521.46,737521.46,"2013-11-08","2014-01-01"]
[2014,1,"KRZYŻANÓW",1002052,2,null,390,6.3,"([6] - [6.1]) / [1]"," Wskaźnik zadłużenia do dochodów ogółem, o którym mowa w art.  170 ufp z 2005 r., po uwzględnieniu wyłączeń określonych w pkt 6.1. ",false,3,2017,0.2175,0.1012,5.7500000000000002E-2,6.0999999999999999E-2,"2013-11-08","2014-01-01"]
[2014,1,"KRZYŻANÓW",1002052,2,null,510,9.6999999999999993,null," Dopuszczalny wskaźnik spłaty zobowiązań określony w art. 243 ustawy, po uwzględnieniu wyłączeń określonych w art. 36 ustawy z dnia 7 grudnia 2012 r. o zmianie niektórych ustaw w związku z realizacją ustawy budżetowej, obliczony w oparciu o plan 3 kwartałów roku poprzedzającego rok budżetowy",true,0,2014,0,0,0,0,"2013-11-08","2014-01-01"]
[2014,1,"KRZYŻANÓW",1002052,2,null,730,12.3,null," Wydatki bieżące na programy, projekty lub zadania finansowane z udziałem środków, o których mowa w art. 5 ust. 1 pkt 2 i 3 ustawy",false,3,2017,123162.52,156869.10999999999,145119.65,145119.65,"2013-11-08","2014-01-01"]
[2014,1,"KRZYŻANÓW",1002052,2,null,830,13.4,null," Wydatki na spłatę przejętych zobowiązań samodzielnego publicznego zakładu opieki zdrowotnej przekształconego na zasadach określonych w przepisach  o działalności leczniczej",true,1,2015,0,0,0,0,"2013-11-08","2014-01-01"]
[2014,1,"KRZYŻANÓW",1002052,2,null,170,"2.1.3",null,"  wydatki na obsługę długu",true,3,2017,41411.769999999997,84758.58,95000,35000,"2013-11-08","2014-01-01"]
[2014,1,"KRZYŻANÓW",1002052,2,null,780,"12.4.2",null,"  Wydatki majątkowe na realizację programu, projektu lub zadania wynikające wyłącznie z zawartych umów z podmiotem dysponującym środkami, o których mowa w art. 5 ust. 1 pkt 2 ustawy ",true,1,2015,0,0,1590835.04,1590835.04,"2013-11-08","2014-01-01"]
[2014,1,"KRZYŻANÓW",1002052,2,null,520,"9.7.1",null,"   Dopuszczalny wskaźnik spłaty zobowiązań określony w art. 243 ustawy, po uwzględnieniu wyłączeń określonych w art.  36 ustawy z dnia 7 grudnia 2012 r. o zmianie niektórych ustaw w związku z realizacją ustawy budżetowej, obliczony w oparciu o wykonanie roku poprzedzającego rok budżetowy",true,2,2016,0,0,0,0,"2013-11-08","2014-01-01"]
[2014,1,"KRZYŻANÓW",1002052,2,null,30,"1.1.1",null,"  dochody z tytułu udziału we wpływach z podatku dochodowego od osób fizycznych",true,3,2017,976091,1398132,1443005,1443005,"2013-11-08","2014-01-01"]
[2014,1,"KRZYŻANÓW",1002052,2,null,870,14,null,"Dane uzupełniające o długu i jego spłacie",true,1,2015,0,0,0,0,"2013-11-08","2014-01-01"]
[2014,1,"KRZYŻANÓW",1002052,2,null,420,8.1,"[1.1] - [2.1]"," Różnica między dochodami bieżącymi a  wydatkami bieżącymi",false,0,2014,975297.61,3604694.11,2504739.7200000002,2219320,"2013-11-08","2014-01-01"]
[2014,1,"KRZYŻANÓW",1002052,2,null,690,"12.1.1.1",null,"   - w tym środki określone w art. 5 ust. 1 pkt 2 ustawy wynikające wyłącznie z  zawartych umów na realizację programu, projektu lub zadania",true,1,2015,0,0,96205.25,96205.25,"2013-11-08","2014-01-01"]
[2014,1,"KRZYŻANÓW",1002052,2,null,140,"2.1.1",null,"  z tytułu poręczeń i gwarancji",true,3,2017,0,0,0,0,"2013-11-08","2014-01-01"]
[2014,1,"KRZYŻANÓW",1002052,2,null,160,"2.1.2",null,"   na spłatę przejętych zobowiązań samodzielnego publicznego zakładu opieki zdrowotnej przekształconego na zasadach określonych w przepisach  o działalności leczniczej, w wysokości w jakiej nie podlegają sfinansowaniu dotacją z budżetu państwa)",true,3,2017,0,0,0,0,"2013-11-08","2014-01-01"]
[2014,1,"KRZYŻANÓW",1002052,2,null,940,14.4,null," Wynik operacji niekasowych wpływających na kwotę długu ( m.in. umorzenia, różnice kursowe)",true,3,2017,0,0,0,0,"2013-11-08","2014-01-01"]
[2014,1,"KRZYŻANÓW",1002052,2,null,470,9.3000000000000007,"([2.1.1] + [2.1.3.1] + [5.1] ) / [1]"," Wskaźnik planowanej łącznej kwoty spłaty zobowiązań, o której mowa w art. 243 ust. 1 ustawy do dochodów ogółem, bez uwzględnienia zobowiązań związku współtworzonego przez jednostkę samorządu terytorialnego  i bez uwzględniania wyłączeń przypadających na dany rok określonych w pkt 5.1.1.",true,1,2015,5.45E-2,9.6799999999999997E-2,6.1800000000000001E-2,6.0900000000000003E-2,"2013-11-08","2014-01-01"]
[2014,1,"KRZYŻANÓW",1002052,2,null,850,13.6,null," Wydatki na spłatę zobowiązań samodzielnego publicznego zakładu opieki zdrowotnej przejętych do końca 2011 r. na podstawie przepisów o zakładach opieki zdrowotnej",true,3,2017,0,0,0,0,"2013-11-08","2014-01-01"]
[2014,1,"KRZYŻANÓW",1002052,2,null,880,14.1,null," Spłaty rat kapitałowych oraz wykup papierów wartościowych, o których mowa w pkt. 5.1., wynikające wyłącznie z tytułu zobowiązań już zaciągniętych",true,3,2017,601088.34,1278520.75,737521.46,737521.46,"2013-11-08","2014-01-01"]
[2014,1,"KRZYŻANÓW",1002052,2,null,180,"2.1.3.1",null,"   w tym odsetki i dyskonto określone w art. 243 ust. 1 ustawy lub art. 169 ust. 1 ufp z 2005 r..",false,1,2015,38272.47,83194.59,95000,35000,"2013-11-08","2014-01-01"]
[2014,1,"KRZYŻANÓW",1002052,2,null,220,4.0999999999999996,null," Nadwyżka budżetowa z lat ubiegłych",false,0,2014,0,0,314668.09000000003,923887.81,"2013-11-08","2014-01-01"]
[2014,1,"KRZYŻANÓW",1002052,2,null,290,"4.4.1",null,"   w tym na pokrycie deficytu budżetu",false,0,2014,0,0,0,0,"2013-11-08","2014-01-01"]
[2014,1,"KRZYŻANÓW",1002052,2,null,190,2.2000000000000002,null," Wydatki majątkowe",false,2,2016,3624050.32,2425876,4625376,4625376,"2013-11-08","2014-01-01"]
[2014,1,"KRZYŻANÓW",1002052,2,null,540,"9.8.1","[9.6] - [9.7.1]","  Informacja o spełnieniu wskaźnika spłaty zobowiązań określonego w art. 243 ustawy, po uwzględnieniu zobowiązań związku współtworzonego przez jednostkę samorządu terytorialnego oraz po uwzględnieniu wyłączeń określonych w pkt 5.1.1., obliczonego w oparciu o wykonanie roku poprzedzającego rok budżetowy",false,1,2015,7.4000000000000003E-3,5.45E-2,6.1800000000000001E-2,6.0900000000000003E-2,"2013-11-08","2014-01-01"]
[2014,1,"KRZYŻANÓW",1002052,2,null,850,13.6,null," Wydatki na spłatę zobowiązań samodzielnego publicznego zakładu opieki zdrowotnej przejętych do końca 2011 r. na podstawie przepisów o zakładach opieki zdrowotnej",true,1,2015,0,0,0,0,"2013-11-08","2014-01-01"]
[2014,1,"KRZYŻANÓW",1002052,2,null,140,"2.1.1",null,"  z tytułu poręczeń i gwarancji",true,2,2016,0,0,0,0,"2013-11-08","2014-01-01"]
[2014,1,"KRZYŻANÓW",1002052,2,null,30,"1.1.1",null,"  dochody z tytułu udziału we wpływach z podatku dochodowego od osób fizycznych",true,2,2016,976091,1398132,1443005,1443005,"2013-11-08","2014-01-01"]
[2014,1,"KRZYŻANÓW",1002052,2,null,180,"2.1.3.1",null,"   w tym odsetki i dyskonto określone w art. 243 ust. 1 ustawy lub art. 169 ust. 1 ufp z 2005 r..",false,0,2014,38272.47,83194.59,95000,35000,"2013-11-08","2014-01-01"]
[2014,1,"KRZYŻANÓW",1002052,2,null,240,4.2,null," Wolne środki, o których mowa w art. 217 ust.2 pkt 6 ustawy",false,2,2016,186016.39,902519.37,1422477.65,1422477.65,"2013-11-08","2014-01-01"]
[2014,1,"KRZYŻANÓW",1002052,2,null,740,"12.3.1",null,"  -  w tym finansowane środkami określonymi w art. 5 ust. 1 pkt 2 ustawy ",false,2,2016,104205.63,133542.57999999999,123351.7,123351.7,"2013-11-08","2014-01-01"]
[2014,1,"KRZYŻANÓW",1002052,2,null,690,"12.1.1.1",null,"   - w tym środki określone w art. 5 ust. 1 pkt 2 ustawy wynikające wyłącznie z  zawartych umów na realizację programu, projektu lub zadania",true,2,2016,0,0,96205.25,96205.25,"2013-11-08","2014-01-01"]
[2014,1,"KRZYŻANÓW",1002052,2,null,350,6,null,"Kwota długu",true,3,2017,2552998.4,1422477.65,773956.19,773956.19,"2013-11-08","2014-01-01"]
[2014,1,"KRZYŻANÓW",1002052,2,null,800,13.1,null," Kwota zobowiązań wynikających z przejęcia przez jednostkę samorządu terytorialnego zobowiązań po likwidowanych i przekształcanych samodzielnych zakładach opieki zdrowotnej",true,2,2016,0,0,0,0,"2013-11-08","2014-01-01"]
[2014,1,"KRZYŻANÓW",1002052,2,null,780,"12.4.2",null,"  Wydatki majątkowe na realizację programu, projektu lub zadania wynikające wyłącznie z zawartych umów z podmiotem dysponującym środkami, o których mowa w art. 5 ust. 1 pkt 2 ustawy ",true,2,2016,0,0,1590835.04,1590835.04,"2013-11-08","2014-01-01"]
[2014,1,"KRZYŻANÓW",1002052,2,null,840,13.5,null," Wydatki na spłatę przejętych zobowiązań samodzielnego publicznego zakładu opieki zdrowotnej likwidowanego na zasadach określonych w przepisach  o działalności leczniczej",true,0,2014,0,0,0,0,"2013-11-08","2014-01-01"]
[2014,1,"KRZYŻANÓW",1002052,2,null,100,"1.2.1",null,"  ze sprzedaży majątku",true,0,2014,140492.99,69038.91,330000,6200,"2013-11-08","2014-01-01"]
[2014,1,"KRZYŻANÓW",1002052,2,null,910,"14.3.1",null,"  spłata zobowiązań wymagalnych z lat poprzednich, innych niż w pkt 14.3.3",true,1,2015,0,0,0,0,"2013-11-08","2014-01-01"]
[2014,1,"KRZYŻANÓW",1002052,2,null,690,"12.1.1.1",null,"   - w tym środki określone w art. 5 ust. 1 pkt 2 ustawy wynikające wyłącznie z  zawartych umów na realizację programu, projektu lub zadania",true,3,2017,0,0,96205.25,96205.25,"2013-11-08","2014-01-01"]
[2014,1,"KRZYŻANÓW",1002052,2,null,550,10,null,"Przeznaczenie prognozowanej nadwyżki budżetowej,  w tym na:",false,2,2016,0,0,0,0,"2013-11-08","2014-01-01"]
[2014,1,"KRZYŻANÓW",1002052,2,null,270,"4.3.1",null,"   w tym na pokrycie deficytu budżetu",true,3,2017,1100222.42,0,89000,89000,"2013-11-08","2014-01-01"]
[2014,1,"KRZYŻANÓW",1002052,2,null,230,"4.1.1",null,"  w tym na pokrycie deficytu budżetu",false,1,2015,0,0,0,211048.35,"2013-11-08","2014-01-01"]
[2014,1,"KRZYŻANÓW",1002052,2,null,500,9.6,"([2.1.1]+[2.1.3.1] + [5.1]+[9.5]-[5.1.1]- [2.1.1.1] )/[1]"," Wskaźnik planowanej łącznej kwoty spłaty zobowiązań, o której mowa w art. 243 ust. 1 ustawy do dochodów ogółem, po uwzględnieniu zobowiązań związku współtworzonego przez jednostkę samorządu terytorialnego oraz po uwzględnieniu wyłączeń przypadających na dany rok określonych w pkt 5.1.1.",false,2,2016,7.4000000000000003E-3,5.45E-2,6.1800000000000001E-2,6.0900000000000003E-2,"2013-11-08","2014-01-01"]
[2014,1,"KRZYŻANÓW",1002052,2,null,380,6.2,"[6] / [1]"," Wskaźnik zadłużenia do dochodów ogółem określony w art. 170 ufp z 2005 r., bez uwzględniania wyłączeń określonych w pkt 6.1.   ",false,2,2016,0.2175,0.1012,5.7500000000000002E-2,6.0999999999999999E-2,"2013-11-08","2014-01-01"]
[2014,1,"KRZYŻANÓW",1002052,2,null,170,"2.1.3",null,"  wydatki na obsługę długu",true,0,2014,41411.769999999997,84758.58,95000,35000,"2013-11-08","2014-01-01"]
[2014,1,"KRZYŻANÓW",1002052,2,null,20,1.1000000000000001,null," Dochody bieżące",true,1,2015,10187163.27,12660364.539999999,12464064.42,11995164,"2013-11-08","2014-01-01"]
[2014,1,"KRZYŻANÓW",1002052,2,null,20,1.1000000000000001,null," Dochody bieżące",true,3,2017,10187163.27,12660364.539999999,12464064.42,11995164,"2013-11-08","2014-01-01"]
[2014,1,"KRZYŻANÓW",1002052,2,null,400,7,null,"Kwota zobowiązań wynikających z przejęcia przez jednostkę samorządu terytorialnego zobowiązań po likwidowanych i przekształcanych jednostkach zaliczanych do sektora  finansów publicznych",true,1,2015,0,0,0,0,"2013-11-08","2014-01-01"]
[2014,1,"KRZYŻANÓW",1002052,2,null,430,8.1999999999999993,"[1.1] + [4.1] + [4.2] - (  [2.1] - [2.1.2]  )"," Różnica między dochodami bieżącymi, powiększonymi o nadwyżkę budżetową określoną w pkt 4.1. i wolne środki określone w pkt 4.2.  a wydatkami bieżącymi, pomniejszonym o wydatki określone w pkt  2.1.2.",false,3,2017,1161314,4507213.4800000004,4241885.46,4565685.46,"2013-11-08","2014-01-01"]
[2014,1,"KRZYŻANÓW",1002052,2,null,50,"1.1.3",null,"  podatki i opłaty",true,2,2016,3093016.26,4719070.97,3848642.4,3379742,"2013-11-08","2014-01-01"]
[2014,1,"KRZYŻANÓW",1002052,2,null,700,12.2,null," Dochody majątkowe  na programy, projekty lub zadania finansowane z udziałem środków, o których mowa w art. 5 ust. 1 pkt 2 i 3 ustawy",false,1,2015,1041937.3,1013324.7,421154,421154,"2013-11-08","2014-01-01"]
[2014,1,"KRZYŻANÓW",1002052,2,null,500,9.6,"([2.1.1]+[2.1.3.1] + [5.1]+[9.5]-[5.1.1]- [2.1.1.1] )/[1]"," Wskaźnik planowanej łącznej kwoty spłaty zobowiązań, o której mowa w art. 243 ust. 1 ustawy do dochodów ogółem, po uwzględnieniu zobowiązań związku współtworzonego przez jednostkę samorządu terytorialnego oraz po uwzględnieniu wyłączeń przypadających na dany rok określonych w pkt 5.1.1.",false,3,2017,7.4000000000000003E-3,5.45E-2,6.1800000000000001E-2,6.0900000000000003E-2,"2013-11-08","2014-01-01"]
[2014,1,"KRZYŻANÓW",1002052,2,null,810,13.2,null," Dochody budżetowe z tytułu dotacji celowej z budżetu państwa, o której mowa w art. 196 ustawy z  dnia 15 kwietnia 2011 r.  o działalności leczniczej (Dz.U. Nr 112, poz. 654, z późn. zm.)",true,0,2014,0,0,0,0,"2013-11-08","2014-01-01"]
[2014,1,"KRZYŻANÓW",1002052,2,null,610,"11.3.1",null,"   bieżące",true,1,2015,123162.52,156869.10999999999,145119.65,145119.65,"2013-11-08","2014-01-01"]
[2014,1,"KRZYŻANÓW",1002052,2,null,530,9.8000000000000007,"[9.6] - [9.7]"," Informacja o spełnieniu wskaźnika spłaty zobowiązań określonego w art. 243 ustawy, po uwzględnieniu zobowiązań związku współtworzonego przez jednostkę samorządu terytorialnego oraz po uwzględnieniu wyłączeń określonych w pkt 5.1.1., obliczonego w oparciu o plan 3 kwartałów roku poprzedzającego rok budżetowy",false,2,2016,7.4000000000000003E-3,5.45E-2,6.1800000000000001E-2,6.0900000000000003E-2,"2013-11-08","2014-01-01"]
[2014,1,"KRZYŻANÓW",1002052,2,null,900,14.3,null," Wydatki zmniejszające dług, w tym",true,3,2017,0,0,0,0,"2013-11-08","2014-01-01"]
[2014,1,"KRZYŻANÓW",1002052,2,null,280,4.4000000000000004,null," Inne przychody niezwiązane z zaciągnięciem długu",false,0,2014,21393.72,0,24682,24682,"2013-11-08","2014-01-01"]
[2014,1,"KRZYŻANÓW",1002052,2,null,20,1.1000000000000001,null," Dochody bieżące",true,0,2014,10187163.27,12660364.539999999,12464064.42,11995164,"2013-11-08","2014-01-01"]
[2014,1,"KRZYŻANÓW",1002052,2,null,505,"9.6.1","( [1.1] -  ( [2.1]  - [2.1.2] ) + [1.2.1] ) / [1]"," Wskaźnik jednoroczny",false,3,2017,9.5100000000000004E-2,0.26129999999999998,0.2104,0.17549999999999999,"2013-11-08","2014-01-01"]
[2014,1,"KRZYŻANÓW",1002052,2,null,830,13.4,null," Wydatki na spłatę przejętych zobowiązań samodzielnego publicznego zakładu opieki zdrowotnej przekształconego na zasadach określonych w przepisach  o działalności leczniczej",true,2,2016,0,0,0,0,"2013-11-08","2014-01-01"]
[2014,1,"KRZYŻANÓW",1002052,2,null,480,9.4,"([2.1.1] + [2.1.3.1] + [5.1] - [5.1.1]- [2.1.1.1] ) / [1]"," Wskaźnik planowanej łącznej kwoty spłaty zobowiązań, o której mowa w art. 243 ust. 1 ustawy do dochodów ogółem, bez uwzględnienia zobowiązań związku współtworzonego przez jednostkę samorządu terytorialnego, po uwzględnieniu wyłączeń przypadających na dany rok określonych w pkt 5.1.1. ",false,2,2016,7.4000000000000003E-3,5.45E-2,6.1800000000000001E-2,6.0900000000000003E-2,"2013-11-08","2014-01-01"]
[2014,1,"KRZYŻANÓW",1002052,2,null,720,"12.2.1.1",null,"    - w tym środki określone w art. 5 ust. 1 pkt 2 ustawy wynikające wyłącznie z zawartych umów na realizację programu, projektu lub zadania",false,1,2015,0,0,232602,232602,"2013-11-08","2014-01-01"]
[2014,1,"KRZYŻANÓW",1002052,2,null,510,9.6999999999999993,null," Dopuszczalny wskaźnik spłaty zobowiązań określony w art. 243 ustawy, po uwzględnieniu wyłączeń określonych w art. 36 ustawy z dnia 7 grudnia 2012 r. o zmianie niektórych ustaw w związku z realizacją ustawy budżetowej, obliczony w oparciu o plan 3 kwartałów roku poprzedzającego rok budżetowy",true,3,2017,0,0,0,0,"2013-11-08","2014-01-01"]
[2014,1,"KRZYŻANÓW",1002052,2,null,940,14.4,null," Wynik operacji niekasowych wpływających na kwotę długu ( m.in. umorzenia, różnice kursowe)",true,1,2015,0,0,0,0,"2013-11-08","2014-01-01"]
[2014,1,"KRZYŻANÓW",1002052,2,null,910,"14.3.1",null,"  spłata zobowiązań wymagalnych z lat poprzednich, innych niż w pkt 14.3.3",true,0,2014,0,0,0,0,"2013-11-08","2014-01-01"]
[2014,1,"KRZYŻANÓW",1002052,2,null,650,11.6,null," Wydatki majątkowe w formie dotacji ",true,1,2015,0,0,39000,39000,"2013-11-08","2014-01-01"]
[2014,1,"KRZYŻANÓW",1002052,2,null,700,12.2,null," Dochody majątkowe  na programy, projekty lub zadania finansowane z udziałem środków, o których mowa w art. 5 ust. 1 pkt 2 i 3 ustawy",false,2,2016,1041937.3,1013324.7,421154,421154,"2013-11-08","2014-01-01"]
[2014,1,"KRZYŻANÓW",1002052,2,null,600,11.3,"[11.3.1] + [11.3.2]"," Wydatki objęte limitem art. 226 ust. 3 ustawy",true,1,2015,1480853.69,718974.51,3546636.65,3546636.65,"2013-11-08","2014-01-01"]
[2014,1,"KRZYŻANÓW",1002052,2,null,140,"2.1.1",null,"  z tytułu poręczeń i gwarancji",true,0,2014,0,0,0,0,"2013-11-08","2014-01-01"]
[2014,1,"KRZYŻANÓW",1002052,2,null,660,12,null,"Finansowanie programów, projektów lub zadań realizowanych z udziałem środków, o których mowa w art. 5 ust. 1 pkt 2 i 3 ustawy",true,3,2017,0,0,0,0,"2013-11-08","2014-01-01"]
[2014,1,"KRZYŻANÓW",1002052,2,null,710,"12.2.1",null,"   -  w tym środki określone w art. 5 ust. 1 pkt 2 ustawy",false,3,2017,1041937.3,826032,232602,232602,"2013-11-08","2014-01-01"]
[2014,1,"KRZYŻANÓW",1002052,2,null,340,5.2,null," Inne rozchody niezwiązane ze spłatą długu",false,0,2014,0,24682,0,0,"2013-11-08","2014-01-01"]
[2014,1,"KRZYŻANÓW",1002052,2,null,880,14.1,null," Spłaty rat kapitałowych oraz wykup papierów wartościowych, o których mowa w pkt. 5.1., wynikające wyłącznie z tytułu zobowiązań już zaciągniętych",true,2,2016,601088.34,1278520.75,737521.46,737521.46,"2013-11-08","2014-01-01"]
[2014,1,"KRZYŻANÓW",1002052,2,null,730,12.3,null," Wydatki bieżące na programy, projekty lub zadania finansowane z udziałem środków, o których mowa w art. 5 ust. 1 pkt 2 i 3 ustawy",false,2,2016,123162.52,156869.10999999999,145119.65,145119.65,"2013-11-08","2014-01-01"]
[2014,1,"KRZYŻANÓW",1002052,2,null,130,2.1,null," Wydatki bieżące, w tym:",true,3,2017,9211865.6600000001,9055670.4299999997,9959324.6999999993,9775844,"2013-11-08","2014-01-01"]
[2014,1,"KRZYŻANÓW",1002052,2,null,330,"5.1.1.1",null,"   w tym kwota przypadających na dany rok kwot wyłączeń określonych w art. 243 ust. 3 pkt 1 ustawy lub art. 169 ust. 3 pkt 1 ufp z 2005 r.",true,1,2015,552822,595645.15,0,0,"2013-11-08","2014-01-01"]
[2014,1,"KRZYŻANÓW",1002052,2,null,50,"1.1.3",null,"  podatki i opłaty",true,3,2017,3093016.26,4719070.97,3848642.4,3379742,"2013-11-08","2014-01-01"]
[2014,1,"KRZYŻANÓW",1002052,2,null,830,13.4,null," Wydatki na spłatę przejętych zobowiązań samodzielnego publicznego zakładu opieki zdrowotnej przekształconego na zasadach określonych w przepisach  o działalności leczniczej",true,3,2017,0,0,0,0,"2013-11-08","2014-01-01"]
[2014,1,"KRZYŻANÓW",1002052,2,null,740,"12.3.1",null,"  -  w tym finansowane środkami określonymi w art. 5 ust. 1 pkt 2 ustawy ",false,3,2017,104205.63,133542.57999999999,123351.7,123351.7,"2013-11-08","2014-01-01"]
[2014,1,"KRZYŻANÓW",1002052,2,null,180,"2.1.3.1",null,"   w tym odsetki i dyskonto określone w art. 243 ust. 1 ustawy lub art. 169 ust. 1 ufp z 2005 r..",false,2,2016,38272.47,83194.59,95000,35000,"2013-11-08","2014-01-01"]
[2014,1,"KRZYŻANÓW",1002052,2,null,570,11,null,"Informacje uzupełniające o wybranych rodzajach wydatków budżetowych",false,3,2017,0,0,0,0,"2013-11-08","2014-01-01"]
[2014,1,"KRZYŻANÓW",1002052,2,null,110,"1.2.2",null,"  z tytułu dotacji oraz środków przeznaczonych na inwestycje",true,2,2016,1405937.3,1332324.7,664102,664102,"2013-11-08","2014-01-01"]
[2014,1,"KRZYŻANÓW",1002052,2,null,600,11.3,"[11.3.1] + [11.3.2]"," Wydatki objęte limitem art. 226 ust. 3 ustawy",true,0,2014,1480853.69,718974.51,3546636.65,3546636.65,"2013-11-08","2014-01-01"]
[2014,1,"KRZYŻANÓW",1002052,2,null,170,"2.1.3",null,"  wydatki na obsługę długu",true,1,2015,41411.769999999997,84758.58,95000,35000,"2013-11-08","2014-01-01"]
[2014,1,"KRZYŻANÓW",1002052,2,null,220,4.0999999999999996,null," Nadwyżka budżetowa z lat ubiegłych",false,3,2017,0,0,314668.09000000003,923887.81,"2013-11-08","2014-01-01"]
[2014,1,"KRZYŻANÓW",1002052,2,null,260,4.3,null,"  Kredyty, pożyczki, emisja papierów wartościowych",true,3,2017,2417813.7400000002,148000,89000,89000,"2013-11-08","2014-01-01"]
[2014,1,"KRZYŻANÓW",1002052,2,null,430,8.1999999999999993,"[1.1] + [4.1] + [4.2] - (  [2.1] - [2.1.2]  )"," Różnica między dochodami bieżącymi, powiększonymi o nadwyżkę budżetową określoną w pkt 4.1. i wolne środki określone w pkt 4.2.  a wydatkami bieżącymi, pomniejszonym o wydatki określone w pkt  2.1.2.",false,1,2015,1161314,4507213.4800000004,4241885.46,4565685.46,"2013-11-08","2014-01-01"]
[2014,1,"KRZYŻANÓW",1002052,2,null,160,"2.1.2",null,"   na spłatę przejętych zobowiązań samodzielnego publicznego zakładu opieki zdrowotnej przekształconego na zasadach określonych w przepisach  o działalności leczniczej, w wysokości w jakiej nie podlegają sfinansowaniu dotacją z budżetu państwa)",true,0,2014,0,0,0,0,"2013-11-08","2014-01-01"]
[2014,1,"KRZYŻANÓW",1002052,2,null,440,9,null,"Wskaźnik spłaty zobowiązań",false,1,2015,0,0,0,0,"2013-11-08","2014-01-01"]
[2014,1,"KRZYŻANÓW",1002052,2,null,930,"14.3.3",null,"  wypłaty z tytułu wymagalnych poręczeń i gwarancji",true,0,2014,0,0,0,0,"2013-11-08","2014-01-01"]
[2014,1,"KRZYŻANÓW",1002052,2,null,300,5,"[5.1] + [5.2]","Rozchody budżetu",false,1,2015,601088.34,1303202.75,737521.46,737521.46,"2013-11-08","2014-01-01"]
[2014,1,"KRZYŻANÓW",1002052,2,null,590,11.2,null," Wydatki związane z funkcjonowaniem organów jednostki samorządu terytorialnego",true,0,2014,1397090.95,1438877.18,1491519,1491519,"2013-11-08","2014-01-01"]
[2014,1,"KRZYŻANÓW",1002052,2,null,740,"12.3.1",null,"  -  w tym finansowane środkami określonymi w art. 5 ust. 1 pkt 2 ustawy ",false,0,2014,104205.63,133542.57999999999,123351.7,123351.7,"2013-11-08","2014-01-01"]
[2014,1,"KRZYŻANÓW",1002052,2,null,580,11.1,null," Wydatki bieżące na wynagrodzenia i składki od nich naliczane",false,0,2014,4441226.62,4171528.09,4406547.84,4236547,"2013-11-08","2014-01-01"]
[2014,1,"KRZYŻANÓW",1002052,2,null,860,13.7,null," Wydatki bieżące na pokrycie ujemnego wyniku finansowego samodzielnego publicznego zakładu opieki zdrowotnej",true,2,2016,0,0,0,0,"2013-11-08","2014-01-01"]
[2014,1,"KRZYŻANÓW",1002052,2,null,650,11.6,null," Wydatki majątkowe w formie dotacji ",true,2,2016,0,0,39000,39000,"2013-11-08","2014-01-01"]
[2014,1,"KRZYŻANÓW",1002052,2,null,260,4.3,null,"  Kredyty, pożyczki, emisja papierów wartościowych",true,0,2014,2417813.7400000002,148000,89000,89000,"2013-11-08","2014-01-01"]
[2014,1,"KRZYŻANÓW",1002052,2,null,220,4.0999999999999996,null," Nadwyżka budżetowa z lat ubiegłych",false,1,2015,0,0,314668.09000000003,923887.81,"2013-11-08","2014-01-01"]
[2014,1,"KRZYŻANÓW",1002052,2,null,810,13.2,null," Dochody budżetowe z tytułu dotacji celowej z budżetu państwa, o której mowa w art. 196 ustawy z  dnia 15 kwietnia 2011 r.  o działalności leczniczej (Dz.U. Nr 112, poz. 654, z późn. zm.)",true,2,2016,0,0,0,0,"2013-11-08","2014-01-01"]
[2014,1,"KRZYŻANÓW",1002052,2,null,150,"2.1.1.1",null,"   w tym: gwarancje i poręczenia podlegające wyłączeniu z limitów spłaty zobowiązań  określonych w art. 243 ust. 3 pkt 2 ustawy z dnia 27 sierpnia 2009 r. o finansach publicznych (Dz. U. Nr 157, poz. 1240, z późn. zm.) lub art. 169 ust. 3 pkt 2 ustawy z dnia 30 czerwca 2005 r. o finansach publicznych (Dz. U. Nr 249, poz. 2104, z późn. zm)",true,1,2015,0,0,0,0,"2013-11-08","2014-01-01"]
[2014,1,"KRZYŻANÓW",1002052,2,null,490,9.5,null," Kwota zobowiązań związku współtworzonego przez jednostkę samorządu terytorialnego przypadających do spłaty w danym roku budżetowym, podlegająca doliczeniu zgodnie z art. 244 ustawy ",true,3,2017,0,0,0,0,"2013-11-08","2014-01-01"]
[2014,1,"KRZYŻANÓW",1002052,2,null,70,"1.1.4",null,"  z subwencji ogólnej",true,0,2014,4037554,4481337,4504728,4504728,"2013-11-08","2014-01-01"]
[2014,1,"KRZYŻANÓW",1002052,2,null,50,"1.1.3",null,"  podatki i opłaty",true,1,2015,3093016.26,4719070.97,3848642.4,3379742,"2013-11-08","2014-01-01"]
[2014,1,"KRZYŻANÓW",1002052,2,null,720,"12.2.1.1",null,"    - w tym środki określone w art. 5 ust. 1 pkt 2 ustawy wynikające wyłącznie z zawartych umów na realizację programu, projektu lub zadania",false,3,2017,0,0,232602,232602,"2013-11-08","2014-01-01"]
[2014,1,"KRZYŻANÓW",1002052,2,null,250,"4.2.1",null,"   w tym na pokrycie deficytu budżetu",false,2,2016,0,0,1024306.28,1422477.65,"2013-11-08","2014-01-01"]
[2014,1,"KRZYŻANÓW",1002052,2,null,310,5.0999999999999996,null," Spłaty rat kapitałowych kredytów i pożyczek oraz wykup papierów wartościowych",true,2,2016,601088.34,1278520.75,737521.46,737521.46,"2013-11-08","2014-01-01"]
[2014,1,"KRZYŻANÓW",1002052,2,null,680,"12.1.1",null,"  -  w tym środki określone w art. 5 ust. 1 pkt 2 ustawy",true,2,2016,104205.75,160689,96205.25,96205.25,"2013-11-08","2014-01-01"]
[2014,1,"KRZYŻANÓW",1002052,2,null,800,13.1,null," Kwota zobowiązań wynikających z przejęcia przez jednostkę samorządu terytorialnego zobowiązań po likwidowanych i przekształcanych samodzielnych zakładach opieki zdrowotnej",true,0,2014,0,0,0,0,"2013-11-08","2014-01-01"]
[2014,1,"KRZYŻANÓW",1002052,2,null,360,6.1,null," Łączna kwota wyłączeń z ograniczeń długu określonych w art. 170 ust. 3 ufp z 2005 r. oraz w art. 36 ustawy o zmianie niektórych ustaw w związku z realizacją ustawy budżetowej",true,3,2017,0,0,0,0,"2013-11-08","2014-01-01"]
[2014,1,"KRZYŻANÓW",1002052,2,null,410,8,null,"Relacja zrównoważenia wydatków bieżących, o której mowa w art. 242 ustawy",true,1,2015,0,0,0,0,"2013-11-08","2014-01-01"]
[2014,1,"KRZYŻANÓW",1002052,2,null,290,"4.4.1",null,"   w tym na pokrycie deficytu budżetu",false,1,2015,0,0,0,0,"2013-11-08","2014-01-01"]
[2014,1,"KRZYŻANÓW",1002052,2,null,180,"2.1.3.1",null,"   w tym odsetki i dyskonto określone w art. 243 ust. 1 ustawy lub art. 169 ust. 1 ufp z 2005 r..",false,3,2017,38272.47,83194.59,95000,35000,"2013-11-08","2014-01-01"]
[2014,1,"KRZYŻANÓW",1002052,2,null,940,14.4,null," Wynik operacji niekasowych wpływających na kwotę długu ( m.in. umorzenia, różnice kursowe)",true,0,2014,0,0,0,0,"2013-11-08","2014-01-01"]
[2014,1,"KRZYŻANÓW",1002052,2,null,790,13,null,"Kwoty dotyczące przejęcia i spłaty zobowiązań po samodzielnych publicznych zakładach opieki zdrowotnej oraz pokrycia ujemnego wyniku ",true,1,2015,0,0,0,0,"2013-11-08","2014-01-01"]
[2014,1,"KRZYŻANÓW",1002052,2,null,630,11.4,null," Wydatki inwestycyjne kontynuowane ",true,2,2016,1173514.32,835040.96,3401517,3401517,"2013-11-08","2014-01-01"]
[2014,1,"KRZYŻANÓW",1002052,2,null,900,14.3,null," Wydatki zmniejszające dług, w tym",true,2,2016,0,0,0,0,"2013-11-08","2014-01-01"]
[2014,1,"KRZYŻANÓW",1002052,2,null,620,"11.3.2",null,"   majątkowe",true,0,2014,1357691.17,562105.4,3401517,3401517,"2013-11-08","2014-01-01"]
[2014,1,"KRZYŻANÓW",1002052,2,null,200,3,"[1] -[2]","Wynik budżetu",false,1,2015,-1100222.42,2580481.7200000002,-1113306.28,-1722526,"2013-11-08","2014-01-01"]
[2014,1,"KRZYŻANÓW",1002052,2,null,40,"1.1.2",null,"  dochody z tytułu udziału we wpływach z podatku dochodowego od osób prawnych",true,1,2015,7359.96,873.76,1000,1000,"2013-11-08","2014-01-01"]
[2014,1,"KRZYŻANÓW",1002052,2,null,810,13.2,null," Dochody budżetowe z tytułu dotacji celowej z budżetu państwa, o której mowa w art. 196 ustawy z  dnia 15 kwietnia 2011 r.  o działalności leczniczej (Dz.U. Nr 112, poz. 654, z późn. zm.)",true,1,2015,0,0,0,0,"2013-11-08","2014-01-01"]
[2014,1,"KRZYŻANÓW",1002052,2,null,840,13.5,null," Wydatki na spłatę przejętych zobowiązań samodzielnego publicznego zakładu opieki zdrowotnej likwidowanego na zasadach określonych w przepisach  o działalności leczniczej",true,2,2016,0,0,0,0,"2013-11-08","2014-01-01"]
[2014,1,"KRZYŻANÓW",1002052,2,null,610,"11.3.1",null,"   bieżące",true,3,2017,123162.52,156869.10999999999,145119.65,145119.65,"2013-11-08","2014-01-01"]
[2014,1,"KRZYŻANÓW",1002052,2,null,505,"9.6.1","( [1.1] -  ( [2.1]  - [2.1.2] ) + [1.2.1] ) / [1]"," Wskaźnik jednoroczny",false,0,2014,9.5100000000000004E-2,0.26129999999999998,0.2104,0.17549999999999999,"2013-11-08","2014-01-01"]
[2014,1,"KRZYŻANÓW",1002052,2,null,750,"12.3.2",null,"  Wydatki bieżące na realizację programu, projektu lub zadania wynikające wyłącznie z zawartych umów z podmiotem dysponującym środkami, o których mowa w art. 5 ust. 1 pkt 2 ustawy ",false,2,2016,0,0,145119.65,145119.65,"2013-11-08","2014-01-01"]
[2014,1,"KRZYŻANÓW",1002052,2,null,60,"1.1.3.1",null,"   z podatku od nieruchomości",true,2,2016,849319.19,1608877.11,1644617.4,1644617.4,"2013-11-08","2014-01-01"]
[2014,1,"KRZYŻANÓW",1002052,2,null,450,9.1,"([2.1.1] + [2.1.3.1] + [5.1] ) / [1]"," Wskaźnik planowanej łącznej kwoty spłaty zobowiązań, o której mowa w art. 169 ust. 1 ufp z 2005 r. do dochodów ogółem, bez uwzględnienia wyłączeń określonych w pkt 5.1.1.  ",true,0,2014,5.45E-2,9.6799999999999997E-2,6.1800000000000001E-2,6.0900000000000003E-2,"2013-11-08","2014-01-01"]
[2014,1,"KRZYŻANÓW",1002052,2,null,330,"5.1.1.1",null,"   w tym kwota przypadających na dany rok kwot wyłączeń określonych w art. 243 ust. 3 pkt 1 ustawy lub art. 169 ust. 3 pkt 1 ufp z 2005 r.",true,2,2016,552822,595645.15,0,0,"2013-11-08","2014-01-01"]
[2014,1,"KRZYŻANÓW",1002052,2,null,680,"12.1.1",null,"  -  w tym środki określone w art. 5 ust. 1 pkt 2 ustawy",true,3,2017,104205.75,160689,96205.25,96205.25,"2013-11-08","2014-01-01"]
[2014,1,"KRZYŻANÓW",1002052,2,null,440,9,null,"Wskaźnik spłaty zobowiązań",false,0,2014,0,0,0,0,"2013-11-08","2014-01-01"]
[2014,1,"KRZYŻANÓW",1002052,2,null,440,9,null,"Wskaźnik spłaty zobowiązań",false,3,2017,0,0,0,0,"2013-11-08","2014-01-01"]
[2014,1,"KRZYŻANÓW",1002052,2,null,130,2.1,null," Wydatki bieżące, w tym:",true,1,2015,9211865.6600000001,9055670.4299999997,9959324.6999999993,9775844,"2013-11-08","2014-01-01"]
[2014,1,"KRZYŻANÓW",1002052,2,null,160,"2.1.2",null,"   na spłatę przejętych zobowiązań samodzielnego publicznego zakładu opieki zdrowotnej przekształconego na zasadach określonych w przepisach  o działalności leczniczej, w wysokości w jakiej nie podlegają sfinansowaniu dotacją z budżetu państwa)",true,2,2016,0,0,0,0,"2013-11-08","2014-01-01"]
[2014,1,"KRZYŻANÓW",1002052,2,null,90,1.2,null,"  Dochody majątkowe, w tym",true,2,2016,1548530.29,1401663.61,1007330,683530,"2013-11-08","2014-01-01"]
[2014,1,"KRZYŻANÓW",1002052,2,null,900,14.3,null," Wydatki zmniejszające dług, w tym",true,0,2014,0,0,0,0,"2013-11-08","2014-01-01"]
[2014,1,"KRZYŻANÓW",1002052,2,null,60,"1.1.3.1",null,"   z podatku od nieruchomości",true,1,2015,849319.19,1608877.11,1644617.4,1644617.4,"2013-11-08","2014-01-01"]
[2014,1,"KRZYŻANÓW",1002052,2,null,580,11.1,null," Wydatki bieżące na wynagrodzenia i składki od nich naliczane",false,2,2016,4441226.62,4171528.09,4406547.84,4236547,"2013-11-08","2014-01-01"]
[2014,1,"KRZYŻANÓW",1002052,2,null,340,5.2,null," Inne rozchody niezwiązane ze spłatą długu",false,3,2017,0,24682,0,0,"2013-11-08","2014-01-01"]
[2014,1,"KRZYŻANÓW",1002052,2,null,190,2.2000000000000002,null," Wydatki majątkowe",false,0,2014,3624050.32,2425876,4625376,4625376,"2013-11-08","2014-01-01"]
[2014,1,"KRZYŻANÓW",1002052,2,null,910,"14.3.1",null,"  spłata zobowiązań wymagalnych z lat poprzednich, innych niż w pkt 14.3.3",true,3,2017,0,0,0,0,"2013-11-08","2014-01-01"]
[2014,1,"KRZYŻANÓW",1002052,2,null,70,"1.1.4",null,"  z subwencji ogólnej",true,2,2016,4037554,4481337,4504728,4504728,"2013-11-08","2014-01-01"]
[2014,1,"KRZYŻANÓW",1002052,2,null,90,1.2,null,"  Dochody majątkowe, w tym",true,1,2015,1548530.29,1401663.61,1007330,683530,"2013-11-08","2014-01-01"]
[2014,1,"KRZYŻANÓW",1002052,2,null,870,14,null,"Dane uzupełniające o długu i jego spłacie",true,2,2016,0,0,0,0,"2013-11-08","2014-01-01"]
[2014,1,"KRZYŻANÓW",1002052,2,null,270,"4.3.1",null,"   w tym na pokrycie deficytu budżetu",true,0,2014,1100222.42,0,89000,89000,"2013-11-08","2014-01-01"]
[2014,1,"KRZYŻANÓW",1002052,2,null,880,14.1,null," Spłaty rat kapitałowych oraz wykup papierów wartościowych, o których mowa w pkt. 5.1., wynikające wyłącznie z tytułu zobowiązań już zaciągniętych",true,1,2015,601088.34,1278520.75,737521.46,737521.46,"2013-11-08","2014-01-01"]
[2014,1,"KRZYŻANÓW",1002052,2,null,410,8,null,"Relacja zrównoważenia wydatków bieżących, o której mowa w art. 242 ustawy",true,2,2016,0,0,0,0,"2013-11-08","2014-01-01"]
[2014,1,"KRZYŻANÓW",1002052,2,null,860,13.7,null," Wydatki bieżące na pokrycie ujemnego wyniku finansowego samodzielnego publicznego zakładu opieki zdrowotnej",true,0,2014,0,0,0,0,"2013-11-08","2014-01-01"]
[2014,1,"KRZYŻANÓW",1002052,2,null,600,11.3,"[11.3.1] + [11.3.2]"," Wydatki objęte limitem art. 226 ust. 3 ustawy",true,3,2017,1480853.69,718974.51,3546636.65,3546636.65,"2013-11-08","2014-01-01"]
[2014,1,"KRZYŻANÓW",1002052,2,null,700,12.2,null," Dochody majątkowe  na programy, projekty lub zadania finansowane z udziałem środków, o których mowa w art. 5 ust. 1 pkt 2 i 3 ustawy",false,0,2014,1041937.3,1013324.7,421154,421154,"2013-11-08","2014-01-01"]
[2014,1,"KRZYŻANÓW",1002052,2,null,790,13,null,"Kwoty dotyczące przejęcia i spłaty zobowiązań po samodzielnych publicznych zakładach opieki zdrowotnej oraz pokrycia ujemnego wyniku ",true,2,2016,0,0,0,0,"2013-11-08","2014-01-01"]
[2014,1,"KRZYŻANÓW",1002052,2,null,270,"4.3.1",null,"   w tym na pokrycie deficytu budżetu",true,1,2015,1100222.42,0,89000,89000,"2013-11-08","2014-01-01"]
[2014,1,"KRZYŻANÓW",1002052,2,null,400,7,null,"Kwota zobowiązań wynikających z przejęcia przez jednostkę samorządu terytorialnego zobowiązań po likwidowanych i przekształcanych jednostkach zaliczanych do sektora  finansów publicznych",true,0,2014,0,0,0,0,"2013-11-08","2014-01-01"]
[2014,1,"KRZYŻANÓW",1002052,2,null,10,1,"[1.1] + [1.2]","Dochody ogółem",true,2,2016,11735693.560000001,14062028.15,13471394.42,12678694,"2013-11-08","2014-01-01"]
[2014,1,"KRZYŻANÓW",1002052,2,null,620,"11.3.2",null,"   majątkowe",true,3,2017,1357691.17,562105.4,3401517,3401517,"2013-11-08","2014-01-01"]
[2014,1,"KRZYŻANÓW",1002052,2,null,640,11.5,null," Nowe wydatki inwestycyjne",true,0,2014,2450536,1590835.04,1184859,1184859,"2013-11-08","2014-01-01"]
[2014,1,"KRZYŻANÓW",1002052,2,null,820,13.3,null," Wysokość zobowiązań podlegających umorzeniu, o którym mowa w art. 190 ustawy o działalności leczniczej",true,3,2017,0,0,0,0,"2013-11-08","2014-01-01"]
[2014,1,"KRZYŻANÓW",1002052,2,null,540,"9.8.1","[9.6] - [9.7.1]","  Informacja o spełnieniu wskaźnika spłaty zobowiązań określonego w art. 243 ustawy, po uwzględnieniu zobowiązań związku współtworzonego przez jednostkę samorządu terytorialnego oraz po uwzględnieniu wyłączeń określonych w pkt 5.1.1., obliczonego w oparciu o wykonanie roku poprzedzającego rok budżetowy",false,2,2016,7.4000000000000003E-3,5.45E-2,6.1800000000000001E-2,6.0900000000000003E-2,"2013-11-08","2014-01-01"]
[2014,1,"KRZYŻANÓW",1002052,2,null,520,"9.7.1",null,"   Dopuszczalny wskaźnik spłaty zobowiązań określony w art. 243 ustawy, po uwzględnieniu wyłączeń określonych w art.  36 ustawy z dnia 7 grudnia 2012 r. o zmianie niektórych ustaw w związku z realizacją ustawy budżetowej, obliczony w oparciu o wykonanie roku poprzedzającego rok budżetowy",true,3,2017,0,0,0,0,"2013-11-08","2014-01-01"]
[2014,1,"KRZYŻANÓW",1002052,2,null,660,12,null,"Finansowanie programów, projektów lub zadań realizowanych z udziałem środków, o których mowa w art. 5 ust. 1 pkt 2 i 3 ustawy",true,1,2015,0,0,0,0,"2013-11-08","2014-01-01"]
[2014,1,"KRZYŻANÓW",1002052,2,null,860,13.7,null," Wydatki bieżące na pokrycie ujemnego wyniku finansowego samodzielnego publicznego zakładu opieki zdrowotnej",true,3,2017,0,0,0,0,"2013-11-08","2014-01-01"]
[2014,1,"KRZYŻANÓW",1002052,2,null,750,"12.3.2",null,"  Wydatki bieżące na realizację programu, projektu lub zadania wynikające wyłącznie z zawartych umów z podmiotem dysponującym środkami, o których mowa w art. 5 ust. 1 pkt 2 ustawy ",false,1,2015,0,0,145119.65,145119.65,"2013-11-08","2014-01-01"]
[2014,1,"KRZYŻANÓW",1002052,2,null,860,13.7,null," Wydatki bieżące na pokrycie ujemnego wyniku finansowego samodzielnego publicznego zakładu opieki zdrowotnej",true,1,2015,0,0,0,0,"2013-11-08","2014-01-01"]
[2014,1,"KRZYŻANÓW",1002052,2,null,920,"14.3.2",null,"  związane z umowami zaliczanymi do tytułów dłużnych wliczanych w państwowy dług publiczny",true,0,2014,0,0,0,0,"2013-11-08","2014-01-01"]
[2014,1,"KRZYŻANÓW",1002052,2,null,80,"1.1.5",null,"  z tytułu dotacji i środków przeznaczonych na cele bieżące",true,1,2015,2073142.05,2060950.81,1980030.02,1980030.02,"2013-11-08","2014-01-01"]
[2014,1,"KRZYŻANÓW",1002052,2,null,670,12.1,null," Dochody bieżące  na programy, projekty lub zadania finansowane z udziałem środków, o których mowa w art. 5 ust. 1 pkt 2 i 3 ustawy",true,1,2015,104205.75,179911.06,109888.97,109888.97,"2013-11-08","2014-01-01"]
[2014,1,"KRZYŻANÓW",1002052,2,null,930,"14.3.3",null,"  wypłaty z tytułu wymagalnych poręczeń i gwarancji",true,1,2015,0,0,0,0,"2013-11-08","2014-01-01"]
[2014,1,"KRZYŻANÓW",1002052,2,null,580,11.1,null," Wydatki bieżące na wynagrodzenia i składki od nich naliczane",false,3,2017,4441226.62,4171528.09,4406547.84,4236547,"2013-11-08","2014-01-01"]
[2014,1,"KRZYŻANÓW",1002052,2,null,470,9.3000000000000007,"([2.1.1] + [2.1.3.1] + [5.1] ) / [1]"," Wskaźnik planowanej łącznej kwoty spłaty zobowiązań, o której mowa w art. 243 ust. 1 ustawy do dochodów ogółem, bez uwzględnienia zobowiązań związku współtworzonego przez jednostkę samorządu terytorialnego  i bez uwzględniania wyłączeń przypadających na dany rok określonych w pkt 5.1.1.",true,0,2014,5.45E-2,9.6799999999999997E-2,6.1800000000000001E-2,6.0900000000000003E-2,"2013-11-08","2014-01-01"]
[2014,1,"KRZYŻANÓW",1002052,2,null,770,"12.4.1",null,"  -  w tym finansowane środkami określonymi w art. 5 ust. 1 pkt 2 ustawy",true,3,2017,650923.96,220814.52,3401517,3401517,"2013-11-08","2014-01-01"]
[2014,1,"KRZYŻANÓW",1002052,2,null,540,"9.8.1","[9.6] - [9.7.1]","  Informacja o spełnieniu wskaźnika spłaty zobowiązań określonego w art. 243 ustawy, po uwzględnieniu zobowiązań związku współtworzonego przez jednostkę samorządu terytorialnego oraz po uwzględnieniu wyłączeń określonych w pkt 5.1.1., obliczonego w oparciu o wykonanie roku poprzedzającego rok budżetowy",false,3,2017,7.4000000000000003E-3,5.45E-2,6.1800000000000001E-2,6.0900000000000003E-2,"2013-11-08","2014-01-01"]
[2014,1,"KRZYŻANÓW",1002052,2,null,10,1,"[1.1] + [1.2]","Dochody ogółem",true,1,2015,11735693.560000001,14062028.15,13471394.42,12678694,"2013-11-08","2014-01-01"]
[2014,1,"KRZYŻANÓW",1002052,2,null,880,14.1,null," Spłaty rat kapitałowych oraz wykup papierów wartościowych, o których mowa w pkt. 5.1., wynikające wyłącznie z tytułu zobowiązań już zaciągniętych",true,0,2014,601088.34,1278520.75,737521.46,737521.46,"2013-11-08","2014-01-01"]
[2014,1,"KRZYŻANÓW",1002052,2,null,200,3,"[1] -[2]","Wynik budżetu",false,2,2016,-1100222.42,2580481.7200000002,-1113306.28,-1722526,"2013-11-08","2014-01-01"]
[2014,1,"KRZYŻANÓW",1002052,2,null,80,"1.1.5",null,"  z tytułu dotacji i środków przeznaczonych na cele bieżące",true,2,2016,2073142.05,2060950.81,1980030.02,1980030.02,"2013-11-08","2014-01-01"]
[2014,1,"KRZYŻANÓW",1002052,2,null,500,9.6,"([2.1.1]+[2.1.3.1] + [5.1]+[9.5]-[5.1.1]- [2.1.1.1] )/[1]"," Wskaźnik planowanej łącznej kwoty spłaty zobowiązań, o której mowa w art. 243 ust. 1 ustawy do dochodów ogółem, po uwzględnieniu zobowiązań związku współtworzonego przez jednostkę samorządu terytorialnego oraz po uwzględnieniu wyłączeń przypadających na dany rok określonych w pkt 5.1.1.",false,0,2014,7.4000000000000003E-3,5.45E-2,6.1800000000000001E-2,6.0900000000000003E-2,"2013-11-08","2014-01-01"]
[2014,1,"KRZYŻANÓW",1002052,2,null,110,"1.2.2",null,"  z tytułu dotacji oraz środków przeznaczonych na inwestycje",true,0,2014,1405937.3,1332324.7,664102,664102,"2013-11-08","2014-01-01"]
[2014,1,"KRZYŻANÓW",1002052,2,null,140,"2.1.1",null,"  z tytułu poręczeń i gwarancji",true,1,2015,0,0,0,0,"2013-11-08","2014-01-01"]
[2014,1,"KRZYŻANÓW",1002052,2,null,40,"1.1.2",null,"  dochody z tytułu udziału we wpływach z podatku dochodowego od osób prawnych",true,3,2017,7359.96,873.76,1000,1000,"2013-11-08","2014-01-01"]
[2014,1,"KRZYŻANÓW",1002052,2,null,670,12.1,null," Dochody bieżące  na programy, projekty lub zadania finansowane z udziałem środków, o których mowa w art. 5 ust. 1 pkt 2 i 3 ustawy",true,3,2017,104205.75,179911.06,109888.97,109888.97,"2013-11-08","2014-01-01"]
[2014,1,"KRZYŻANÓW",1002052,2,null,150,"2.1.1.1",null,"   w tym: gwarancje i poręczenia podlegające wyłączeniu z limitów spłaty zobowiązań  określonych w art. 243 ust. 3 pkt 2 ustawy z dnia 27 sierpnia 2009 r. o finansach publicznych (Dz. U. Nr 157, poz. 1240, z późn. zm.) lub art. 169 ust. 3 pkt 2 ustawy z dnia 30 czerwca 2005 r. o finansach publicznych (Dz. U. Nr 249, poz. 2104, z późn. zm)",true,2,2016,0,0,0,0,"2013-11-08","2014-01-01"]
[2014,1,"KRZYŻANÓW",1002052,2,null,480,9.4,"([2.1.1] + [2.1.3.1] + [5.1] - [5.1.1]- [2.1.1.1] ) / [1]"," Wskaźnik planowanej łącznej kwoty spłaty zobowiązań, o której mowa w art. 243 ust. 1 ustawy do dochodów ogółem, bez uwzględnienia zobowiązań związku współtworzonego przez jednostkę samorządu terytorialnego, po uwzględnieniu wyłączeń przypadających na dany rok określonych w pkt 5.1.1. ",false,0,2014,7.4000000000000003E-3,5.45E-2,6.1800000000000001E-2,6.0900000000000003E-2,"2013-11-08","2014-01-01"]
[2014,1,"KRZYŻANÓW",1002052,2,null,240,4.2,null," Wolne środki, o których mowa w art. 217 ust.2 pkt 6 ustawy",false,3,2017,186016.39,902519.37,1422477.65,1422477.65,"2013-11-08","2014-01-01"]
[2014,1,"KRZYŻANÓW",1002052,2,null,20,1.1000000000000001,null," Dochody bieżące",true,2,2016,10187163.27,12660364.539999999,12464064.42,11995164,"2013-11-08","2014-01-01"]
[2014,1,"KRZYŻANÓW",1002052,2,null,420,8.1,"[1.1] - [2.1]"," Różnica między dochodami bieżącymi a  wydatkami bieżącymi",false,1,2015,975297.61,3604694.11,2504739.7200000002,2219320,"2013-11-08","2014-01-01"]
[2014,1,"KRZYŻANÓW",1002052,2,null,10,1,"[1.1] + [1.2]","Dochody ogółem",true,3,2017,11735693.560000001,14062028.15,13471394.42,12678694,"2013-11-08","2014-01-01"]
[2014,1,"KRZYŻANÓW",1002052,2,null,760,12.4,null," Wydatki majątkowe na programy, projekty lub zadania finansowane z udziałem środków, o których mowa w art. 5 ust. 1 pkt 2 i 3 ustawy",true,0,2014,650923.96,562105.4,3401517,3401517,"2013-11-08","2014-01-01"]
[2014,1,"KRZYŻANÓW",1002052,2,null,120,2,"[2.1] + [2.2]","Wydatki ogółem",false,2,2016,12835915.98,11481546.43,14584700.699999999,14401220,"2013-11-08","2014-01-01"]
[2014,1,"KRZYŻANÓW",1002052,2,null,310,5.0999999999999996,null," Spłaty rat kapitałowych kredytów i pożyczek oraz wykup papierów wartościowych",true,1,2015,601088.34,1278520.75,737521.46,737521.46,"2013-11-08","2014-01-01"]
[2014,1,"KRZYŻANÓW",1002052,2,null,50,"1.1.3",null,"  podatki i opłaty",true,0,2014,3093016.26,4719070.97,3848642.4,3379742,"2013-11-08","2014-01-01"]
[2014,1,"KRZYŻANÓW",1002052,2,null,470,9.3000000000000007,"([2.1.1] + [2.1.3.1] + [5.1] ) / [1]"," Wskaźnik planowanej łącznej kwoty spłaty zobowiązań, o której mowa w art. 243 ust. 1 ustawy do dochodów ogółem, bez uwzględnienia zobowiązań związku współtworzonego przez jednostkę samorządu terytorialnego  i bez uwzględniania wyłączeń przypadających na dany rok określonych w pkt 5.1.1.",true,2,2016,5.45E-2,9.6799999999999997E-2,6.1800000000000001E-2,6.0900000000000003E-2,"2013-11-08","2014-01-01"]
[2014,1,"KRZYŻANÓW",1002052,2,null,330,"5.1.1.1",null,"   w tym kwota przypadających na dany rok kwot wyłączeń określonych w art. 243 ust. 3 pkt 1 ustawy lub art. 169 ust. 3 pkt 1 ufp z 2005 r.",true,0,2014,552822,595645.15,0,0,"2013-11-08","2014-01-01"]
[2014,1,"KRZYŻANÓW",1002052,2,null,370,"6.1.1",null,"   - kwota wyłączeń z ograniczeń długu określonych w art. 170 ust. 3 ufp z 2005 r. ",true,1,2015,595645.15,0,0,0,"2013-11-08","2014-01-01"]
[2014,1,"KRZYŻANÓW",1002052,2,null,280,4.4000000000000004,null," Inne przychody niezwiązane z zaciągnięciem długu",false,1,2015,21393.72,0,24682,24682,"2013-11-08","2014-01-01"]
[2014,1,"KRZYŻANÓW",1002052,2,null,870,14,null,"Dane uzupełniające o długu i jego spłacie",true,0,2014,0,0,0,0,"2013-11-08","2014-01-01"]
[2014,1,"KRZYŻANÓW",1002052,2,null,820,13.3,null," Wysokość zobowiązań podlegających umorzeniu, o którym mowa w art. 190 ustawy o działalności leczniczej",true,1,2015,0,0,0,0,"2013-11-08","2014-01-01"]
[2014,1,"KRZYŻANÓW",1002052,2,null,890,14.2,null," Kwota długu, którego planowana spłata dokona się z wydatków budżetu",true,1,2015,0,0,0,0,"2013-11-08","2014-01-01"]
[2014,1,"KRZYŻANÓW",1002052,2,null,390,6.3,"([6] - [6.1]) / [1]"," Wskaźnik zadłużenia do dochodów ogółem, o którym mowa w art.  170 ufp z 2005 r., po uwzględnieniu wyłączeń określonych w pkt 6.1. ",false,2,2016,0.2175,0.1012,5.7500000000000002E-2,6.0999999999999999E-2,"2013-11-08","2014-01-01"]
[2014,1,"KRZYŻANÓW",1002052,2,null,130,2.1,null," Wydatki bieżące, w tym:",true,0,2014,9211865.6600000001,9055670.4299999997,9959324.6999999993,9775844,"2013-11-08","2014-01-01"]
[2014,1,"KRZYŻANÓW",1002052,2,null,790,13,null,"Kwoty dotyczące przejęcia i spłaty zobowiązań po samodzielnych publicznych zakładach opieki zdrowotnej oraz pokrycia ujemnego wyniku ",true,3,2017,0,0,0,0,"2013-11-08","2014-01-01"]
[2014,1,"KRZYŻANÓW",1002052,2,null,70,"1.1.4",null,"  z subwencji ogólnej",true,3,2017,4037554,4481337,4504728,4504728,"2013-11-08","2014-01-01"]
[2014,1,"KRZYŻANÓW",1002052,2,null,290,"4.4.1",null,"   w tym na pokrycie deficytu budżetu",false,2,2016,0,0,0,0,"2013-11-08","2014-01-01"]
[2014,1,"KRZYŻANÓW",1002052,2,null,940,14.4,null," Wynik operacji niekasowych wpływających na kwotę długu ( m.in. umorzenia, różnice kursowe)",true,2,2016,0,0,0,0,"2013-11-08","2014-01-01"]
[2014,1,"KRZYŻANÓW",1002052,2,null,550,10,null,"Przeznaczenie prognozowanej nadwyżki budżetowej,  w tym na:",false,0,2014,0,0,0,0,"2013-11-08","2014-01-01"]
[2014,1,"KRZYŻANÓW",1002052,2,null,460,9.1999999999999993,"([2.1.1] + [2.1.3.1] + [5.1] - [5.1.1]- [2.1.1.1] ) / [1]"," Wskaźnik planowanej łącznej kwoty spłaty zobowiązań, o której mowa w art. 169 ust. 1 ufp z 2005 r. do dochodów ogółem, po uwzględnieniu wyłączeń przypadających na dany rok określonych w pkt 5.1.1. ",false,2,2016,7.4000000000000003E-3,5.45E-2,6.1800000000000001E-2,6.0900000000000003E-2,"2013-11-08","2014-01-01"]
[2014,1,"KRZYŻANÓW",1002052,2,null,650,11.6,null," Wydatki majątkowe w formie dotacji ",true,3,2017,0,0,39000,39000,"2013-11-08","2014-01-01"]
[2014,1,"KRZYŻANÓW",1002052,2,null,350,6,null,"Kwota długu",true,0,2014,2552998.4,1422477.65,773956.19,773956.19,"2013-11-08","2014-01-01"]
[2014,1,"KRZYŻANÓW",1002052,2,null,470,9.3000000000000007,"([2.1.1] + [2.1.3.1] + [5.1] ) / [1]"," Wskaźnik planowanej łącznej kwoty spłaty zobowiązań, o której mowa w art. 243 ust. 1 ustawy do dochodów ogółem, bez uwzględnienia zobowiązań związku współtworzonego przez jednostkę samorządu terytorialnego  i bez uwzględniania wyłączeń przypadających na dany rok określonych w pkt 5.1.1.",true,3,2017,5.45E-2,9.6799999999999997E-2,6.1800000000000001E-2,6.0900000000000003E-2,"2013-11-08","2014-01-01"]
[2014,1,"KRZYŻANÓW",1002052,2,null,250,"4.2.1",null,"   w tym na pokrycie deficytu budżetu",false,1,2015,0,0,1024306.28,1422477.65,"2013-11-08","2014-01-01"]
[2014,1,"KRZYŻANÓW",1002052,2,null,310,5.0999999999999996,null," Spłaty rat kapitałowych kredytów i pożyczek oraz wykup papierów wartościowych",true,0,2014,601088.34,1278520.75,737521.46,737521.46,"2013-11-08","2014-01-01"]
[2014,1,"KRZYŻANÓW",1002052,2,null,370,"6.1.1",null,"   - kwota wyłączeń z ograniczeń długu określonych w art. 170 ust. 3 ufp z 2005 r. ",true,3,2017,595645.15,0,0,0,"2013-11-08","2014-01-01"]
[2014,1,"KRZYŻANÓW",1002052,2,null,560,10.1,null," Spłaty kredytów, pożyczek i wykup papierów wartościowych",false,1,2015,0,0,0,0,"2013-11-08","2014-01-01"]
[2014,1,"KRZYŻANÓW",1002052,2,null,530,9.8000000000000007,"[9.6] - [9.7]"," Informacja o spełnieniu wskaźnika spłaty zobowiązań określonego w art. 243 ustawy, po uwzględnieniu zobowiązań związku współtworzonego przez jednostkę samorządu terytorialnego oraz po uwzględnieniu wyłączeń określonych w pkt 5.1.1., obliczonego w oparciu o plan 3 kwartałów roku poprzedzającego rok budżetowy",false,1,2015,7.4000000000000003E-3,5.45E-2,6.1800000000000001E-2,6.0900000000000003E-2,"2013-11-08","2014-01-01"]
[2014,1,"KRZYŻANÓW",1002052,2,null,630,11.4,null," Wydatki inwestycyjne kontynuowane ",true,1,2015,1173514.32,835040.96,3401517,3401517,"2013-11-08","2014-01-01"]
[2014,1,"KRZYŻANÓW",1002052,2,null,190,2.2000000000000002,null," Wydatki majątkowe",false,1,2015,3624050.32,2425876,4625376,4625376,"2013-11-08","2014-01-01"]
[2014,1,"KRZYŻANÓW",1002052,2,null,660,12,null,"Finansowanie programów, projektów lub zadań realizowanych z udziałem środków, o których mowa w art. 5 ust. 1 pkt 2 i 3 ustawy",true,2,2016,0,0,0,0,"2013-11-08","2014-01-01"]
[2014,1,"KRZYŻANÓW",1002052,2,null,820,13.3,null," Wysokość zobowiązań podlegających umorzeniu, o którym mowa w art. 190 ustawy o działalności leczniczej",true,0,2014,0,0,0,0,"2013-11-08","2014-01-01"]
[2014,1,"KRZYŻANÓW",1002052,2,null,710,"12.2.1",null,"   -  w tym środki określone w art. 5 ust. 1 pkt 2 ustawy",false,2,2016,1041937.3,826032,232602,232602,"2013-11-08","2014-01-01"]
[2014,1,"KRZYŻANÓW",1002052,2,null,340,5.2,null," Inne rozchody niezwiązane ze spłatą długu",false,2,2016,0,24682,0,0,"2013-11-08","2014-01-01"]
[2014,1,"KRZYŻANÓW",1002052,2,null,660,12,null,"Finansowanie programów, projektów lub zadań realizowanych z udziałem środków, o których mowa w art. 5 ust. 1 pkt 2 i 3 ustawy",true,0,2014,0,0,0,0,"2013-11-08","2014-01-01"]
[2014,1,"KRZYŻANÓW",1002052,2,null,710,"12.2.1",null,"   -  w tym środki określone w art. 5 ust. 1 pkt 2 ustawy",false,1,2015,1041937.3,826032,232602,232602,"2013-11-08","2014-01-01"]
[2014,1,"KRZYŻANÓW",1002052,2,null,160,"2.1.2",null,"   na spłatę przejętych zobowiązań samodzielnego publicznego zakładu opieki zdrowotnej przekształconego na zasadach określonych w przepisach  o działalności leczniczej, w wysokości w jakiej nie podlegają sfinansowaniu dotacją z budżetu państwa)",true,1,2015,0,0,0,0,"2013-11-08","2014-01-01"]
[2014,1,"KRZYŻANÓW",1002052,2,null,410,8,null,"Relacja zrównoważenia wydatków bieżących, o której mowa w art. 242 ustawy",true,3,2017,0,0,0,0,"2013-11-08","2014-01-01"]
[2014,1,"KRZYŻANÓW",1002052,2,null,490,9.5,null," Kwota zobowiązań związku współtworzonego przez jednostkę samorządu terytorialnego przypadających do spłaty w danym roku budżetowym, podlegająca doliczeniu zgodnie z art. 244 ustawy ",true,2,2016,0,0,0,0,"2013-11-08","2014-01-01"]
[2014,1,"KRZYŻANÓW",1002052,2,null,230,"4.1.1",null,"  w tym na pokrycie deficytu budżetu",false,2,2016,0,0,0,211048.35,"2013-11-08","2014-01-01"]
[2014,1,"KRZYŻANÓW",1002052,2,null,840,13.5,null," Wydatki na spłatę przejętych zobowiązań samodzielnego publicznego zakładu opieki zdrowotnej likwidowanego na zasadach określonych w przepisach  o działalności leczniczej",true,3,2017,0,0,0,0,"2013-11-08","2014-01-01"]
[2014,1,"KRZYŻANÓW",1002052,2,null,300,5,"[5.1] + [5.2]","Rozchody budżetu",false,0,2014,601088.34,1303202.75,737521.46,737521.46,"2013-11-08","2014-01-01"]
[2014,1,"KRZYŻANÓW",1002052,2,null,210,4,"[4.1] + [4.2] + [4.3] + [4.4]","Przychody budżetu",false,2,2016,2625223.85,1050519.3700000001,1850827.74,2460047.46,"2013-11-08","2014-01-01"]
[2014,1,"KRZYŻANÓW",1002052,2,null,830,13.4,null," Wydatki na spłatę przejętych zobowiązań samodzielnego publicznego zakładu opieki zdrowotnej przekształconego na zasadach określonych w przepisach  o działalności leczniczej",true,0,2014,0,0,0,0,"2013-11-08","2014-01-01"]
[2014,1,"KRZYŻANÓW",1002052,2,null,460,9.1999999999999993,"([2.1.1] + [2.1.3.1] + [5.1] - [5.1.1]- [2.1.1.1] ) / [1]"," Wskaźnik planowanej łącznej kwoty spłaty zobowiązań, o której mowa w art. 169 ust. 1 ufp z 2005 r. do dochodów ogółem, po uwzględnieniu wyłączeń przypadających na dany rok określonych w pkt 5.1.1. ",false,0,2014,7.4000000000000003E-3,5.45E-2,6.1800000000000001E-2,6.0900000000000003E-2,"2013-11-08","2014-01-01"]
[2014,1,"KRZYŻANÓW",1002052,2,null,40,"1.1.2",null,"  dochody z tytułu udziału we wpływach z podatku dochodowego od osób prawnych",true,0,2014,7359.96,873.76,1000,1000,"2013-11-08","2014-01-01"]
[2014,1,"KRZYŻANÓW",1002052,2,null,530,9.8000000000000007,"[9.6] - [9.7]"," Informacja o spełnieniu wskaźnika spłaty zobowiązań określonego w art. 243 ustawy, po uwzględnieniu zobowiązań związku współtworzonego przez jednostkę samorządu terytorialnego oraz po uwzględnieniu wyłączeń określonych w pkt 5.1.1., obliczonego w oparciu o plan 3 kwartałów roku poprzedzającego rok budżetowy",false,0,2014,7.4000000000000003E-3,5.45E-2,6.1800000000000001E-2,6.0900000000000003E-2,"2013-11-08","2014-01-01"]
[2014,1,"KRZYŻANÓW",1002052,2,null,780,"12.4.2",null,"  Wydatki majątkowe na realizację programu, projektu lub zadania wynikające wyłącznie z zawartych umów z podmiotem dysponującym środkami, o których mowa w art. 5 ust. 1 pkt 2 ustawy ",true,3,2017,0,0,1590835.04,1590835.04,"2013-11-08","2014-01-01"]
[2014,1,"KRZYŻANÓW",1002052,2,null,450,9.1,"([2.1.1] + [2.1.3.1] + [5.1] ) / [1]"," Wskaźnik planowanej łącznej kwoty spłaty zobowiązań, o której mowa w art. 169 ust. 1 ufp z 2005 r. do dochodów ogółem, bez uwzględnienia wyłączeń określonych w pkt 5.1.1.  ",true,1,2015,5.45E-2,9.6799999999999997E-2,6.1800000000000001E-2,6.0900000000000003E-2,"2013-11-08","2014-01-01"]
[2014,1,"KRZYŻANÓW",1002052,2,null,280,4.4000000000000004,null," Inne przychody niezwiązane z zaciągnięciem długu",false,2,2016,21393.72,0,24682,24682,"2013-11-08","2014-01-01"]
[2014,1,"KRZYŻANÓW",1002052,2,null,890,14.2,null," Kwota długu, którego planowana spłata dokona się z wydatków budżetu",true,2,2016,0,0,0,0,"2013-11-08","2014-01-01"]
[2014,1,"KRZYŻANÓW",1002052,2,null,670,12.1,null," Dochody bieżące  na programy, projekty lub zadania finansowane z udziałem środków, o których mowa w art. 5 ust. 1 pkt 2 i 3 ustawy",true,2,2016,104205.75,179911.06,109888.97,109888.97,"2013-11-08","2014-01-01"]
[2014,1,"KRZYŻANÓW",1002052,2,null,870,14,null,"Dane uzupełniające o długu i jego spłacie",true,3,2017,0,0,0,0,"2013-11-08","2014-01-01"]
[2014,1,"KRZYŻANÓW",1002052,2,null,460,9.1999999999999993,"([2.1.1] + [2.1.3.1] + [5.1] - [5.1.1]- [2.1.1.1] ) / [1]"," Wskaźnik planowanej łącznej kwoty spłaty zobowiązań, o której mowa w art. 169 ust. 1 ufp z 2005 r. do dochodów ogółem, po uwzględnieniu wyłączeń przypadających na dany rok określonych w pkt 5.1.1. ",false,1,2015,7.4000000000000003E-3,5.45E-2,6.1800000000000001E-2,6.0900000000000003E-2,"2013-11-08","2014-01-01"]
[2014,1,"KRZYŻANÓW",1002052,2,null,770,"12.4.1",null,"  -  w tym finansowane środkami określonymi w art. 5 ust. 1 pkt 2 ustawy",true,1,2015,650923.96,220814.52,3401517,3401517,"2013-11-08","2014-01-01"]
[2014,1,"KRZYŻANÓW",1002052,2,null,680,"12.1.1",null,"  -  w tym środki określone w art. 5 ust. 1 pkt 2 ustawy",true,0,2014,104205.75,160689,96205.25,96205.25,"2013-11-08","2014-01-01"]
[2014,1,"KRZYŻANÓW",1002052,2,null,120,2,"[2.1] + [2.2]","Wydatki ogółem",false,0,2014,12835915.98,11481546.43,14584700.699999999,14401220,"2013-11-08","2014-01-01"]
[2014,1,"KRZYŻANÓW",1002052,2,null,760,12.4,null," Wydatki majątkowe na programy, projekty lub zadania finansowane z udziałem środków, o których mowa w art. 5 ust. 1 pkt 2 i 3 ustawy",true,1,2015,650923.96,562105.4,3401517,3401517,"2013-11-08","2014-01-01"]
[2014,1,"KRZYŻANÓW",1002052,2,null,70,"1.1.4",null,"  z subwencji ogólnej",true,1,2015,4037554,4481337,4504728,4504728,"2013-11-08","2014-01-01"]
[2014,1,"KRZYŻANÓW",1002052,2,null,920,"14.3.2",null,"  związane z umowami zaliczanymi do tytułów dłużnych wliczanych w państwowy dług publiczny",true,2,2016,0,0,0,0,"2013-11-08","2014-01-01"]
[2014,1,"KRZYŻANÓW",1002052,2,null,110,"1.2.2",null,"  z tytułu dotacji oraz środków przeznaczonych na inwestycje",true,3,2017,1405937.3,1332324.7,664102,664102,"2013-11-08","2014-01-01"]